BEGIN:VCALENDAR
VERSION:2.0
PRODID:-//https://fadeu-old.urantiacos.cl///NONSGML kigkonsult.se iCalcreator 2.10.15//
METHOD:PUBLISH
BEGIN:VEVENT
UID:20260420T210206UTC-8889Bv53V9@https://fadeu-old.urantiacos.cl/
DTSTAMP:20260420T210206Z
DESCRIPTION:En el marco de las actividades asociadas a la exposici&oacute\;
 n 'Los Muros de Chile'\, la C&aacute\;mara Chilena de la Construcci&oacute
 \;n\, Comunidad de Organizaciones Solidarias\, Santiago+B e Iniciativa 3Xi
 \, tienen el agrado de invitarle a un encuentro sobre Ciudad y Marginalida
 d Urbana\, que tiene por objeto discutir el impacto que la construcci&oacu
 te\;n de ciudad tiene sobre la forma de vida y las posibilidades de desarr
 ollo de sus habitantes.\nEn la ocasi&oacute\;n\, expondr&aacute\; el Direc
 tor del Instituto de Estudios Urbanos y Territoriales PUC\, Luis Fuentes A
 rce\, junto a otros destacados expositores del mundo gremial\, ONGs y Soci
 edad Civil.\nLa actividad se desarrollar&aacute\; el d&iacute\;a martes 5 
 de junio\, entre las 9:30 y las 13:00 horas en el Museo de Arte Contempor&
 aacute\;neo\, Sede Quinta Normal (Avenida Matucana #464).\n&nbsp\;\n https
 ://fadeu-old.urantiacos.cl/agenda/evento/1566-conversatorios-santiago-no-d
 a-mas
DTSTART:20180605T133000Z
DTEND:20180605T170000Z
LOCATION:Museo Arte Contemporaneo (Matucana 464\, Santiago\, Región Metropo
 litana\, Chile)
SUMMARY:Conversatorios: 'Santiago no da más'
URL:https://fadeu-old.urantiacos.cl/agenda/evento/1566-conversatorios-santi
 ago-no-da-mas
END:VEVENT
END:VCALENDAR
