BEGIN:VCALENDAR
VERSION:2.0
PRODID:-//https://fadeu-old.urantiacos.cl///NONSGML kigkonsult.se iCalcreator 2.10.15//
METHOD:PUBLISH
BEGIN:VEVENT
UID:20260420T204229UTC-7077pjeLI1@https://fadeu-old.urantiacos.cl/
DTSTAMP:20260420T204229Z
DESCRIPTION:El mi&eacute\;rcoles 6 de junio\, a las 15 horas\, se realizar&
 aacute\; la charla 'La Educaci&oacute\;n\, un requisito indispensable para
  avanzar en la b&uacute\;squeda del Desarrollo Sostenible'\, dictada por&n
 bsp\;Rosa Mar&iacute\;a Chac&oacute\;nRosa Mar&iacute\;a Chac&oacute\;n\nP
 rofesora titular del Departamento de Planificaci&oacute\;n Urbana de la Un
 iversidad Sim&oacute\;n Bol&iacute\;var\, Caracas-Venezuela. Arquitecta (1
 975) y mag&iacute\;ster en Ingenier&iacute\;a de Transporte (1979) por la 
 Universidad de Los Andes\, en 2000 obtuvo el doctorado en Planificaci&oacu
 te\;n Territorial y Urbana de la Universidad La Sapienza (Roma)\, y desde 
 entonces se desempe&ntilde\;a como coordinadora del grupo de investigaci&o
 acute\;n Vida Urbana y Ambiente\, adscrito al Decanato de Investigaci&oacu
 te\;n de la USB. Responsable de la creaci&oacute\;n y coordinaci&oacute\;n
  del Doctorado en Desarrollo Sostenible de esta casa de estudios\, ejerci&
 oacute\; adem&aacute\;s la direcci&oacute\;n del Instituto de Estudios Reg
 ionales y Urbanos (IERU) para el periodo 2003-2005. Compiladora de 4 libro
 s y 42 art&iacute\;culos en revistas especializadas.\n&nbsp\;\n https://fa
 deu-old.urantiacos.cl/agenda/evento/1567-charla-la-educacion-un-requisito-
 indispensable-para-avanzar-en-la-busqueda-del-desarrollo-sostenible
DTSTART:20180606T190000Z
DTEND:20180606T200000Z
LOCATION:Sala de Consejo\, 4to piso Instituto de Estudios Urbanos y Territo
 riales\, Campus Lo Contador (El Comendador 1916\, Providencia\, Región Met
 ropolitana\, Chile)
SUMMARY:Charla: La Educación\, un requisito indispensable para avanzar en l
 a búsqueda del Desarrollo Sostenible
URL:https://fadeu-old.urantiacos.cl/agenda/evento/1567-charla-la-educacion-
 un-requisito-indispensable-para-avanzar-en-la-busqueda-del-desarrollo-sost
 enible
END:VEVENT
BEGIN:VEVENT
UID:20260420T204229UTC-7084AAMGHz@https://fadeu-old.urantiacos.cl/
DTSTAMP:20260420T204229Z
DESCRIPTION:El Laboratorio de Innovaci&oacute\;n P&uacute\;blica de la Pont
 ificia Universidad Cat&oacute\;lica de chile\, LIP\, tiene el agrado de in
 vitarte a la Ceremonia de Formalizaci&oacute\;n del Acuerdo de Colaboraci&
 oacute\;n entre el Centro de Pol&iacute\;ticas P&uacute\;blicas y la Escue
 la de Dise&ntilde\;o\, miembros fundadores del LIP.\nEl Laboratorio de Inn
 ovaci&oacute\;n P&uacute\;blica (LIP) es una iniciativa interdisciplinaria
  que\, desde 2013\, contribuye a mejorar la calidad de los&nbsp\; servicio
 s que las organizaciones p&uacute\;blicas ofrecen a la ciudadan&iacute\;a.
 \nLiderado por el Centro de Pol&iacute\;ticas P&uacute\;blicas y la Esucel
 a de Dise&ntilde\;o de la Pontificia Universidad Cat&oacute\;lica de Chile
 \, el LIP articula la participaci&oacute\;n de acad&eacute\;micos\, profes
 ionales y estudiantes UC en proyectos de dise&ntilde\;o de servicios en el
  &aacute\;mbito p&uacute\;blico.\n&nbsp\;\n&nbsp\;\n&nbsp\;\n https://fade
 u-old.urantiacos.cl/agenda/evento/1569-ceremonia-acuerdo-de-colaboracion-c
 entro-de-politicas-publicas-y-diseno-uc-lip
DTSTART:20180606T170000Z
DTEND:20180606T180000Z
LOCATION:Salón Sergio Larraín\, Campus Lo Contador ()
SUMMARY:Ceremonia: Acuerdo de Colaboración Centro de Políticas Públicas y D
 iseño UC - LIP
URL:https://fadeu-old.urantiacos.cl/agenda/evento/1569-ceremonia-acuerdo-de
 -colaboracion-centro-de-politicas-publicas-y-diseno-uc-lip
END:VEVENT
END:VCALENDAR
