BEGIN:VCALENDAR
VERSION:2.0
PRODID:-//https://fadeu-old.urantiacos.cl///NONSGML kigkonsult.se iCalcreator 2.10.15//
METHOD:PUBLISH
BEGIN:VEVENT
UID:20260423T161050UTC-4157KU6PE7@https://fadeu-old.urantiacos.cl/
DTSTAMP:20260423T161050Z
DESCRIPTION:Lanzamiento libroMemorias textiles de la Provincia de Palena\nP
 resentaCarla Loayza\nOrganizaPontificia Universidad Cat&oacute\;lica de Ch
 ileEscuela de Dise&ntilde\;o UCComit&eacute\; Nacional de Conservaci&oacut
 e\;n Textil\n+ Inscripciones aqu&iacute\;.\n&nbsp\;\n https://fadeu-old.ur
 antiacos.cl/agenda/evento/1029-lanzamiento-libro-memorias-textiles-de-la-p
 rovincia-de-palena-por-carla-loayza
DTSTART:20170607T223000Z
DTEND:20170608T000000Z
LOCATION:Sala 17 Casona\, Campus Lo Contador (El Comendador 1916\, Providen
 cia\, Región Metropolitana\, Chile)
SUMMARY:Lanzamiento libro: 'Memorias textiles de la Provincia de Palena'\, 
 por Carla Loayza
URL:https://fadeu-old.urantiacos.cl/agenda/evento/1029-lanzamiento-libro-me
 morias-textiles-de-la-provincia-de-palena-por-carla-loayza
END:VEVENT
BEGIN:VEVENT
UID:20260423T161050UTC-4161WKVLGh@https://fadeu-old.urantiacos.cl/
DTSTAMP:20260423T161050Z
DESCRIPTION:Seminario Proyectando el PaisajeDi&aacute\;logos en torno al pa
 trimonio natural y geograf&iacute\;aMayo 16 &ndash\; Junio 27\, 2017\nMart
 es 16 de mayo &ndash\; 18:30 Auditorio Arquitectura&ldquo\;Flora Nativa: C
 onstruyendo la identidad de nuestro paisaje&rdquo\;MONICA MUSALEM Ing. Agr
 &oacute\;nomo UC. Post&iacute\;tulo Arquitectura Del Paisaje U. de Chile\n
 Martes 23 de mayo &ndash\; 18:30 Auditorio ArquitecturaPromenade Geogr&aac
 ute\;fica como espacio memorable: 3 propuestas en verde&rdquo\;SANDRA ITUR
 RIAGA. Arquitecto UC. Magister Arquitectura\, U. Polit&eacute\;cnica de Ba
 rcelona\nMartes 30 de mayo &ndash\; 18:30 Auditorio FADEU&ldquo\;El paisaj
 e como patrimonio: Parque Las Majadas de Pirque&rdquo\;ALEJANDRA BOSCH. Ar
 quitecto UC. Magister Landscape Urbanism\, Architectural Association Londo
 n.\nMartes 06 de junio &ndash\; 18:30 Auditorio Arquitectura&ldquo\;Leyend
 o el paisaje&rdquo\;STUART MOORE &amp\; CSM DESIGN. Landscape Architect U.
 California\, Berkeley\nMartes 13 de junio &ndash\; 18:30 Auditorio FADEU&l
 dquo\;De la materia a la obra&rdquo\;VICENTE GAJARDO. Escultor Chileno Pre
 mio Altazor a las Artes Nacionales 2012.\nMartes 20 de junio &ndash\; 18:3
 0 Auditorio Arquitectura&ldquo\;Proyecto de Paisaje&rdquo\;JUAN GRIMM. Arq
 uitecto y Paisajista UC.\nMartes 27 &ndash\; 18:30 Auditorio Arquitectura&
 ldquo\;Del Jard&iacute\;n a la Infraestructura Verde. Conceptos\, estrateg
 ias y operatorias de proyecto&rdquo\;OSVALDO MORENO. Arquitecto U. de Chil
 e. Magister en Paisaje\, Medio Ambiente y Ciudad\, U. Nacional de la Plata
 . Director MAPA UC.\nVISITAS A TERRENO (optativas)S&aacute\;bado 20 de may
 o &ndash\; 10:00 a 13:00 Vivero PumahuidaM&Oacute\;NICA MUSALEMS&aacute\;b
 ado 03 de junio - 10:00 a 13:00 Majadas de PirqueALEJANDRA BOSCH\nCoordina
 ci&oacute\;n Acad&eacute\;micaFrancisco Croxatto / Camila Romero\nInvitaDi
 plomado en Dise&ntilde\;o de Paisaje UC\nColaboraMag&iacute\;ster en Arqui
 tectura del Paisaje UC\nLugarAuditorios Arquitectura y FADEU. Campus Lo Co
 ntador. El comendador 1916\, Providencia\nArancel p&uacute\;blico general:
  $ $95.000Ex alumnos UC: $ $75.000Estudiantes otras universidades: $50.000
 Arancel libre a estudiantes y profesores UC\nInscripciones abiertas / Cupo
 s limitadosEscribir a Richard Asto: andes.ua.asto@ gmail.comTel&eacute\;fo
 no: 23547747\nSe entregar&aacute\; un certificado de asistencia una vez co
 ncluido el seminario.\n&nbsp\;\n https://fadeu-old.urantiacos.cl/agenda/ev
 ento/949-seminario-proyectando-el-paisaje-2017
DTSTART:20170606T223000Z
DTEND:20170607T000000Z
LOCATION:Campus Lo Contador (El Comendador 1916\, Providencia\, Providencia
 \, Región Metropolitana\, Chile)
SUMMARY:Seminario Proyectando el Paisaje 2017
URL:https://fadeu-old.urantiacos.cl/agenda/evento/949-seminario-proyectando
 -el-paisaje-2017
END:VEVENT
BEGIN:VEVENT
UID:20260423T161050UTC-49093GEVXc@https://fadeu-old.urantiacos.cl/
DTSTAMP:20260423T161050Z
DESCRIPTION:Conferencia de Anita Berrizbeitia\, MLA y Directora del Departa
 mento de Arquitectura del Paisaje de la Universidad de Harvard\, en el mar
 co del Proyecto de Paisaje 'On the Limits of Form'\nCon esta conferencia B
 errizbeitia\, MLA y Directora del Departamento de Arquitectura del Paisaje
  de la Universidad de Harvard\, completa su trilog&iacute\;a exploratoria 
 acerca de las fronteras del proyecto de paisaje\, iniciada en el 2015 al p
 lantear en Charlottesville\, Virginia\, los l&iacute\;mites de la ecolog&i
 acute\;a y continuada el 2016 con su especulaci&oacute\;n acerca de los l&
 iacute\;mites del proceso\, en la conferencia de cierre del a&ntilde\;o ac
 ad&eacute\;mico del GSD de la Universidad de Harvard.\nOrganizanProyecto F
 ondecyt 1160277 &ldquo\;Paisajes Emergentes\, Santiago\, 1831&ndash\;1939:
  Proyecto P&uacute\;blico y Transformaci&oacute\;n Urbana&rdquo\;Escuela d
 e Arquitectura UCCorporaci&oacute\;n Cultura de Paisaje en ChileMagister e
 n Arquitectura del Paisaje UCLOFscapes\n+ Entrada liberada\, cupos limitad
 os. Inscripciones aqu&iacute\;.\n&nbsp\;\n https://fadeu-old.urantiacos.cl
 /agenda/evento/967-conferencia-anita-berrizbeitia
DTSTART:20170606T223000Z
DTEND:20170607T000000Z
LOCATION:Auditorio FADEU\, Campus Lo Contador PUC (El Comendador 1916\, Pro
 videncia\, Providencia\, Región Metropolitana\, Chile)
SUMMARY:Conferencia Anita Berrizbeitia
URL:https://fadeu-old.urantiacos.cl/agenda/evento/967-conferencia-anita-ber
 rizbeitia
END:VEVENT
END:VCALENDAR
