BEGIN:VCALENDAR
VERSION:2.0
PRODID:-//https://fadeu-old.urantiacos.cl///NONSGML kigkonsult.se iCalcreator 2.10.15//
METHOD:PUBLISH
BEGIN:VEVENT
UID:20260420T204229UTC-8264nNNrLW@https://fadeu-old.urantiacos.cl/
DTSTAMP:20260420T204229Z
DESCRIPTION:El ciclo '&iquest\;Hacia una Escuela de Arquitectura Com&uacute
 \;n?' es el &uacute\;ltimo impulsado por el&nbsp\;Equipo de Extensi&oacute
 \;n&nbsp\;durante el primer semestre. Uno de sus objetivos es presentar po
 siciones cr&iacute\;ticas y transformadoras respecto a temas dif&iacute\;c
 iles en nuestro quehacer\, donde se han instalado una serie de mitos y pos
 iciones que no tienden hacia el bien com&uacute\;n.\nEl ciclo atiende a la
  necesidad de discutir\, entendiendo que el significado y representaci&oac
 ute\;n de la Escuela frente a muchos temas est&aacute\; a&uacute\;n en obr
 a gruesa y por tanto en disputa. Se compone de 3 fechas:\n#1 &iquest\;Haci
 a una arquitectura feminista?Jueves 07 de Junio\, 18.30h / Auditorio FCVEx
 ponen: Gabriela Garc&iacute\;a de Cort&aacute\;zar y Francisco D&iacute\;a
 z\n#2 &iquest\;Y nuestras condiciones laborales?Mi&eacute\;rcoles 13 de Ju
 nio\, 13.30h / Auditorio FCVExponen: Antonio Lipthay e Ignacio Garc&iacute
 \;a Partarrieu\n#3 &iquest\;Qu&eacute\; hacemos con el Colegio de Arquitec
 tos?Por confirmar fecha.\nEstudiantes\, profesores y profesionales est&aac
 ute\;n cordialmente invitados a sumarse a estas sesiones.\n&nbsp\;\n https
 ://fadeu-old.urantiacos.cl/agenda/evento/1573-lanzamiento-ciclo-hacia-una-
 arquitectura-feminista
DTSTART:20180607T223000Z
DTEND:20180607T233000Z
LOCATION:Auditorio Fernando Castillo Velasco. Edificio ARQ (El Comendador 1
 936\, Providencia\, Región Metropolitana\, Chile)
SUMMARY:Lanzamiento ciclo ¿Hacia una arquitectura feminista? 
URL:https://fadeu-old.urantiacos.cl/agenda/evento/1573-lanzamiento-ciclo-ha
 cia-una-arquitectura-feminista
END:VEVENT
BEGIN:VEVENT
UID:20260420T204229UTC-8271dVZO1V@https://fadeu-old.urantiacos.cl/
DTSTAMP:20260420T204229Z
DESCRIPTION:El jueves 7 de junio\, a las 14:00 horas\, se realizar&aacute\;
  la&nbsp\;charla 'La dualidad &laquo\;periferia&raquo\; vs. &laquo\;margen
 &raquo\; y su productividad para comprender las actuales &aacute\;reas per
 i-urbanas de Am&eacute\;rica Latina'\, dictada por&nbsp\;Nasser Reba&iuml\
 ;.\nInscripciones&nbsp\;aqu&iacute\;\nNasser Reba&iuml\;Profesor-investiga
 dor del Departamento de Desarrollo\, Ambiente y Territorio de FLACSO.&nbsp
 \;&nbsp\;Doctor en Geograf&iacute\;a por la Universidad Par&iacute\;s 1 Pa
 nth&eacute\;on-Sorbonne. Durante los &uacute\;ltimos a&ntilde\;os ha volca
 do sus investigaciones en el estudio de las nuevas ruralidades y reconfigu
 raciones socio-territoriales de las periferias de Quito\, Ecuador.\n\nVisi
 ta financiada por el Proyecto Fondecyt N&ordm\; 1171184. Investigadora res
 ponsable: Alejandra Rasse. Co-investigadores: Francisco Sabatini\, Gonzalo
  C&aacute\;ceres y Paz Trebilcock.\n&nbsp\;\n&nbsp\; https://fadeu-old.ura
 ntiacos.cl/agenda/evento/1572-charla-la-dualidad-periferia-vs-margen-y-su-
 productividad-para-comprender-las-actuales-areas-peri-urbanas-de-america-l
 atina
DTSTART:20180607T180000Z
DTEND:20180607T190000Z
LOCATION:Sala Consejo Instituto de Estudios Urbanos (El Comendador 1916\, P
 rovidencia\, Región Metropolitana\, Chile)
SUMMARY:Charla: 'La dualidad «periferia» vs. «margen» y su productividad pa
 ra comprender las actuales áreas peri-urbanas de América Latina'
URL:https://fadeu-old.urantiacos.cl/agenda/evento/1572-charla-la-dualidad-p
 eriferia-vs-margen-y-su-productividad-para-comprender-las-actuales-areas-p
 eri-urbanas-de-america-latina
END:VEVENT
END:VCALENDAR
