BEGIN:VCALENDAR
VERSION:2.0
PRODID:-//https://fadeu-old.urantiacos.cl///NONSGML kigkonsult.se iCalcreator 2.10.15//
METHOD:PUBLISH
BEGIN:VEVENT
UID:20260423T161049UTC-0000jf1p7D@https://fadeu-old.urantiacos.cl/
DTSTAMP:20260423T161049Z
DESCRIPTION:Descubriendo el Paisaje ChilenoCon Anita Berrizbeitia y Amar&ia
 cute\; Peliowski\nEl Paisaje Postcolonial: Imagen y Relaciones Latinoameri
 canas&rdquo\; con Anita Berrizbeitia\, MLA y Directora del Departamento de
  Arquitectura del Paisaje de la Universidad de Harvard\, y Amar&iacute\; P
 eliowski\, arquitecta y Doctora en Teor&iacute\;a e Historia del Arte\, me
 nci&oacute\;n arquitectura y paisaje\, &Eacute\;cole des Hautes &Eacute\;t
 udes en Sciences Sociales\, Par&iacute\;s\, ser&aacute\; el tercer di&aacu
 te\;logo del ciclo que desde discusiones y cruces interdisciplinarios inte
 ntar&aacute\; ampliar el horizonte cr&iacute\;tico y operativo con el que 
 se enfrenta el paisaje en Chile.\n+ Entrada liberada\, cupos limitados. In
 scripciones aqu&iacute\;.\n&nbsp\;\nOrganizaCorporaci&oacute\;n Cultura de
  Paisaje en Chile\nInvitaArquitectura UCMagister en Arquitectura del Paisa
 je UCPontificia Universidad Cat&oacute\;lica de ChileLOFscapesSantiago Adi
 ctoVi&ntilde\;a Santa RitaQuesos Tambo Alto\n&nbsp\;\n&nbsp\;\n https://fa
 deu-old.urantiacos.cl/agenda/evento/991-descubriendo-el-paisaje-chileno-el
 -paisaje-poscolonial-imagen-y-relaciones-latinoamericanas
DTSTART:20170608T223000Z
DTEND:20170609T000000Z
LOCATION:Auditorio Arquitectura UC\, Campus Lo Contador (el comendador 1916
 \, providencia)
SUMMARY:Descubriendo el Paisaje Chileno 'El Paisaje Poscolonial: Imagen y r
 elaciones latinoamericanas'
URL:https://fadeu-old.urantiacos.cl/agenda/evento/991-descubriendo-el-paisa
 je-chileno-el-paisaje-poscolonial-imagen-y-relaciones-latinoamericanas
END:VEVENT
BEGIN:VEVENT
UID:20260423T161049UTC-0014UNdve4@https://fadeu-old.urantiacos.cl/
DTSTAMP:20260423T161049Z
DESCRIPTION:En el marco de la II Jornada de Ciudad\, Planificaci&oacute\;n 
 y Legislaci&oacute\;n urbana se realizar&aacute\; el Seminario 'Las ciudad
 es que heredamos y las metr&oacute\;polis en construcci&oacute\;n'\n+ Cupo
 s limitados. Inscripciones aqu&iacute\;.\nInvitaInstituto de Estudios Urba
 nos y Terriotoriales UC\nOrganizaInstituto de Estudios Urbanos y Terriotor
 iales UCFacultad de Derecho UC\n&nbsp\;\n\n&nbsp\;\n&nbsp\; https://fadeu-
 old.urantiacos.cl/agenda/evento/1031-seminario-las-ciudades-que-heredamos-
 y-las-metropolis-en-construccion
DTSTART:20170608T123000Z
DTEND:20170608T180000Z
LOCATION:Salón Aquiles Portaluppi\, Facultad de Derecho\, Casa Central UC (
 Av Libertador Bernardo O'Higgins 340\, Santiago\, Región Metropolitana\, C
 hile)
SUMMARY:Seminario: Las ciudades que heredamos y las metrópolis en construcc
 ión
URL:https://fadeu-old.urantiacos.cl/agenda/evento/1031-seminario-las-ciudad
 es-que-heredamos-y-las-metropolis-en-construccion
END:VEVENT
BEGIN:VEVENT
UID:20260423T161050UTC-00236GTcTu@https://fadeu-old.urantiacos.cl/
DTSTAMP:20260423T161049Z
DESCRIPTION:Lanzamiento libroMemorias textiles de la Provincia de Palena\nP
 resentaCarla Loayza\nOrganizaPontificia Universidad Cat&oacute\;lica de Ch
 ileEscuela de Dise&ntilde\;o UCComit&eacute\; Nacional de Conservaci&oacut
 e\;n Textil\n+ Inscripciones aqu&iacute\;.\n&nbsp\;\n https://fadeu-old.ur
 antiacos.cl/agenda/evento/1029-lanzamiento-libro-memorias-textiles-de-la-p
 rovincia-de-palena-por-carla-loayza
DTSTART:20170607T223000Z
DTEND:20170608T000000Z
LOCATION:Sala 17 Casona\, Campus Lo Contador (El Comendador 1916\, Providen
 cia\, Región Metropolitana\, Chile)
SUMMARY:Lanzamiento libro: 'Memorias textiles de la Provincia de Palena'\, 
 por Carla Loayza
URL:https://fadeu-old.urantiacos.cl/agenda/evento/1029-lanzamiento-libro-me
 morias-textiles-de-la-provincia-de-palena-por-carla-loayza
END:VEVENT
END:VCALENDAR
