BEGIN:VCALENDAR
VERSION:2.0
PRODID:-//https://fadeu-old.urantiacos.cl///NONSGML kigkonsult.se iCalcreator 2.10.15//
METHOD:PUBLISH
BEGIN:VEVENT
UID:20260423T161937UTC-2313EvhUBF@https://fadeu-old.urantiacos.cl/
DTSTAMP:20260423T161937Z
DESCRIPTION:Charla Ilustraci&oacute\;n y Migraci&oacute\;n\nPresentaStephan
  Barroux http://www.barroux.info/\nOrganizaPontificia Universidad Cat&oacu
 te\;lica de ChileEscuela de Dise&ntilde\;o UCInstitut Fran&ccedil\;ais Chi
 leProyecto Migrartes\n+ Inscripciones aqu&iacute\;.\n&nbsp\;\n https://fad
 eu-old.urantiacos.cl/agenda/evento/1027-charla-ilustracion-y-migracion-por
 -stephane-barroux
DTSTART:20170609T153000Z
DTEND:20170609T170000Z
LOCATION:Salón Sergio Larraín\, Campus Lo Contador ()
SUMMARY:Charla: Ilustración y Migración\, por Stephane Barroux
URL:https://fadeu-old.urantiacos.cl/agenda/evento/1027-charla-ilustracion-y
 -migracion-por-stephane-barroux
END:VEVENT
BEGIN:VEVENT
UID:20260423T161937UTC-2317PocJE7@https://fadeu-old.urantiacos.cl/
DTSTAMP:20260423T161937Z
DESCRIPTION:El Seminario de Patentamiento Internacional&nbsp\;es organizado
  por el Instituto Nacional de la Propiedad Intelectual de Chile (INAPI)\, 
 la Organizaci&oacute\;n Mundial de Propiedad Intelectual (OMPI)\, en coope
 raci&oacute\;n con la Oficina Europea de Patentes (EPO) y la Pontificia Un
 iversidad Cat&oacute\;lica de Chile.\nEl objetivo del encuentro es analiza
 r diversas estrategias y modelos de protecci&oacute\;n intelectual\, que p
 ermitan generar reglas claras para la masificaci&oacute\;n y comercializac
 i&oacute\;n de las innovaciones.\n+ Revisa el programa aqu&iacute\;. Inscr
 ipciones aqu&iacute\;.\n&nbsp\;\n https://fadeu-old.urantiacos.cl/agenda/e
 vento/1011-seminario-de-patentamiento-internacional
DTSTART:20170609T133000Z
DTEND:20170609T170000Z
LOCATION:Centro de Innovación UC Campus San Joaquin  (Vicuña Mackenna 4860\
 , Macul\, Región Metropolitana\, Chile)
SUMMARY:Seminario de Patentamiento Internacional
URL:https://fadeu-old.urantiacos.cl/agenda/evento/1011-seminario-de-patenta
 miento-internacional
END:VEVENT
BEGIN:VEVENT
UID:20260423T161937UTC-2321rR8A5I@https://fadeu-old.urantiacos.cl/
DTSTAMP:20260423T161937Z
DESCRIPTION:Descubriendo el Paisaje ChilenoCon Anita Berrizbeitia y Amar&ia
 cute\; Peliowski\nEl Paisaje Postcolonial: Imagen y Relaciones Latinoameri
 canas&rdquo\; con Anita Berrizbeitia\, MLA y Directora del Departamento de
  Arquitectura del Paisaje de la Universidad de Harvard\, y Amar&iacute\; P
 eliowski\, arquitecta y Doctora en Teor&iacute\;a e Historia del Arte\, me
 nci&oacute\;n arquitectura y paisaje\, &Eacute\;cole des Hautes &Eacute\;t
 udes en Sciences Sociales\, Par&iacute\;s\, ser&aacute\; el tercer di&aacu
 te\;logo del ciclo que desde discusiones y cruces interdisciplinarios inte
 ntar&aacute\; ampliar el horizonte cr&iacute\;tico y operativo con el que 
 se enfrenta el paisaje en Chile.\n+ Entrada liberada\, cupos limitados. In
 scripciones aqu&iacute\;.\n&nbsp\;\nOrganizaCorporaci&oacute\;n Cultura de
  Paisaje en Chile\nInvitaArquitectura UCMagister en Arquitectura del Paisa
 je UCPontificia Universidad Cat&oacute\;lica de ChileLOFscapesSantiago Adi
 ctoVi&ntilde\;a Santa RitaQuesos Tambo Alto\n&nbsp\;\n&nbsp\;\n https://fa
 deu-old.urantiacos.cl/agenda/evento/991-descubriendo-el-paisaje-chileno-el
 -paisaje-poscolonial-imagen-y-relaciones-latinoamericanas
DTSTART:20170608T223000Z
DTEND:20170609T000000Z
LOCATION:Auditorio Arquitectura UC\, Campus Lo Contador (el comendador 1916
 \, providencia)
SUMMARY:Descubriendo el Paisaje Chileno 'El Paisaje Poscolonial: Imagen y r
 elaciones latinoamericanas'
URL:https://fadeu-old.urantiacos.cl/agenda/evento/991-descubriendo-el-paisa
 je-chileno-el-paisaje-poscolonial-imagen-y-relaciones-latinoamericanas
END:VEVENT
END:VCALENDAR
