BEGIN:VCALENDAR
VERSION:2.0
PRODID:-//https://fadeu-old.urantiacos.cl///NONSGML kigkonsult.se iCalcreator 2.10.15//
METHOD:PUBLISH
BEGIN:VEVENT
UID:20260420T204203UTC-3391zDcizB@https://fadeu-old.urantiacos.cl/
DTSTAMP:20260420T204203Z
DESCRIPTION:El Equipo de Investigaci&oacute\;n de los Fuertes de la Fronter
 a de la UC tiene el agrado de invitar a Usted a la inauguraci&oacute\;n de
  la exposici&oacute\;n &ldquo\;Levantamiento\, Visualizaci&oacute\;n y Dif
 usi&oacute\;n del Sistema de Fortificaciones del Biob&iacute\;o&rdquo\;\, 
 que se realizará el lunes 11 de junio a las 19:00 horas\, en el Hall de A
 cceso del Edificio de la Escuela de Arquitectura UC\, ubicado en calle El 
 Comendador 1936.\nEste sistema de plazas y fuertes fue construido a lo lar
 go del r&iacute\;o Biob&iacute\;o\, desde el mar hasta la cordillera\, dur
 ante la Guerra de Arauco\, entre los siglos XVI\, XVII &amp\; XVIII. Si bi
 en\, fueron puntos de enfrentamiento\, estas piezas defensivas se alzaron 
 como zonas de intercambio cultural y comercial entre el pueblo mapuche y e
 spa&ntilde\;ol\, forj&aacute\;ndose una sociedad mestiza. Fueron emplazado
 s en lugares privilegiados dentro del territorio y paisaje de la Frontera.
  Esperamos que la difusi&oacute\;n y protecci&oacute\;n efectiva de este s
 istema de fortificaciones\, patrimonio cultural de relevancia nacional\, c
 onstituya un aporte en la promoci&oacute\;n del desarrollo sostenible de l
 a regi&oacute\;n del Biob&iacute\;o y sus localidades.\nEXPOSICION / Levan
 tamiento\, Visualizaci&oacute\;n y Difusi&oacute\;n del Sistema de Fortifi
 caciones del Biob&iacute\;o\nLa exposici&oacute\;n se enmarca dentro de la
 s actividades de difusi&oacute\;n del Proyecto de Investigaci&oacute\;n Fo
 lio 419497 presentado al Fondart Regional del Biob&iacute\;o en la L&iacut
 e\;nea de Patrimonio Cultural\, que ha sido desarrollada durante todo el 2
 017 por el Equipo de Investigaci&oacute\;n de los Fuertes de la Frontera d
 e la UC. En esa l&iacute\;nea\, durante los meses de abril y mayo\, se exp
 uso el proyecto de investigaci&oacute\;n en las ciudades de Los &Aacute\;n
 geles -Museo Artequ&iacute\;n-\, Concepci&oacute\;n -Punto Cultura Federic
 o Ram&iacute\;rez- y Nacimiento - Casa de la Cultura y el Arte-.\nEsta inv
 estigaci&oacute\;n busca relevar uno de los bienes patrimoniales seriados 
 m&aacute\;s significativos de la historia de Chile: el sistema de fuertes 
 y plazas fortificadas de la frontera de Arauco\, que estuvo en operaci&oac
 ute\;n entre comienzos del siglo XVII y fines del siglo XIX. Pese a su imp
 ortancia hist&oacute\;rica\, el sistema a la fecha no ha sido protegido de
  manera oficial\, salvo algunos de sus componentes que\, por separado\, ha
 n sido declarados como Monumento Hist&oacute\;rico por la ley de Monumento
 s Nacionales (Nacimiento\, Santa Juana\, San Diego de Tucapel y San Carlos
  de Pur&eacute\;n).\nLa persistencia de una mirada que por muchos a&ntilde
 \;os ha asociado el patrimonio con lo monumental\, ha terminado pasando po
 r alto los principales atributos y valores de este relevante sistema defen
 sivo colonial. Muchos de ellos son a&uacute\;n visibles y requieren ser co
 nocidos\, tales como su emplazamiento estrat&eacute\;gico frente al paisaj
 e\, su trazado heredero de la tratad&iacute\;stica militar moderna o su co
 ndici&oacute\;n sist&eacute\;mica\, articulada en torno a los principales 
 cursos de agua y a la costa del golfo de Arauco.\nDebido a la escasa impor
 tancia dada a estos elementos\, el sistema de plazas y fortificaciones mil
 itares de la frontera de Arauco se entiende hoy de modo desagregado y cuen
 ta con escaso conocimiento a nivel local y nacional. Todo lo anterior lo e
 xpone a condiciones de extrema vulnerabilidad que requieren ser revertidas
 .\nPara efectos de acotar el campo de estudio\, ya que en los dos siglos y
  medio que oper&oacute\; esta frontera se emplazaron cerca de cien fuertes
  a lo largo del Biob&iacute\;o y sus afluentes\, esta investigaci&oacute\;
 n ha decidido trabajar sobre los catorce fuertes y plazas militares a las 
 que hace referencia el informe realizado por el ingeniero militar espa&nti
 lde\;ol Juan de Ojeda\, por encargo de Ambrosio O'Higgins (1793).\nLo ante
 rior\, ya que este valioso registro entrega no s&oacute\;lo levantamientos
  arquitect&oacute\;nicos y descripciones detalladas de cada una de estas i
 nfraestructuras de defensa\, sino porque da cuenta del sistema operando en
  la fase final del imperio espa&ntilde\;ol\, justo antes de que comenzaran
  los sucesos que llevar&iacute\;an a la independencia de Chile.\nSobre dic
 ha base documental de fines de la colonia\, esta investigaci&oacute\;n ha 
 realizado un riguroso levantamiento actualizado\, el cual se expone a la m
 isma escala que el original en planimetr&iacute\;as completas\, maquetas y
  fotos a&eacute\;reas. La comparaci&oacute\;n de ambos registros da cuenta
  del modo en que han evolucionado cada uno de los componentes del sistema 
 y entrega una mirada in&eacute\;dita sobre un bien patrimonial fundamental
  para entender el proceso formativo de Chile y el rol que tuvo el territor
 io mapuche en dicho proceso.\nEquipo de trabajo_\nResponsable de la Invest
 igaci&oacute\;n: Emilio De la Cerda (03.2017 a 03.2018) - Shakti Feuerhake
  (3.2018 a 05.2018)\nCoordinador en terreno: Luis Eduardo Toloza\nInvestig
 aci&oacute\;n aplicada y Elaboraci&oacute\;n de Expedientes: Emilio De la 
 Cerda\, Luis Eduardo Toloza\, Soledad Undurraga\, Mauricio Onetto\, Pablo 
 Casals\, Cristian Sandoval\, Shakti Feuerhake\, Nicole Pumarino\, Daniela 
 Cross.\nCurator&iacute\;a\, dise&ntilde\;o y montaje de la Exposici&oacute
 \;n: Emilio De la Cerda\, Luis Eduardo Toloza\, Soledad Undurraga\, Shakti
  Feuerhake\, Trinidad S&aacute\;nchez\, Francisca Latrach\, Ignacio Rojas\
 , Ignacio Romero.\nAlumnos que facilitaron material para este proyecto: An
 dres Baus\, Iv&aacute\;n Contreras\, Arantxa Figueroa\, Camila Mancilla\, 
 Florencia Mena\, Christopher Michea\, Carla Olivares\, Maria Jose Ojeda\, 
 Ramiro Riquelme\, Ignacio Rojas\, Ignacio Romero\, Javier Ruiz\, Antonio S
 uazo.\nFecha_11 al 22 de junio de 2018.\nFecha Inauguraci&oacute\;n_Lunes 
 11 de junio de 2018\, 19.00 hrs.\nLugar_Hall del Edificio de Arquitectura 
 UC\, campus Lo Contador. El Comendador 1936\, Providencia.\nInvitan_Equipo
  de Investigaci&oacute\;n de los Fuertes de la Frontera UCPontificia Unive
 rsidad Cat&oacute\;lica de ChileCentro del Patrimonio Cultural UC y Escuel
 a de Arquitectura UC\nParticipan_Ministerio de las Culturas\, las Artes y 
 el PatrimonioCentro del Patrimonio Cultural UC\nOrganizan_Escuela de Arqui
 tectura UCPontificia Universidad Cat&oacute\;lica de Chile\n&nbsp\;\n http
 s://fadeu-old.urantiacos.cl/agenda/evento/1574-levantamiento-visualizacion
 -y-difusion-del-sistema-de-fortificaciones-del-biobio
DTSTART:20180611T230000Z
DTEND:20180612T000000Z
LOCATION:Hall Edificio Arquitectura (El Comendador 1936\, Providencia\, Reg
 ión Metropolitana\, Chile)
SUMMARY:'Levantamiento\, Visualización y Difusión del Sistema de Fortificac
 iones del Biobío'
URL:https://fadeu-old.urantiacos.cl/agenda/evento/1574-levantamiento-visual
 izacion-y-difusion-del-sistema-de-fortificaciones-del-biobio
END:VEVENT
END:VCALENDAR
