BEGIN:VCALENDAR
VERSION:2.0
PRODID:-//https://fadeu-old.urantiacos.cl///NONSGML kigkonsult.se iCalcreator 2.10.15//
METHOD:PUBLISH
BEGIN:VEVENT
UID:20260420T015100UTC-9334l8fhGk@https://fadeu-old.urantiacos.cl/
DTSTAMP:20260420T015100Z
DESCRIPTION:El Centro de Estudiantes de Arquitectura en conjunto con el Dec
 anato invitan a la comunidad FADEU a la inauguraci&oacute\;n del Piano Lo 
 Contador el d&iacute\;a 12 de junio a las 13.15 hrs en la Sala la Capilla\
 , instancia en la cual se inician las sesiones de 'Arte y Piano en Lo Cont
 ador'. Esta actividad ser&aacute\; acompa&ntilde\;ada de una exposici&oacu
 te\;n fotogr&aacute\;fica a cargo del estudiante del Magister en Arquitect
 ura del Paisaje Vicente Donoso\, y de una serie de intervenciones musicale
 s de piano cl&aacute\;sico\, jazz y canto.\n&nbsp\;\n https://fadeu-old.ur
 antiacos.cl/agenda/evento/1887-inauguracion-proyecto-piano-lo-contador
DTSTART:20190612T171500Z
DTEND:20190612T181500Z
LOCATION:Sala Capilla\, Casona\, Campus Lo Contador (El Comendador 1916\, P
 rovidencia\, Región Metropolitana\, Chile)
SUMMARY:Inauguración Proyecto Piano Lo Contador
URL:https://fadeu-old.urantiacos.cl/agenda/evento/1887-inauguracion-proyect
 o-piano-lo-contador
END:VEVENT
BEGIN:VEVENT
UID:20260420T015100UTC-9338wfEfUl@https://fadeu-old.urantiacos.cl/
DTSTAMP:20260420T015100Z
DESCRIPTION:Invitamos a participar del seminario 'El Patrimonio Cultural en
  la Era Digital: Territorio\, Data y Ciudadan&iacute\;a'&nbsp\;organizado 
 por&nbsp\;el programa de Doctorado en Arquitectura y Estudios Urbanos&nbsp
 \;de la Pontificia Universidad&nbsp\;Cat&oacute\;lica de Chile y con el pa
 trocinio del Programa de Magister en Patrimonio Cultural UC\, el Museo His
 t&oacute\;rico Nacional y el Instituto de Estudios Patrimoniales.&nbsp\;\n
 \nEsta actividad contar&aacute\; con la participaci&oacute\;n&nbsp\;de 11 
 destacados expertos nacionales m&aacute\;s un invitado internacional\, el&
 nbsp\;Dr. Juli&aacute\;n Sobrino\,&nbsp\;profesor&nbsp\;titular de la&nbsp
 \;Escuela T&eacute\;cnica Superior de Arquitectura de la&nbsp\;Universidad
  de Sevilla\, quienes reflexionar&aacute\;n en torno a esta tem&aacute\;ti
 ca.\n\n&nbsp\;\n\n&nbsp\;\nEntrada liberada\, cupos limitados. Inscripcion
 es al correo&nbsp\;estudiospatrimoniales@gmail.com\n https://fadeu-old.ura
 ntiacos.cl/agenda/evento/1895-seminario-el-patrimonio-cultural-en-la-era-d
 igital-territorio-data-y-ciudadania
DTSTART:20190612T131500Z
DTEND:20190612T220000Z
LOCATION:Museo Histórico Nacional (Plaza de Armas s/n)
SUMMARY: Seminario: El Patrimonio Cultural en la Era Digital: Territorio\, 
 Data y Ciudadanía
URL:https://fadeu-old.urantiacos.cl/agenda/evento/1895-seminario-el-patrimo
 nio-cultural-en-la-era-digital-territorio-data-y-ciudadania
END:VEVENT
END:VCALENDAR
