BEGIN:VCALENDAR
VERSION:2.0
PRODID:-//https://fadeu-old.urantiacos.cl///NONSGML kigkonsult.se iCalcreator 2.10.15//
METHOD:PUBLISH
BEGIN:VEVENT
UID:20260420T205021UTC-159160v7tT@https://fadeu-old.urantiacos.cl/
DTSTAMP:20260420T205021Z
DESCRIPTION:Mario Ubilla S.\, Decano de la Facultad de Arquitectura\, Dise&
 ntilde\;o y Estudios Urbanos\; Mar&iacute\;a Ang&eacute\;lica Zegers V.\, 
 Directora de Ediciones UC\, saludan atentamente a ustedes y tiene el agrad
 o de invitarle a la presentaci&oacute\;n del libro 'Plan para Chile'. Tomo
  I: Fundamentos de la ciudad y del campo ideales.&nbsp\; Tomo II. La naci&
 oacute\;n chilena. Norte Grande. Norte Chico. Chile Central. Tomo III. Chi
 le Central Sur. Los Lagos. Los Canales de Ra&uacute\;l Irarr&aacute\;zaval
  C.\n&nbsp\;\nEste evento se realizar&aacute\; el mi&eacute\;rcoles 13 de 
 junio\, a las 18:30 horas\, en el aula Magna Manuel Jos&eacute\; Irarr&aac
 ute\;zaval de Casa Central\, ubicada en Alameda 340.&nbsp\;\n&nbsp\;\n&nbs
 p\;\n\n&nbsp\; https://fadeu-old.urantiacos.cl/agenda/evento/1553-presenta
 cion-del-libro-plan-para-chile
DTSTART:20180613T223000Z
DTEND:20180613T233000Z
LOCATION:Aula Magna José Irarrázaval de Casa Central (Av Libertador Bernard
 o O'Higgins 340\, Santiago\, Región Metropolitana\, Chile)
SUMMARY:Presentación del libro 'Plan para Chile'
URL:https://fadeu-old.urantiacos.cl/agenda/evento/1553-presentacion-del-lib
 ro-plan-para-chile
END:VEVENT
BEGIN:VEVENT
UID:20260420T205021UTC-1596XBVaRG@https://fadeu-old.urantiacos.cl/
DTSTAMP:20260420T205021Z
DESCRIPTION:La sesi&oacute\;n contar&aacute\; con las exposiciones&nbsp\;de
 &nbsp\;Tom&aacute\;s Villal&oacute\;n&nbsp\;y&nbsp\;Labb&eacute\; Portugue
 is. Se presentar&aacute\;n sus respectivas oficinas\, proyectos y modos de
  operar.&nbsp\;\n&nbsp\;\nLa charla es la cuarta del nuevo ciclo de discus
 i&oacute\;n y cr&iacute\;tica de la Escuela de Arquitectura UC: 'Proyecto 
 Oficina'. Este tiene por objetivo presentar en sociedad las metodolog&iacu
 te\;as\, procesos de dise&ntilde\;o\, imaginarios e ideolog&iacute\;as de 
 pr&aacute\;cticas emergentes y/o reconocidas en el contexto local. Cada fe
 cha del ciclo est&aacute\; definida por la presentaci&oacute\;n de 2 autor
 es / oficinas para posteriormente ahondar sus aspectos fundamentales con l
 a audiencia.\n&nbsp\;\nFecha_Mi&eacute\;rcoles 13 de junio\, 18.30 hrs.\n&
 nbsp\;&nbsp\;\nLugar_Auditorio FCV. El Comendador 1936\, Providencia.\n&nb
 sp\;\nOrganizan_\nEARQ UC&nbsp\;\nEstudio Com&uacute\;n\n&nbsp\;&nbsp\;\n*
  Evento liberado sin previa inscripci&oacute\;n.\n&nbsp\;\n\n&nbsp\;\n htt
 ps://fadeu-old.urantiacos.cl/agenda/evento/1579-proyecto-oficina-tomas-vil
 lalon-labbe-portugueis
DTSTART:20180613T223000Z
DTEND:20180613T233000Z
LOCATION:Auditorio Fernando Castillo Velasco. Edificio ARQ (El Comendador 1
 936\, Providencia\, Región Metropolitana\, Chile)
SUMMARY:Proyecto Oficina: Tomás Villalón + Labbé Portugueis
URL:https://fadeu-old.urantiacos.cl/agenda/evento/1579-proyecto-oficina-tom
 as-villalon-labbe-portugueis
END:VEVENT
BEGIN:VEVENT
UID:20260420T205021UTC-1600Zz6JiA@https://fadeu-old.urantiacos.cl/
DTSTAMP:20260420T205021Z
DESCRIPTION:Invitaci&oacute\;n&nbsp\;Foro sobre Rol P&uacute\;blico + Pol&i
 acute\;ticas de Suelo\nEl Centro de Estudiantes (CEARQ)\, Consejer&iacute\
 ;a Acad&eacute\;mica (CA) y Puentes UC consideran que el rol de la discipl
 ina arquitect&oacute\;nica en la sociedad es un tema que debe ser conversa
 do de manera continua y reiterada. Es por esto que extienden la invitaci&o
 acute\;n a participar en un&nbsp\;foro sobre Rol P&uacute\;blico + Pol&iac
 ute\;ticas de Suelo\, entendiendo &eacute\;sta como dispositivo que puede 
 (o no) generar accesibilidad e integraci&oacute\;n social.\nLa conversaci&
 oacute\;n ser&aacute\; moderada por&nbsp\;Tom&aacute\;s Echibur&uacute\;\,
  concejal de Providencia y socio de Ecosistemas Humanos. Expondr&aacute\;n
 &nbsp\;Ana Sugranyes\, especialista en temas habitacionales en Am&eacute\;
 rica Latina\,&nbsp\;Joan Macdonald\, Presidenta del SELAVIP (2003-2014)\, 
 y&nbsp\;Pablo Allard\, socio fundador de Elemental.\n&nbsp\;\n\nFecha_Mi&e
 acute\;rcoles 13 de junio de 2018 a las 13.00 hrs.\nLugar_Patio de Madera\
 , campus Lo Contador. El Comendador 1916\, Providencia.\nOrganizan_&Aacute
 \;gora - CEARQ 2018Consejer&iacute\;a Acad&eacute\;mica ARQ 2018Puentes UC
  https://fadeu-old.urantiacos.cl/agenda/evento/1580-foro-sobre-rol-publico
 -politicas-de-suelo
DTSTART:20180613T170000Z
DTEND:20180613T180000Z
LOCATION:Patio de madera\, Campus Lo Contador (El Comendador 1916\, Provide
 ncia\, Providencia\, Región Metropolitana\, Chile)
SUMMARY:Foro sobre Rol Público + Políticas de Suelo
URL:https://fadeu-old.urantiacos.cl/agenda/evento/1580-foro-sobre-rol-publi
 co-politicas-de-suelo
END:VEVENT
BEGIN:VEVENT
UID:20260420T205021UTC-1605rZZPTu@https://fadeu-old.urantiacos.cl/
DTSTAMP:20260420T205021Z
DESCRIPTION:El mi&eacute\;rcoles 13 de junio\, a las 9:30 horas\, se realiz
 ar&aacute\; el lanzamiento del&nbsp\;Diplomado en Instrumentos de Planific
 aci&oacute\;n Urbana\, en el cual el&nbsp\;Ministro de Vivienda y Urbanism
 o&nbsp\;Cristi&aacute\;n Monckeberg\, presentar&aacute\; la charla&nbsp\;'
 Ciudades Planificadas&nbsp\;&iquest\;sostenibles\, resilientes e integrada
 s?'.\nPosteriormente se realizar&aacute\; un conversatorio del cual partic
 ipar&aacute\;n la&nbsp\;Alcaldesa de Pe&ntilde\;alol&eacute\;n\,&nbsp\;Car
 olina Leitao\, la&nbsp\;Acad&eacute\;mica del IEUT&nbsp\;Magdalena Vicu&nt
 ilde\;a&nbsp\;y un representante del Colegio de Arquitectos de Chile.\nCup
 os limitados\, inscr&iacute\;bete&nbsp\;aqu&iacute\;\n&nbsp\; https://fade
 u-old.urantiacos.cl/agenda/evento/1575-ciudades-planificadas-sostenibles-r
 esilientes-e-integradas
DTSTART:20180613T133000Z
DTEND:20180613T143000Z
LOCATION:Auditorio FADEU\, Campus Lo Contador PUC (El Comendador 1916\, Pro
 videncia\, Providencia\, Región Metropolitana\, Chile)
SUMMARY:Ciudades Planificadas ¿sostenibles\, resilientes e integradas?
URL:https://fadeu-old.urantiacos.cl/agenda/evento/1575-ciudades-planificada
 s-sostenibles-resilientes-e-integradas
END:VEVENT
END:VCALENDAR
