BEGIN:VCALENDAR
VERSION:2.0
PRODID:-//https://fadeu-old.urantiacos.cl///NONSGML kigkonsult.se iCalcreator 2.10.15//
METHOD:PUBLISH
BEGIN:VEVENT
UID:20260420T015050UTC-7745DCHmKl@https://fadeu-old.urantiacos.cl/
DTSTAMP:20260420T015050Z
DESCRIPTION:Esta presentaci&oacute\;n explora de manera cr&iacute\;tica los
  fen&oacute\;menos recientes de Big Data y aprendizaje maqu&iacute\;nico. 
 A partir de un an&aacute\;lisis que sit&uacute\;a estas tecnolog&iacute\;a
 s al interior de un modo de producci&oacute\;n capitalista\, esta presenta
 ci&oacute\;n se pregunta en qu&eacute\; medida estas constituyen una nueva
  forma de trabajo y una nueva tecnolog&iacute\;a de poder. Esto implica\, 
 a su vez plantear la pregunta acerca de la historicidad de las categor&iac
 ute\;as de trabajo y de poder. Como caso de an&aacute\;lisis particular\, 
 esta presentaci&oacute\;n se concentrar&aacute\; en el fen&oacute\;meno de
  la visi&oacute\;n maqu&iacute\;nica\, es decir\, algoritmos de aprendizaj
 e que han conseguido automatizar la percepci&oacute\;n visual.\nPresentado
 r:Claudio Celis Bueno\, acad&eacute\;mico e investigador del Instituto de 
 Humanidades de la Universidad Academia de Humanismo Cristiano. Director de
  la carrera de Creaci&oacute\;n Audiovisual de la Universidad Austral de C
 hile. Doctor en Teor&iacute\;a Cr&iacute\;tica de la Universidad de Cardif
 f y Mag&iacute\;ster en Teor&iacute\;a e Historia del Arte de la Universid
 ad de Chile. Es autor de los libros The Attention Economy: Labour\, Time a
 nd Power in Cognitive Capitalism (2016) y De Don Quijote a Toy Story: Cine
  cl&aacute\;sico\, auto-conciencia e ideolog&iacute\;a (2009). Actualmente
  desarrolla una investigaci&oacute\;n Fondecyt&nbsp\;sobre&nbsp\;la relaci
 &oacute\;n entre imagen y poder en la era de la visi&oacute\;n algor&iacut
 e\;tmica.Comentarista:Carolina Gainza\, acad&eacute\;mica de la Escuela de
  Literatura Creativa UDP especializada en el estudio de la literatura digi
 tal latinoamericana y chilena. Soci&oacute\;loga de la Universidad de Chil
 e\, mag&iacute\;ster en Estudios Latinoamericanos Universidad de Chile\, d
 octora en Lenguas y Literaturas Hisp&aacute\;nicas de la Universidad de Pi
 ttsburgh. https://fadeu-old.urantiacos.cl/agenda/evento/1885-sdt-8-capital
 ismo-algoritmico-notas-sobre-la-automatizacion-de-la-mirada
DTSTART:20190613T210000Z
DTEND:20190613T220000Z
LOCATION:Sala Consejo Decanato (El Comendador 1916)
SUMMARY:SDT #8 | Capitalismo algorítmico: notas sobre la automatización de 
 la mirada
URL:https://fadeu-old.urantiacos.cl/agenda/evento/1885-sdt-8-capitalismo-al
 goritmico-notas-sobre-la-automatizacion-de-la-mirada
END:VEVENT
END:VCALENDAR
