BEGIN:VCALENDAR
VERSION:2.0
PRODID:-//https://fadeu-old.urantiacos.cl///NONSGML kigkonsult.se iCalcreator 2.10.15//
METHOD:PUBLISH
BEGIN:VEVENT
UID:20260423T161824UTC-8214rS0Hn4@https://fadeu-old.urantiacos.cl/
DTSTAMP:20260423T161824Z
DESCRIPTION:&nbsp\;\nPresentanManuel Barros\, Periodista y Soci&oacute\;log
 o. Ha trabajado como periodista de datos y actualmente trabaja como gerent
 e de proyectos en la Fundaci&oacute\;n Ciudadano Inteligente y ense&ntilde
 \;a Periodismo de Datos en la Universidad Diego Portales.\nJuan Pizarro\, 
 Desarrollador L&iacute\;der en una empresa con sede en Santiago Admetricks
 .com\, donde entregan inteligencia en tiempo real para democratizar y trae
 r transparencia al mercado online.\nOrganizaDatacampfire\nColaboraEscuela 
 de Dise&ntilde\;o UC\n&nbsp\;\n+ M&aacute\;s informaci&oacute\;n aqu&iacut
 e\;.\n&nbsp\;\n&nbsp\;\n\n&nbsp\; https://fadeu-old.urantiacos.cl/agenda/e
 vento/1045-charla-meetup-santiago-data-visualization
DTSTART:20170614T230000Z
DTEND:20170615T003000Z
LOCATION:Sala Luis Moreno\, Escuela de Diseño UC\, Campus Lo Contador (El C
 omendador 1916\, Providencia\, Región Metropolitana\, Chile)
SUMMARY:Charla 'Meetup Santiago Data Visualization'
URL:https://fadeu-old.urantiacos.cl/agenda/evento/1045-charla-meetup-santia
 go-data-visualization
END:VEVENT
BEGIN:VEVENT
UID:20260423T161824UTC-8219jZaalX@https://fadeu-old.urantiacos.cl/
DTSTAMP:20260423T161824Z
DESCRIPTION:El Cuidado de la TierraDe la explotaci&oacute\;n al cuidado\nEn
  la civilizaci&oacute\;n moderna la tierra deja de ser el lugar donde el h
 umano nace y al que vuelve a morir\, para convertirse en un mero recurso d
 isponible.Esto ha permitido un progreso gigantesco pero ha generado una cu
 ltura en que el cuidado ha sido reemplazado por la explotaci&oacute\;n.&nb
 sp\;&iquest\;Qu&eacute\; formas puede tener la vuelta al cuidado de la tie
 rra en que vivimos?&nbsp\;Se conversar&aacute\; desde las ciencias\, la ec
 olog&iacute\;a y la antropolog&iacute\;a.\nInvitadosJuan Carlos Castilla (
 Bi&oacute\;logo Marino / Premio Nacional de Ciencias)Claudio Latorre (Espe
 cialista en Paleoclimat&oacute\;log&iacute\;a / Departamento de Ecolog&iac
 ute\;a UC)B&aacute\;rbara Saavedra (Bi&oacute\;loga y Ecologista activa)Ma
 rt&iacute\;n Fonck (Soci&oacute\;logo - Antrop&oacute\;logo / Futuro estud
 iante Doctorado del Rachael Carson Center U de Munich)\n&nbsp\;\n https://
 fadeu-old.urantiacos.cl/agenda/evento/1055-conferencia-el-cuidado-de-la-ti
 erra
DTSTART:20170614T230000Z
DTEND:20170615T003000Z
LOCATION:Centro de Estudios Públicos. Monseñor Sótero Sanz 162\, Providenci
 a. (Monseñor Nuncio Sotero Sanz de Villalba 162\, Providencia\, Región Met
 ropolitana\, Chile)
SUMMARY:Conferencia 'El cuidado de la tierra'
URL:https://fadeu-old.urantiacos.cl/agenda/evento/1055-conferencia-el-cuida
 do-de-la-tierra
END:VEVENT
BEGIN:VEVENT
UID:20260423T161824UTC-82247RjVVp@https://fadeu-old.urantiacos.cl/
DTSTAMP:20260423T161824Z
DESCRIPTION:En l&iacute\;nea con los ejes centrales del Plan de Desarrollo 
 de la UC 2015&ndash\;2020 el Centro de Pol&iacute\;ticas P&uacute\;blicas 
 con la colaboraci&oacute\;n de Clapes UC organiz&oacute\; un ciclo de conv
 ersaciones con los principales candidatos presidenciales 2017. El objetivo
  de esta actividad es proveer un espacio abierto a la comunidad universita
 ria y a la ciudadan&iacute\;a\, para conocer en mayor profundidad las idea
 s y l&iacute\;neas program&aacute\;ticas de los que se perfilan como princ
 ipales candidatos para asumir la presidencia de nuestro pa&iacute\;s. La U
 niversidad provee un espacio neutro y ambiente propicio para darle altura 
 de miras a una actividad que contribuir&aacute\; a la entrega de informaci
 &oacute\;n necesaria para tomar una decisi&oacute\;n informada e incentiva
 r el esp&iacute\;ritu de participaci&oacute\;n c&iacute\;vica de nuestros 
 acad&eacute\;micos\, estudiantes y funcionarios.\nLos encuentros ser&aacut
 e\;n abiertos al p&uacute\;blico y contar&aacute\;n con un panel de tres e
 ntrevistadores compuesto por Ignacio Irarr&aacute\;zaval\, director del Ce
 ntro de Pol&iacute\;ticas P&uacute\;blicas UC\, o Francisca Alessandri\, c
 oordinadora de la Encuesta Nacional Bicentenario UC &ndash\; GfK Adimark\;
  un periodista representante de El Mercurio y otro de Tele13 Radio. Adem&a
 acute\;s de los entrevistadores\, la Comunidad UC podr&aacute\; realizar s
 us preguntas previamente seleccionadas. Para participar inscr&iacute\;bete
  aqu&iacute\; o env&iacute\;a tus preguntas aqu&iacute\;.\n+ Todos los enc
 uentros con los candidatos se transmitir&aacute\;n en este link.\nFechasMi
 &eacute\;rcoles 14 de junio de 2017\, 12.50 hrs. Felipe Kast (reemplazando
  a Beatriz S&aacute\;nchez)Jueves 15 de junio de 2017\, 12.50 hrs. Sebasti
 &aacute\;n Pi&ntilde\;eraMartes 20 de junio de 2017\, 12.50 hrs. Alejandro
  GuillierJueves 22 de junio de 2017\, 12.50 hrs. Carolina Goic\n&nbsp\;\n 
 https://fadeu-old.urantiacos.cl/agenda/evento/1035-candidatos-presidencial
 es-en-la-uc
DTSTART:20170614T165000Z
DTEND:20170614T180000Z
LOCATION:Salón de Honor\, Campus Casa Central UC (Av Libertador Bernardo O'
 Higgins 340\, Santiago\, Región Metropolitana\, Chile)
SUMMARY:Candidatos Presidenciales en la UC
URL:https://fadeu-old.urantiacos.cl/agenda/evento/1035-candidatos-presidenc
 iales-en-la-uc
END:VEVENT
BEGIN:VEVENT
UID:20260423T161824UTC-8231uog2cU@https://fadeu-old.urantiacos.cl/
DTSTAMP:20260423T161824Z
DESCRIPTION:Seminario Proyectando el PaisajeDi&aacute\;logos en torno al pa
 trimonio natural y geograf&iacute\;aMayo 16 &ndash\; Junio 27\, 2017\nMart
 es 16 de mayo &ndash\; 18:30 Auditorio Arquitectura&ldquo\;Flora Nativa: C
 onstruyendo la identidad de nuestro paisaje&rdquo\;MONICA MUSALEM Ing. Agr
 &oacute\;nomo UC. Post&iacute\;tulo Arquitectura Del Paisaje U. de Chile\n
 Martes 23 de mayo &ndash\; 18:30 Auditorio ArquitecturaPromenade Geogr&aac
 ute\;fica como espacio memorable: 3 propuestas en verde&rdquo\;SANDRA ITUR
 RIAGA. Arquitecto UC. Magister Arquitectura\, U. Polit&eacute\;cnica de Ba
 rcelona\nMartes 30 de mayo &ndash\; 18:30 Auditorio FADEU&ldquo\;El paisaj
 e como patrimonio: Parque Las Majadas de Pirque&rdquo\;ALEJANDRA BOSCH. Ar
 quitecto UC. Magister Landscape Urbanism\, Architectural Association Londo
 n.\nMartes 06 de junio &ndash\; 18:30 Auditorio Arquitectura&ldquo\;Leyend
 o el paisaje&rdquo\;STUART MOORE &amp\; CSM DESIGN. Landscape Architect U.
 California\, Berkeley\nMartes 13 de junio &ndash\; 18:30 Auditorio FADEU&l
 dquo\;De la materia a la obra&rdquo\;VICENTE GAJARDO. Escultor Chileno Pre
 mio Altazor a las Artes Nacionales 2012.\nMartes 20 de junio &ndash\; 18:3
 0 Auditorio Arquitectura&ldquo\;Proyecto de Paisaje&rdquo\;JUAN GRIMM. Arq
 uitecto y Paisajista UC.\nMartes 27 &ndash\; 18:30 Auditorio Arquitectura&
 ldquo\;Del Jard&iacute\;n a la Infraestructura Verde. Conceptos\, estrateg
 ias y operatorias de proyecto&rdquo\;OSVALDO MORENO. Arquitecto U. de Chil
 e. Magister en Paisaje\, Medio Ambiente y Ciudad\, U. Nacional de la Plata
 . Director MAPA UC.\nVISITAS A TERRENO (optativas)S&aacute\;bado 20 de may
 o &ndash\; 10:00 a 13:00 Vivero PumahuidaM&Oacute\;NICA MUSALEMS&aacute\;b
 ado 03 de junio - 10:00 a 13:00 Majadas de PirqueALEJANDRA BOSCH\nCoordina
 ci&oacute\;n Acad&eacute\;micaFrancisco Croxatto / Camila Romero\nInvitaDi
 plomado en Dise&ntilde\;o de Paisaje UC\nColaboraMag&iacute\;ster en Arqui
 tectura del Paisaje UC\nLugarAuditorios Arquitectura y FADEU. Campus Lo Co
 ntador. El comendador 1916\, Providencia\nArancel p&uacute\;blico general:
  $ $95.000Ex alumnos UC: $ $75.000Estudiantes otras universidades: $50.000
 Arancel libre a estudiantes y profesores UC\nInscripciones abiertas / Cupo
 s limitadosEscribir a Richard Asto: andes.ua.asto@ gmail.comTel&eacute\;fo
 no: 23547747\nSe entregar&aacute\; un certificado de asistencia una vez co
 ncluido el seminario.\n&nbsp\;\n https://fadeu-old.urantiacos.cl/agenda/ev
 ento/1063-seminario-proyectando-el-paisaje-2017
DTSTART:20170613T223000Z
DTEND:20170614T000000Z
LOCATION:Campus Lo Contador (El Comendador 1916\, Providencia\, Providencia
 \, Región Metropolitana\, Chile)
SUMMARY:Seminario Proyectando el Paisaje 2017
URL:https://fadeu-old.urantiacos.cl/agenda/evento/1063-seminario-proyectand
 o-el-paisaje-2017
END:VEVENT
END:VCALENDAR
