BEGIN:VCALENDAR
VERSION:2.0
PRODID:-//https://fadeu-old.urantiacos.cl///NONSGML kigkonsult.se iCalcreator 2.10.15//
METHOD:PUBLISH
BEGIN:VEVENT
UID:20260420T204203UTC-0229Kn7lM0@https://fadeu-old.urantiacos.cl/
DTSTAMP:20260420T204203Z
DESCRIPTION:El pr&oacute\;ximo viernes&nbsp\;15 de junio&nbsp\;se llevar&aa
 cute\; a cabo la tercera sesi&oacute\;n de 'Paisajes Proyectados: Ciclo de
  di&aacute\;logos de Arquitectura del Paisaje'\, en celebraci&oacute\;n a 
 los&nbsp\;10 a&ntilde\;os del Magister en Arquitectura del Paisaje UC. La 
 charla ser&aacute\; dictada por la oficina de arquitectura&nbsp\;Harris + 
 Illanes.&nbsp\;\nEn el marco de la celebraci&oacute\;n de los 10 a&ntilde\
 ;os del&nbsp\;Mag&iacute\;ster en Arquitectura del Paisaje UC\, el Ciclo&n
 bsp\;Paisajes Proyectados re&uacute\;ne&nbsp\;10 visiones disciplinares&nb
 sp\;a partir de conversaciones con arquitectos del&nbsp\;paisaje&nbsp\;rel
 acionadas con su producci&oacute\;n profesional y&nbsp\;acad&eacute\;mica\
 , constituyendo una vitrina actualizada del&nbsp\;quehacer nacional en mat
 eria de planificaci&oacute\;n y&nbsp\;dise&ntilde\;o del Paisaje en Chile.
  Cada sesi&oacute\;n del Ciclo&nbsp\;promueve un&nbsp\;encuentro entre el 
 autor\, parte de su&nbsp\;obra y el p&uacute\;blico asistente\, en una din
 &aacute\;mica&nbsp\;transversal y cercana de interacci&oacute\;n.\n&nbsp\;
 &nbsp\;\nLos 10 exponentes son_\n&nbsp\;\n- TEODORO FERNANDEZ- DANILO MART
 IC- OSVALDO MORENO- CLAUDIA ILLANES- ANDREW HARRIS- ARTURO LYON- ALEJANDRA
  BOSCH- TOMAS FOLCH- PAULA LIVINGSTONE\n- SANDRA ITURRIAGA\n&nbsp\;&nbsp\;
 \nLa tercera sesi&oacute\;n\, a cargo de&nbsp\;Harris + Illanes\, se titul
 a&nbsp\;'Proyecto Sustentable / Proyecto Sostenible'.\n&nbsp\;\n&nbsp\;\nC
 LAUDIA ILLANES\n&nbsp\;\n&nbsp\;\nArquitecta Pontificia Universidad Cat&oa
 cute\;lica de Chile\, 1993. M&aacute\;ster Arquitectura del Paisaje\, Univ
 ersidad Polit&eacute\;cnica de Catalu&ntilde\;a\, 2001\,&nbsp\;Barcelona\,
  Espa&ntilde\;a.&nbsp\;Diploma de Estudios avanzados del Departamento de U
 rbanismo de la Universitat Polit&eacute\;cnica de Catalunya\, 2005.&nbsp\;
 Profesora Mag&Iacute\;ster en Arquitectura del Paisaje\,&nbsp\;Pontificia&
 nbsp\;Universidad Cat&oacute\;lica de Chile.&nbsp\;\n&nbsp\;\nANDREW HARRI
 S\n&nbsp\;\nArquitecto&nbsp\;Pontificia Universidad Cat&oacute\;lica de Ch
 ile\, 1994. Master y Doctor (c) Universitat Polit&eacute\;cnica de Catalun
 ya\,&nbsp\;2000\,&nbsp\;Barcelona\, Espa&ntilde\;a.&nbsp\;Profesor Asisten
 te Adjunto&nbsp\;Mag&Iacute\;ster en Arquitectura del Paisaje y Mag&iacute
 \;ster en Proyecto Urbano\,&nbsp\;Pontificia Universidad Cat&oacute\;lica 
 de Chile.\n&nbsp\;\nHARRIS + ILLANES Arquitectos\n&nbsp\;\nClaudia Illanes
  y Andrew Harris&nbsp\;son socios desde 2006 en&nbsp\;Harris-Illanes Arqui
 tectos\, desempe&ntilde\;&aacute\;ndose en tareas de planificaci&oacute\;n
  y dise&ntilde\;o de paisaje en diferentes escalas\, formando un equipo in
 terdisciplinario con socios del &aacute\;rea de la ingenier&iacute\;a agr&
 oacute\;noma. Los proyectos abarcan desde forestaciones en &aacute\;reas d
 egradadas\, planes de paisaje para nuevas &aacute\;reas urbanas y proyecto
 s de dise&ntilde\;o de &aacute\;reas verdes p&uacute\;blicas y privadas.\n
 &nbsp\;\n&nbsp\;\n'La oficina de arquitectura y planificaci&oacute\;n de p
 aisaje se forma por el inter&eacute\;s com&uacute\;n de profesionales dive
 rsos por el paisaje desde un punto de vista integral. Esta oficina intenta
  abordar los temas en torno al espacio colectivo y paisaje de forma transv
 ersal\, abarcando desde la etapa de planeamiento\, pasando por el dise&nti
 lde\;o y gesti&oacute\;n hasta la ejecuci&oacute\;n del proyecto.Se entien
 de nuestro trabajo como una colaboraci&oacute\;n complementaria entre arqu
 itectos paisajistas e ingenieros\, todos con amplia experiencia tanto en l
 a planificaci&oacute\;n como en la construcci&oacute\;n de proyectos de pa
 isaje de diversas escalas.'\n&nbsp\;\nColaboradores:\nRodrigo Mena\, ingen
 iero agr&oacute\;nomo PUC\, 1997\, Magister Arquitectura del Paisaje UPC\,
  Barcelona\, 2003.\nPablo Cornejo\, ingeniero agr&oacute\;nomo PUC\, 1995.
 \nMarcia Escobar\, arquitecta UNAB\, 2006.&nbsp\;\nCarolina Becerra\, arqu
 itecta UNAB\, 2006.\nBarbara Sanchez\, arquitecta UDP\, 2013.\nCaterina Mo
 ntipo\, arquitecta Polit&eacute\;cnico de Mil&aacute\;n\, 2012\nJosefa Cor
 rea\, arquitecta UDP\, 2012\n&nbsp\;\nFecha_\nViernes 15 de junio\,&nbsp\;
 13:15 hrs a 14:30 hrs.\n&nbsp\;\nLugar_\nSal&oacute\;n Sergio Larra&iacute
 \;n. Campus Lo Contador. El Comendador 1936\, Providencia.&nbsp\;\n&nbsp\;
 \nOrganiza_\nMag&iacute\;ster en Arquitectura del Paisaje UC.&nbsp\;\n&nbs
 p\;\nPatrocina_\nICHAP&nbsp\;(Instituto Chileno de Arquitectos Paisajistas
 )\n&nbsp\;\nMedia Partner_\nPlataforma Arquitectura&nbsp\;\n&nbsp\;\nIngre
 so libre\, previa inscripci&oacute\;n_magistermapa@uc.cl\nInformaciones_\n
 magistermapa@uc.cl\n&nbsp\;\n\n https://fadeu-old.urantiacos.cl/agenda/eve
 nto/1577-paisaje-proyectado-harris-illanes
DTSTART:20180615T171500Z
DTEND:20180615T181500Z
LOCATION:Salón Sergio Larraín\, Campus Lo Contador ()
SUMMARY:Paisaje Proyectado' / Harris + Illanes
URL:https://fadeu-old.urantiacos.cl/agenda/evento/1577-paisaje-proyectado-h
 arris-illanes
END:VEVENT
BEGIN:VEVENT
UID:20260420T204203UTC-0267M69AMv@https://fadeu-old.urantiacos.cl/
DTSTAMP:20260420T204203Z
DESCRIPTION:Bernardita Brancoli y Joyce Berstein son las investigadoras a c
 argo del proyecto Baldosas de Santiago\, un recorrido visual e hist&oacute
 \;rico por las baldosas de las calles de Santiago\, con el objeto de resig
 nificar la baldosa y su oficio de fabricación.\nBaldosas de Santiago es u
 n proyecto de las dise&ntilde\;adoras Bernardita Brancoli y Joyce Berstein
 \, y sobre el cual hablar&aacute\;n en la charla abierta que se dictar&aac
 ute\; el pr&oacute\;ximo jueves 14 de junio en la sala 201 de la Escuela d
 e Dise&ntilde\;o. Una investigaci&oacute\;n que las llev&oacute\; a hacer 
 un recorrido por las calles y espacios de la ciudad en b&uacute\;squeda de
  baldosas y patrones de suelo para adentrarse en aquellos elementos orname
 ntales que dan identidad a un imaginario urbano\, con el objeto de resigni
 ficar la baldosa\, su oficio de fabricación y darlo a conocer a las nueva
 s generaciones.\n\nProyecto Fondart 2016 apoyado por la Facultad de Dise&n
 tilde\;o de la Universidad del Desarrollo y Baldosas C&oacute\;rdova\, la 
 investigaci&oacute\;n profundiza en la historia y valores est&eacute\;tico
 s y funcionales de las baldosas hidr&aacute\;ulicas creadas en Chile. Un e
 lemento que distingue transversalmente espacios cotidianos de Santiago\, d
 esde viviendas particulares\, comercio\, espacios educacionales hasta plaz
 as y veredas.\n\nEn la charla se har&aacute\; un recorrido hist&oacute\;ri
 co\, desde las primeras baldosas de las que se tiene registro en Chile\, p
 asando por el proceso de fabricaci&oacute\;n\, as&iacute\; como tambi&eacu
 te\;n por una serie de an&eacute\;cdotas y desaf&iacute\;os supuso esta in
 vestigaci&oacute\;n de este elemento que que ha ido desapareciendo\, ya se
 a por el cierre de sus f&aacute\;bricas y la desaparici&oacute\;n de sus m
 aestros\; como por la demolici&oacute\;n de casas y barrios. \n&nbsp\;\n&n
 bsp\;\n&nbsp\; https://fadeu-old.urantiacos.cl/agenda/evento/1570-charla-b
 aldosas-de-santiago
DTSTART:20180614T230000Z
DTEND:20180615T000000Z
LOCATION:Sala 201\, Segundo piso Edificio de Diseño (Los Navegantes 1919\, 
 Providencia)
SUMMARY:Charla 'Baldosas de Santiago'
URL:https://fadeu-old.urantiacos.cl/agenda/evento/1570-charla-baldosas-de-s
 antiago
END:VEVENT
END:VCALENDAR
