BEGIN:VCALENDAR
VERSION:2.0
PRODID:-//https://fadeu-old.urantiacos.cl///NONSGML kigkonsult.se iCalcreator 2.10.15//
METHOD:PUBLISH
BEGIN:VEVENT
UID:20260423T161049UTC-6294VJLuNK@https://fadeu-old.urantiacos.cl/
DTSTAMP:20260423T161049Z
DESCRIPTION:Conferencia Latinoamericana de Vivienda\, Energ&iacute\;a y Sus
 tentabilidad\nLos programas y pol&iacute\;ticas p&uacute\;blicas pueden ha
 cer grandes aportes en cuanto a buenas pr&aacute\;cticas en relaci&oacute\
 ;n a la vivienda\, la energ&iacute\;a y el medio ambiente. La Universidad\
 , organizaciones de la sociedad civil y el sector privado\, tienen un rol 
 protag&oacute\;nico en sus aportes para el ecosistema necesario para produ
 cir viviendas sustentables. En contextos de pobreza\, los temas de energ&i
 acute\;a\, vivienda y medio ambiente\, adquieren una impronta de urgencia 
 y agudizaci&oacute\;n de las problem&aacute\;ticas.\nLa Conferencia Intern
 acional CLAVES (Conferencia Latinoamericana de Vivienda\, Energ&iacute\;a 
 y Sustentabilidad) se propone como un espacio de intercambio entre especia
 listas tanto del sector p&uacute\;blico\, privado\, la universidad y la so
 ciedad civil\, con el fin de continuar la construcci&oacute\;n de un futur
 o de viviendas m&aacute\;s sustentables.\nEntre las presentaciones\, se de
 staca el Programa de Sustentabilizaci&oacute\;n Clim&aacute\;tica de Vivie
 ndas (en ingl&eacute\;s Weatherization Assistance Program - WAP)\, una pol
 &iacute\;tica p&uacute\;blica gestionada por el Departamento de Energ&iacu
 te\;a de EE.UU. (DOE)\, que desde su creaci&oacute\;n en 1976 ha producido
  resultados notables en t&eacute\;rminos de ahorro de energ&iacute\;a\, me
 jora en la salud\, la calidad de vida y seguridad de las familias\, fortal
 ecimiento comunitario\, mitigaci&oacute\;n del cambio clim&aacute\;tico y 
 creaci&oacute\;n de empleos verdes en los sectores m&aacute\;s humildes de
  la sociedad norteamericana. Weatherizers Without Borders - WWB es una pla
 taforma para transferir el programa a distintas ciudades latinoamericanas.
 \nInvitanMag&iacute\;ster en Arquitectura Sustentable y Energ&iacute\;a (M
 ASE)Centro de Desarrollo Urbano Sustentable (CEDEUS)Weatherizers Without B
 oarders (WWB &ndash\; USA)Foro de Vivienda\, Sustentabilidad y Energ&iacut
 e\;as (FOVISEE &ndash\; Argentina)\n&nbsp\;\n https://fadeu-old.urantiacos
 .cl/agenda/evento/1057-conferencia-energia-vivienda-sustentabilidad
DTSTART:20170615T230000Z
DTEND:20170616T003000Z
LOCATION:Salón Sergio Larraín\, Campus Lo Contador ()
SUMMARY:Conferencia 'Energía\, Vivienda\, Sustentabilidad'
URL:https://fadeu-old.urantiacos.cl/agenda/evento/1057-conferencia-energia-
 vivienda-sustentabilidad
END:VEVENT
BEGIN:VEVENT
UID:20260423T161049UTC-6302bxXzGT@https://fadeu-old.urantiacos.cl/
DTSTAMP:20260423T161049Z
DESCRIPTION:MemoriaD&Eacute\;CIMA sesi&oacute\;n del ciclo de discusi&oacut
 e\;n organizado por el MARQ UC\nEn esta versi&oacute\;n los invitados Emil
 io De la Cerda y Cristi&aacute\;n Glavic\, junto a Alejandra Celed&oacute\
 ;n\, Pedro Correa\, Max N&uacute\;&ntilde\;ez\, Cristi&aacute\;n Izquierdo
 \, Nicol&aacute\;s Stutzin\, discutir&aacute\;n sobre el Altar de la Patri
 a de Juan Eche&ntilde\;ique\, Jos&eacute\; Cruz y Roberto Boisier\; y el M
 useo de la Memoria y los Derechos Humanos de los arquitectos Mario Figuero
 a\, Lucas Fehr y Carlos Dias.\nInvitanMARQ UC\nTransmiteRadio ARCADA\n&nbs
 p\;\n https://fadeu-old.urantiacos.cl/agenda/evento/1059-serie-discusion-y
 -critica-memoria
DTSTART:20170615T223000Z
DTEND:20170616T000000Z
LOCATION:Auditorio FADEU\, Campus Lo Contador PUC (El Comendador 1916\, Pro
 videncia\, Providencia\, Región Metropolitana\, Chile)
SUMMARY:Serie Discusión y Crítica: Memoria
URL:https://fadeu-old.urantiacos.cl/agenda/evento/1059-serie-discusion-y-cr
 itica-memoria
END:VEVENT
END:VCALENDAR
