BEGIN:VCALENDAR
VERSION:2.0
PRODID:-//https://fadeu-old.urantiacos.cl///NONSGML kigkonsult.se iCalcreator 2.10.15//
METHOD:PUBLISH
BEGIN:VEVENT
UID:20260420T190431UTC-0342bMPxng@https://fadeu-old.urantiacos.cl/
DTSTAMP:20260420T190431Z
DESCRIPTION:\n'Inspirados por la Naturaleza 3'&nbsp\;se llevar&aacute\; a c
 abo entre los meses de mayo y octubre\, donde diversos expertos expondr&aa
 cute\;n sus experiencias\, visiones y conocimientos sobre temas que van de
 sde las consecuencias del cambio clim&aacute\;tico en Tierra del Fuego\, h
 asta el manejo de &aacute\;reas silvestres protegidas en el pa&iacute\;s\,
  culturas ancestrales precolombinas o la importancia de proteger nuestra b
 iodiversidad terrestre y marina.&nbsp\;\n\nLa segunda de las 4 charlas se 
 dictar&aacute\; el&nbsp\;26 de junio de 2018\, se titula&nbsp\;'&Aacute\;r
 eas Silvestres Protegidas en Chile: &iquest\;Hacia d&oacute\;nde vamos?'.&
 nbsp\;Exponen&nbsp\;Juan Jos&eacute\; Donoso\, del&nbsp\;Ministerio de Med
 io Ambiente de Chile&nbsp\;y&nbsp\;Carolina Morgado\, Directora Ejecutiva 
 de&nbsp\;Tompkins Conservation Chile.\n&nbsp\;\n&nbsp\;\nComo ya es costum
 bre\, al finalizar cada conferencia tendremos la oportunidad de compartir 
 con los expositores mientras disfrutamos de una buena conversaci&oacute\;n
  con amigos y los expositores\, en torno a un buen vino &Eacute\;pica.\n&n
 bsp\;&nbsp\;\n\nFecha 2&ordm\; charla_\nMartes 26 de junio de 2018\, 19.00
  hrs.\n&nbsp\;\nLugar 2&ordm\; charla_\nAuditorio FADEU\, campus Lo Contad
 or. El&nbsp\;Comendador 1916\, Providencia.\n\n&nbsp\;\nOrganiza_\nLadera 
 Sur\n&nbsp\;\nColabora_\nPontificia Universidad Cat&oacute\;lica de Chile
 \nMag&iacute\;ster en Arquitectura del Paisaje UC\n&nbsp\;\nPartner_\nEpic
 a Wines\n&nbsp\;\nMedia Partner_\nEnterreno Chile\n&nbsp\;\nInscripciones_
 Inscripciones al mail&nbsp\;info@laderasur.cl\, especificando que quieres 
 recibir la invitaci&oacute\;n a cada una de las charlas o rellenando el fo
 rmulario en este&nbsp\;link.\n&nbsp\;\nLinks de interes_\nhttps://laderasu
 r.com/estapasando/hoy-lanzamos-el-tercer-ciclo-de-charlas-ladera-sur-mapa-
 uc-2018-inspirados-por-la-naturaleza-3/\n&nbsp\;\n\n&nbsp\;\n\n&nbsp\;\nEv
 ento gratuito abierto a todo p&uacute\;blico\nContacto:&nbsp\;info@laderas
 ur.clwww.arquitectura.uc.cl https://fadeu-old.urantiacos.cl/agenda/evento/
 1583-inspirados-por-la-naturaleza-2018-2
DTSTART:20180626T230000Z
DTEND:20180627T000000Z
LOCATION:Auditorio FADEU\, Campus Lo Contador PUC (El Comendador 1916\, Pro
 videncia\, Providencia\, Región Metropolitana\, Chile)
SUMMARY:'Inspirados por la Naturaleza 2018' #2
URL:https://fadeu-old.urantiacos.cl/agenda/evento/1583-inspirados-por-la-na
 turaleza-2018-2
END:VEVENT
END:VCALENDAR
