BEGIN:VCALENDAR
VERSION:2.0
PRODID:-//https://fadeu-old.urantiacos.cl///NONSGML kigkonsult.se iCalcreator 2.10.15//
METHOD:PUBLISH
BEGIN:VEVENT
UID:20260420T190430UTC-5356kP8dj5@https://fadeu-old.urantiacos.cl/
DTSTAMP:20260420T190430Z
DESCRIPTION:\n\nSe invita a la segunda sesi&oacute\;n '&iquest\;Y nuestras 
 condiciones laborales?'&nbsp\;del nuevo ciclo&nbsp\;'&iquest\;Hacia una Es
 cuela de Arquitectura Com&uacute\;n?'\, a desarrollarse el jueves 28&nbsp\
 ;de junio de 2018\, 13.30 hrs. Exponen&nbsp\;Antonio Lipthay e Ignacio Gar
 c&iacute\;a Partarrieu.\nEl ciclo '&iquest\;Hacia una Escuela de Arquitect
 ura Com&uacute\;n?' es el &uacute\;ltimo impulsado por el&nbsp\;Equipo de 
 Extensi&oacute\;n&nbsp\;durante el primer semestre. Uno de sus objetivos e
 s presentar posiciones cr&iacute\;ticas y transformadoras respecto a temas
  dif&iacute\;ciles en nuestro quehacer\, donde se han instalado una serie 
 de mitos y posiciones que no tienden hacia el bien com&uacute\;n.\nEl cicl
 o atiende a la necesidad de discutir\, entendiendo que el significado y re
 presentaci&oacute\;n de la Escuela frente a muchos temas est&aacute\; a&ua
 cute\;n en obra gruesa y por tanto en disputa. Se compone de 3 fechas:\n#1
  &iquest\;Hacia una arquitectura feminista?Jueves 07 de junio de 2018\, 18
 .30 hrs.&nbsp\;/ Auditorio FCVExponen: Gabriela Garc&iacute\;a de Cort&aac
 ute\;zar y Francisco D&iacute\;az\n#2 &iquest\;Y nuestras condiciones labo
 rales?Jueves 28 de Junio de 2018\, 13.30 hrs. / Sal&oacute\;n Sergio Larra
 &iacute\;n Garc&iacute\;a MorenoExponen: Antonio Lipthay e Ignacio Garc&ia
 cute\;a Partarrieu\n#3 &iquest\;Qu&eacute\; hacemos con el Colegio de Arqu
 itectos?Por confirmar fecha.\nEstudiantes\, profesores y profesionales est
 &aacute\;n cordialmente invitados a sumarse a estas sesiones.\n\nNoticiasC
 ontacto:&nbsp\;redesarq@uc.cl&nbsp\;| +56 2 2354 7747www.arquitectura.uc.c
 l\n\n\n\n\n\n&nbsp\;\n\n\n https://fadeu-old.urantiacos.cl/agenda/evento/1
 593-y-nuestras-condiciones-laborales-antonio-lipthay-ignacio-garcia-partar
 rieu
DTSTART:20180628T173000Z
DTEND:20180628T183000Z
LOCATION:Salón Sergio Larraín\, Campus Lo Contador ()
SUMMARY:¿Y nuestras condiciones laborales? / Antonio Lipthay + Ignacio Garc
 ía Partarrieu
URL:https://fadeu-old.urantiacos.cl/agenda/evento/1593-y-nuestras-condicion
 es-laborales-antonio-lipthay-ignacio-garcia-partarrieu
END:VEVENT
BEGIN:VEVENT
UID:20260420T190430UTC-5363m7PgMp@https://fadeu-old.urantiacos.cl/
DTSTAMP:20260420T190430Z
DESCRIPTION:Jos&eacute\; Manuel Allard\, Director de la Escuela de Dise&nti
 lde\;o UC y&nbsp\;Mar&iacute\;a Ang&eacute\;lica Zegers\, Directora de Edi
 ciones UC\, tienen el agrado de invitar a usted a la presentaci&oacute\;n 
 del libro&nbsp\;Hacer y Componer: Una Introducci&oacute\;n a la Tipograf&i
 acute\;a\, del docente Francisco G&aacute\;lvez.&nbsp\;\n&nbsp\;\nEl lanza
 miento se realizar&aacute\; el pr&oacute\;ximo jueves&nbsp\;28 de junio a 
 las 13.00 hrs. en el Auditorio Fernando Castillo Velasco\,&nbsp\;4to piso 
 Edificio de Arquitectura\, Campus Lo Contador.\n&nbsp\;\n https://fadeu-ol
 d.urantiacos.cl/agenda/evento/1571-lanzamiento-libro-hacer-y-componer-una-
 introduccion-a-la-tipografia-francisco-galvez
DTSTART:20180628T170000Z
DTEND:20180628T180000Z
LOCATION:Salón Sergio Larraín\, Campus Lo Contador ()
SUMMARY:Lanzamiento libro: 'Hacer y componer: Una introducción a la tipogra
 fía' - Francisco Gálvez
URL:https://fadeu-old.urantiacos.cl/agenda/evento/1571-lanzamiento-libro-ha
 cer-y-componer-una-introduccion-a-la-tipografia-francisco-galvez
END:VEVENT
END:VCALENDAR
