BEGIN:VCALENDAR
VERSION:2.0
PRODID:-//https://fadeu-old.urantiacos.cl///NONSGML kigkonsult.se iCalcreator 2.10.15//
METHOD:PUBLISH
BEGIN:VEVENT
UID:20260423T145410UTC-3328L5cFuK@https://fadeu-old.urantiacos.cl/
DTSTAMP:20260423T145410Z
DESCRIPTION:Comenzaron las postulaciones para alumnos que quieran sumarse c
 omo ayudantes de investigaci&oacute\;n y creaci&oacute\;n o presentar proy
 ectos propios en temas que pongan en di&aacute\;logo la propia disciplina 
 con la fe\nBajo este lema\, la Direcci&oacute\;n de Pastoral y Cultura Cri
 stiana en conjunto con la Vicerrector&iacute\;a de Investigaci&oacute\;n\,
  convocan al IV Concurso de Investigaci&oacute\;n y Creaci&oacute\;n para 
 Alumnos\, en las categor&iacute\;as de Ayudant&iacute\;a y Proyecto Propio
 .\nEl per&iacute\;odo de postulaci&oacute\;n\, para participar de esta nue
 va edici&oacute\;n del concurso\, ser&aacute\; desde el 23 de mayo hasta e
 l 29 de junio de 2017. Dicha postulaci&oacute\;n deber&aacute\; realizarse
  en l&iacute\;nea en pastoral.uc.cl/concursoalumnos\n&ldquo\;Hoy invitamos
  a todos los alumnos de la UC a que con valent&iacute\;a salgan a descubri
 r el mundo\, con los pies puestos en la vida universitaria y la mirada en 
 el pa&iacute\;s. Evangelizar desde la investigaci&oacute\;n y la creaci&oa
 cute\;n es una labor clave de la Pastoral UC. Queremos fomentar propuestas
  que pongan en di&aacute\;logo la Fe y la Raz&oacute\;n desde cada discipl
 ina. Por eso\, en conjunto con la VRI financiamos los mejores proyectos de
  alumnos que apuntan a este objetivo&rdquo\; explica Guillermo Tagle\, Dir
 ector de la Pastoral UC.\nEl objetivo de este concurso es incentivar a los
  estudiantes a que contribuyan a la misi&oacute\;n evangelizadora de la Un
 iversidad Cat&oacute\;lica de Chile a trav&eacute\;s de la investigaci&oac
 ute\;n y la creaci&oacute\;n\, participando en proyectos que promuevan el 
 di&aacute\;logo expl&iacute\;cito de la fe con la raz&oacute\;n y la cultu
 ra actual\, con la convicci&oacute\;n que mediante la fe se encuentran res
 puestas m&aacute\;s profundas a las necesidades del hombre contempor&aacut
 e\;neo. Adem&aacute\;s\, esta iniciativa busca potenciar la incorporaci&oa
 cute\;n temprana de alumnos a la actividad acad&eacute\;mica y motivar la 
 vinculaci&oacute\;n de maestros con estudiantes.\nLa convocatoria est&aacu
 te\; abierta para todos aquellos estudiantes de Pregrado de la Pontificia 
 Universidad Cat&oacute\;lica de Chile\, cuyas propuestas presenten una cla
 ra identidad cat&oacute\;lica y que cuenten con el apoyo de un profesor tu
 tor de alguna unidad acad&eacute\;mica.\n&nbsp\;\n https://fadeu-old.urant
 iacos.cl/agenda/evento/1043-cierre-postulaciones-iv-concurso-de-investigac
 ion-y-creacion-para-alumnos-a-descubrir-con-valentia
DTSTART:20170629T040000Z
LOCATION:Todos los campus\, Pontifícia Universidad Católica de Chile (Santi
 ago\, Región Metropolitana\, Chile)
SUMMARY:Cierre postulaciones IV Concurso de Investigación y Creación para A
 lumnos 'A descubrir con valentía”
URL:https://fadeu-old.urantiacos.cl/agenda/evento/1043-cierre-postulaciones
 -iv-concurso-de-investigacion-y-creacion-para-alumnos-a-descubrir-con-vale
 ntia
END:VEVENT
BEGIN:VEVENT
UID:20260423T145410UTC-33365ZIHXh@https://fadeu-old.urantiacos.cl/
DTSTAMP:20260423T145410Z
DESCRIPTION:En la segunda sesi&oacute\;n del ciclo de conferencias organiza
 do por Ladera Sur y el MAPA UC\, Alexis Segovia\, profesor del curso 'Ecos
 istemas Glaciares' del Mag&iacute\;ster en &Aacute\;reas Silvestres de la 
 Universidad de Chile\, Pablo Valenzuela Ingeniero Civil y fot&oacute\;graf
 o especializado en paisajes glaciares\, Carlos Hevia\, arquitecto y monta&
 ntilde\;ista U de Chile y javiera Valencia\, ge&oacute\;grafa UC que traba
 jo en la Fundaci&oacute\;n Tompkins Conservation\, hablar&aacute\;n sobre 
 los glaciares es Chile desde sus respectivas disciplinas.\nInvitanMAPA UCL
 adera SUREnterreno Chile\n&nbsp\;\n&nbsp\;\n\n&nbsp\; https://fadeu-old.ur
 antiacos.cl/agenda/evento/1071-ciclo-inspirados-por-la-naturaleza-glaciare
 s-en-chile
DTSTART:20170628T230000Z
DTEND:20170629T003000Z
LOCATION:Auditorio FADEU\, Campus Lo Contador PUC (El Comendador 1916\, Pro
 videncia\, Providencia\, Región Metropolitana\, Chile)
SUMMARY:Ciclo Inspirados por la Naturaleza: Glaciares en Chile
URL:https://fadeu-old.urantiacos.cl/agenda/evento/1071-ciclo-inspirados-por
 -la-naturaleza-glaciares-en-chile
END:VEVENT
END:VCALENDAR
