BEGIN:VCALENDAR
VERSION:2.0
PRODID:-//https://fadeu-old.urantiacos.cl///NONSGML kigkonsult.se iCalcreator 2.10.15//
METHOD:PUBLISH
BEGIN:VEVENT
UID:20260423T145418UTC-89632viPDb@https://fadeu-old.urantiacos.cl/
DTSTAMP:20260423T145418Z
DESCRIPTION:La Facultad de Arquitectura Dise&ntilde\;o y estudios Urbanos\,
  organiza todos los a&ntilde\;os una exposici&oacute\;n que convoca a aque
 llos proyectos m&aacute\;s significativos realizados al interior de sus un
 idades y Centros de Investigaci&oacute\;n UC. Este a&ntilde\;o la muestra 
 se concentrar&aacute\; en temas relativos al &aacute\;mbito del impacto p&
 uacute\;blico.\nLa Facultad re&uacute\;ne a tres disciplinas que represent
 an tres escalas de intervenci&oacute\;n del entorno construido del hombre\
 , sint&eacute\;ticamente: objeto\, edificio y ciudad. Por esta raz&oacute\
 ;n\, el trabajo interdisciplinario entre ellas\, y con otras disciplinas\,
  le es tan propio. Por ello tambi&eacute\;n\, se tiene la ambici&oacute\;n
  de que su trabajo impacte beneficiosamente en las entidades\, servicios\,
  pol&iacute\;ticas y obras p&uacute\;blicas\, desde el espacio urbano\, ar
 quitect&oacute\;nico hasta experiencia del usuario. Esta genuina aspiraci&
 oacute\;n de la Facultad y de las unidades que la componen\, la ha llevado
  a trabajar en distintos &aacute\;mbitos sociales y pol&iacute\;ticos con 
 el fin de contribuir\, desde la reflexi&oacute\;n cr&iacute\;tica y desde 
 el proyecto\, a un debate que ponga en valor las posibilidades de aportar 
 en las personas\, usuarios y ciudadanos.\n&nbsp\;\nLa exposici&oacute\;n I
 ntervalo 2017: titulada Desde lo P&uacute\;blico\, se inaugura el d&iacute
 \;a mi&eacute\;rcoles 5 de julio a las 18.30hrs. y permanecer&aacute\; abi
 erta desde el 6 al 31 de julio\, de lunes a viernes de 10 a 20hrs\, en la 
 Galer&iacute\;a de Arte del Centro de Extensi&oacute\;n UC\, Alameda 390 (
 entrada liberada).\n&nbsp\;\n&nbsp\; https://fadeu-old.urantiacos.cl/agend
 a/evento/1069-inauguracion-exposicion-intervalo-2017-desde-lo-publico
DTSTART:20170705T223000Z
DTEND:20170706T000000Z
LOCATION:Galería de Arte del Centro de Extensión UC\, Alameda 390 ()
SUMMARY:Inauguración Exposición Intervalo 2017: DESDE LO PÚBLICO
URL:https://fadeu-old.urantiacos.cl/agenda/evento/1069-inauguracion-exposic
 ion-intervalo-2017-desde-lo-publico
END:VEVENT
BEGIN:VEVENT
UID:20260423T145418UTC-8972egNgNV@https://fadeu-old.urantiacos.cl/
DTSTAMP:20260423T145418Z
DESCRIPTION:La Escuela de Dise&ntilde\;o de la Pontif&iacute\;cia Universid
 ad Cat&oacute\;lica\, tiene el agrado de invitar a la quinta versi&oacute\
 ;n del Open Day\, instancia donde los talleres abren sus puertas para exhi
 bir los proyectos realizados por los estudiantes de la Escuela durante el 
 primer semestre de 2017.\n&nbsp\;\nPrograma\n12.00 &ndash\; 12.30 | Inaugu
 raci&oacute\;n: Palabras del Director (Patio Auditorios Norte y Sur)\n12.3
 0 &ndash\; 18.00 | Exhibici&oacute\;n abierta de talleres\n13.00 | Obra de
  Teatro (Taller Ximena Ulibarri)\n14.00 | Demostraci&oacute\;n macro I\n15
 .00 | Demostraci&oacute\;n macro II\n16.00 | Exhibici&oacute\;n audiovisua
 les\n17:00 | Desfile Talleres Textiles\n17.30 | Premiaci&oacute\;n\n18.00 
 | Cierre y premiaci&oacute\;n (Patio de madera)\n19.30 | Fiesta Closing Ni
 ght (CED+Taller Interacci&oacute\;n)\n&nbsp\;\n&nbsp\;\n https://fadeu-old
 .urantiacos.cl/agenda/evento/1073-open-day-diseno-uc
DTSTART:20170705T160000Z
DTEND:20170705T233000Z
LOCATION:Campus Lo Contador (El Comendador 1916\, Providencia\, Providencia
 \, Región Metropolitana\, Chile)
SUMMARY:Open Day Diseño UC
URL:https://fadeu-old.urantiacos.cl/agenda/evento/1073-open-day-diseno-uc
END:VEVENT
END:VCALENDAR
