BEGIN:VCALENDAR
VERSION:2.0
PRODID:-//https://fadeu-old.urantiacos.cl///NONSGML kigkonsult.se iCalcreator 2.10.15//
METHOD:PUBLISH
BEGIN:VEVENT
UID:20260420T000228UTC-0525OKzG6v@https://fadeu-old.urantiacos.cl/
DTSTAMP:20260420T000228Z
DESCRIPTION:Tenemos el agrado de invitarte al lanzamiento de&nbsp\;Dise&nti
 lde\;a 14\, edici&oacute\;n que explora diversos m&eacute\;todos que valid
 an la pr&aacute\;ctica como medio para producir conocimiento. &nbsp\;El la
 nzamiento se realizar&aacute\; en el marco&nbsp\;Open Day de Dise&ntilde\;
 o UC&nbsp\;y contar&aacute\; con la participaci&oacute\;n de los docentes&
 nbsp\;Katherine Mollenhauer\,&nbsp\;Mart&iacute\;n Tironi\,&nbsp\;Paula Wu
 th&nbsp\;y&nbsp\;Ricardo Vega\, quienes junto a los estudiantes&nbsp\;Vani
 a Solis\, Yerko Meneses\, Florencia Orro&ntilde\;o\, Cristian Risco y Mar&
 iacute\;a Cecilia Su&aacute\;rez\,&nbsp\;comentar&aacute\;n algunos de los
  art&iacute\;culos de esta edici&oacute\;n.&nbsp\;\n&nbsp\;\n&nbsp\; https
 ://fadeu-old.urantiacos.cl/agenda/evento/1898-lanzamiento-revista-disena-n
 -14
DTSTART:20190705T200000Z
DTEND:20190705T210000Z
LOCATION:Escuela de Diseño UC\, Campus Lo Contador (El Comendador\, Provide
 ncia\, Providencia\, Región Metropolitana\, Chile)
SUMMARY:Lanzamiento Revista Diseña Nº14
URL:https://fadeu-old.urantiacos.cl/agenda/evento/1898-lanzamiento-revista-
 disena-n-14
END:VEVENT
BEGIN:VEVENT
UID:20260420T000228UTC-0530muDxvB@https://fadeu-old.urantiacos.cl/
DTSTAMP:20260420T000228Z
DESCRIPTION: https://fadeu-old.urantiacos.cl/agenda/evento/1894-9-open-day
DTSTART:20190705T040000Z
LOCATION:Campus Lo Contador (El Comendador 1916\, Providencia\, Providencia
 \, Región Metropolitana\, Chile)
SUMMARY:9º Open Day 
URL:https://fadeu-old.urantiacos.cl/agenda/evento/1894-9-open-day
END:VEVENT
END:VCALENDAR
