BEGIN:VCALENDAR
VERSION:2.0
PRODID:-//https://fadeu-old.urantiacos.cl///NONSGML kigkonsult.se iCalcreator 2.10.15//
METHOD:PUBLISH
BEGIN:VEVENT
UID:20260423T145452UTC-6948su1TW3@https://fadeu-old.urantiacos.cl/
DTSTAMP:20260423T145452Z
DESCRIPTION:Philipp Meuser\, arquitecto y editor general de la editorial al
 emana DOM Publishes realizar&aacute\; conferencia como invitado al Diploma
 do en Patrimonio Cultural de Educaci&oacute\;n Continua UC el pr&oacute\;x
 imo martes 11 en el Auditorio Arquitectura. Philip Meuser ser&aacute\; tam
 bi&eacute\;n parte del workshop que organiza el MArq UC junto a la Archite
 ctural Association Visiting School\, a realizarse en Rapa Nui durante juli
 o.\nM&aacute\;s informaci&oacute\;n aqu&iacute\;&nbsp\; https://fadeu-old.
 urantiacos.cl/agenda/evento/1083-conferencia-philipp-meuser
DTSTART:20170711T223000Z
DTEND:20170711T233000Z
LOCATION:Auditorio Arquitectura UC\, Campus Lo Contador (el comendador 1916
 \, providencia)
SUMMARY:Conferencia Philipp Meuser
URL:https://fadeu-old.urantiacos.cl/agenda/evento/1083-conferencia-philipp-
 meuser
END:VEVENT
END:VCALENDAR
