BEGIN:VCALENDAR
VERSION:2.0
PRODID:-//https://fadeu-old.urantiacos.cl///NONSGML kigkonsult.se iCalcreator 2.10.15//
METHOD:PUBLISH
BEGIN:VEVENT
UID:20260423T145452UTC-5962F2sBuG@https://fadeu-old.urantiacos.cl/
DTSTAMP:20260423T145452Z
DESCRIPTION:Dentro del workshop que organiza el Mag&iacute\;ster en Arquite
 ctura UC y la Architectural Association Visting School\, a efectuarse en R
 apa Nui y Lo Contador durante julio\, se realizar&aacute\; el lanzamiento 
 del libro Space Race Archaeologies\, editado por Pedro Alonso y publicado 
 por DOM Publishers. Philip Meuser\, director de dicha editorial y tutor de
 l workshop Easter Rising\, Petr Antonov y Hugo Palmarola comentar&aacute\;
 n el libro. Para celebrar el evento se organizar&aacute\; un vino de honor
 .\n\n&nbsp\;\n&nbsp\; https://fadeu-old.urantiacos.cl/agenda/evento/1085-l
 anzamiento-libro-space-race-archaeologies
DTSTART:20170712T220000Z
DTEND:20170712T233000Z
LOCATION:Auditorio FADEU\, Campus Lo Contador PUC (El Comendador 1916\, Pro
 videncia\, Providencia\, Región Metropolitana\, Chile)
SUMMARY:Lanzamiento Libro Space Race Archaeologies
URL:https://fadeu-old.urantiacos.cl/agenda/evento/1085-lanzamiento-libro-sp
 ace-race-archaeologies
END:VEVENT
BEGIN:VEVENT
UID:20260423T145452UTC-5971JVpR4F@https://fadeu-old.urantiacos.cl/
DTSTAMP:20260423T145452Z
DESCRIPTION:AA Easter RisingArchitectural Association Visiting School en Is
 la de Pascua &ndash\; Julio 2017\nEn 2017 la Escuela Visitante de la Archi
 tectural Association en Chile tiene como objetivo estudiar desde una persp
 ectiva arquitect&oacute\;nica\, urbana y territorial\, una serie de infrae
 structuras que desde la d&eacute\;cada de 1960 se han instalado en Rapa Nu
 i (Isla de Pascua)\, dada su ubicaci&oacute\;n estrat&eacute\;gica en el O
 c&eacute\;ano Pac&iacute\;fico sur. Dichas infraestructuras comprenden equ
 ipos de seguimiento satelital\, herramientas sismol&oacute\;gicas\, GPS e 
 instrumentos radio-nucleares de detecci&oacute\;n\, las cuales delinearon 
 proyectos tecnol&oacute\;gicos globales al interior de la isla. En particu
 lar\, el workshop centrar&aacute\; su atenci&oacute\;n en la base NASA (ho
 y abandonada)\, y en el Aeropuerto Mataveri: la pista de aterrizaje m&aacu
 te\;s remota del mundo. Esta fue construida por los Estados Unidos en la d
 &eacute\;cada del sesenta y fue posteriormente ampliada por la NASA a prin
 cipio de los a&ntilde\;os ochenta para convertirla en punto de aterrizaje 
 de emergencia de transbordadores espaciales. En oposici&oacute\;n a las as
 ociaciones habituales de aislamiento\, la isla fue un lugar estrat&eacute\
 ;gico en el establecimiento de redes tecnol&oacute\;gicas de escala global
 .\nJunto con apreciar la extraordinaria historia natural y cultural del lu
 gar\, el workshop explorar&aacute\; su rol dentro de las redes de la Guerr
 a Fr&iacute\;a\, asociadas a preocupaciones geopol&iacute\;ticas propias d
 e la &lsquo\;carrera espacial&rsquo\;. De este modo\, se documentar&aacute
 \;n estas infraestructuras para concebir proyectos que apelen a una idea d
 e arqueolog&iacute\;a de la t&eacute\;cnica. Como problema de dise&ntilde\
 ;o\, el taller reflexionar&aacute\; sobre la extensi&oacute\;n de la pista
  de Rapa Nui\, sus alcances pol&iacute\;ticos e ideol&oacute\;gicos\, junt
 o con su repercusi&oacute\;n en la industria del turismo. Discutiremos la 
 relevancia actual de estas redes dentro de proyectos de monitoreo remoto q
 ue hoy en d&iacute\;a cobran importancia debido al calentamiento global y 
 el impacto de las corrientes oce&aacute\;nicas sobre el patrimonio arqueol
 &oacute\;gico de la isla. Nos interesa ampliar la reflexi&oacute\;n sobre 
 c&oacute\;mo\, parad&oacute\;jicamente\, intervenciones aparentemente meno
 res - como la simple ampliaci&oacute\;n del hormig&oacute\;n y asfalto de 
 una pista de aterrizaje &ndash\; pueden producir una &lsquo\;ampliaci&oacu
 te\;n&rsquo\; sustantiva en la conectividad de las redes de infraestructur
 as tecnol&oacute\;gicas y arquitect&oacute\;nicas\, para incluso permitir 
 el aterrizaje de naves espaciales. Se trata de detonar la exploraci&oacute
 \;n de proyectos similares\, que pongan en tensi&oacute\;n la simplicidad 
 de la intervenci&oacute\;n y con repercusiones de alto impacto.\nEl worksh
 op es organizado por la Architectural Association School of Architecture\,
  en colaboraci&oacute\;n con el Museo de Antropolog&iacute\;a P. Sebasti&a
 acute\;n Englert y la Escuela de Arquitectura de la Pontificia Universidad
  Cat&oacute\;lica de Chile. Ser&aacute\; impartido por profesores de la AA
  y la PUC\, quienes dictar&aacute\;n conferencias y seminarios en el marco
  del taller. Este workshop de diez d&iacute\;as estar&aacute\; abierto a e
 studiantes\, reci&eacute\;n egresados\, j&oacute\;venes dise&ntilde\;adore
 s y arquitectos\, as&iacute\; como a profesionales de todo el mundo intere
 sados ​​en la exploraci&oacute\;n de formas alternativas de pr&aacute\;cti
 ca disciplinar\nProfesoresPedro Ignacio Alonso / Hetereki Huke / Philipp M
 euser / Asif Siddiqi / Hugo Palmarola\n+ M&aacute\;s informaci&oacute\;n e
 n www.aaeasterrising.org\nPostulaci&oacute\;nEl proceso de postulaciones p
 ara esta 5&deg\; versi&oacute\;n de la AA Visiting School en Chile se encu
 entra abierto hasta el 3 de marzo de 2017.\nInvitanThe Architectural Assoc
 iation School of ArchitectureMuseo Antropol&oacute\;gico P. Sebasti&aacute
 \;n EnglertEscuela de Arquitectura UC\n&nbsp\;\n https://fadeu-old.urantia
 cos.cl/agenda/evento/397-inicio-workshop-aa-visiting-school-easter-rising
DTSTART:20170712T040000Z
LOCATION:Isla de Pascua\, Región de Valparaíso\, Chile (Isla de Pascua\, Re
 gión de Valparaíso\, Chile)
SUMMARY:Inicio Workshop: AA Visiting School Easter Rising
URL:https://fadeu-old.urantiacos.cl/agenda/evento/397-inicio-workshop-aa-vi
 siting-school-easter-rising
END:VEVENT
END:VCALENDAR
