BEGIN:VCALENDAR
VERSION:2.0
PRODID:-//https://fadeu-old.urantiacos.cl///NONSGML kigkonsult.se iCalcreator 2.10.15//
METHOD:PUBLISH
BEGIN:VEVENT
UID:20260423T145417UTC-897124o6jr@https://fadeu-old.urantiacos.cl/
DTSTAMP:20260423T145417Z
DESCRIPTION:Este mi&eacute\;rcoles 19 de julio se realizar&aacute\; en la F
 acultad de Arquitectura\, Dise&ntilde\;o y Estudios Urbanos. Escuela de Ar
 quitectura Universidad Cat&oacute\;lica. Salon Sergio Larra&iacute\;n el l
 anzamiento de 'Architectural Guide Caracas'\nBasada en buena parte del mat
 erial recopilado en 'Caracas del valle al mar: Gu&iacute\;a de arquitectur
 a y paisaje'\, sus autores han llevado a cabo un importante trabajo de sel
 ecci&oacute\;n y curadur&iacute\;a que junto a las impecables fotograf&iac
 ute\;as de Julio C&eacute\;sar Mesa\, Jorge Andr&eacute\;s Castillo y Dian
 a Dom&iacute\;nguez\, nos permite afirmar que se trata de una obra indepen
 diente\, con un car&aacute\;cter propio. La publicaci&oacute\;n que forma 
 parte de la colecci&oacute\;n de prestigiosas gu&iacute\;as de arquitectur
 a de la casa editorial es la quinta que produce DOM Publishers\, sobre arq
 uitectura latinoamericana.\nLa rese&ntilde\;a del libro se&ntilde\;ala lo 
 siguiente: &ldquo\;Poco se sabe sobre Caracas\, la capital de Venezuela\, 
 que ha sido acosada por una serie de problemas\, entre los que destacan la
 s protestas que se desbordan en los espacios p&uacute\;blicos y los distur
 bios pol&iacute\;ticos violentos. La divisi&oacute\;n profunda de la socie
 dad en pobres y ricos es un rasgo tan com&uacute\;n como los edificios gra
 ndiosos legados por la modernidad. Caracas es ante todo una ciudad de cont
 rastes que se refleja en los contornos del pa&iacute\;s mismo: aunque las 
 reservas de petr&oacute\;leo en Venezuela son las m&aacute\;s grandes del 
 mundo\, m&aacute\;s del 75% de su poblaci&oacute\;n vive por debajo del ni
 vel de pobreza. Esta gu&iacute\;a arquitect&oacute\;nica ilustra as&iacute
 \; la complejidad de una ciudad latinoamericana fundada en 1567 que\, sin 
 embargo\, forja una identidad coherente con la cordillera &Aacute\;vila y 
 la costa\, donde convergen diferentes escalas\, geograf&iacute\;as\, estil
 os arquitect&oacute\;nicos y paisajes naturales y urbanos. Este t&iacute\;
 tulo destaca la historia de la ciudad con referencia a su arquitectura m&a
 acute\;s llamativa que data de aproximadamente 1600 hasta nuestros d&iacut
 e\;as\, incluyendo la Ciudad Universitaria de Caracas\, dise&ntilde\;ada p
 or Carlos Ra&uacute\;l Villanueva entre 1940 y 1960. Se delinean la arquit
 ectura y los espacios urbanos que se encuentran en diez zonas a lo largo d
 e Caracas\, as&iacute\; como los conceptos planteados por arquitectos y ex
 pertos en planificaci&oacute\;n urbana -como Federico Vegas y Mar&iacute\;
 a Isabel Pe&ntilde\;a- en torno a futuras iniciativas que podr&iacute\;an 
 transformar y realzar la ciudad. La gran exposici&oacute\;n que representa
  la arquitectura latinoamericana desde 1945 en el Museo de Arte Moderno de
  Nueva York ha llevado a los arquitectos a centrarse en Am&eacute\;rica La
 tina\, aunque el conocimiento sobre Caracas y Venezuela sigue siendo bajo.
  El arquitecto Bernard Tschumi dijo una vez: 'Las tensiones de larga data 
 entre la urbanizaci&oacute\;n y la naturaleza\, las econom&iacute\;as info
 rmales y formales y las necesidades e intereses de la infraestructura regi
 onal y los barrios locales son ahora m&aacute\;s agudos que nunca'. La cit
 a que se remonta aproximadamente una d&eacute\;cada atr&aacute\;s\, sigue 
 siendo hoy m&aacute\;s relevante que nunca.\nCon vol&uacute\;menes ya publ
 icados sobre Ciudad de M&eacute\;xico\, La Habana\, Chile y Brasil\, los e
 ditores de DOM est&aacute\;n expandiendo la serie de Gu&iacute\;a Arquitec
 t&oacute\;nica cubriendo un destino adicional en la regi&oacute\;n de Am&e
 acute\;rica Latina.&rdquo\; La gu&iacute\;a ser&aacute\; presentada por su
  editor Philipp Meuser\, sus autores y comentada por el profesor Alberto S
 ato.\nISBN:  9783869225791T&iacute\;tulo  Architectural Guide: CaracasAuto
 r es: Iv&aacute\;n Gonz&aacute\;lez Viso y Jos&eacute\; Rosas VeraFotograf
 &iacute\;as: Julio Mesa\, Jorge Andr&eacute\;s Castillo\, Diana Dom&iacute
 \;nguez.Asistencia Editorial: Mar&iacute\;a Isabel Pe&ntilde\;a\, Federico
  Vegas\, Nancy Dembo\, Isabel S&aacute\;nchez\, Sebasti&aacute\;n Monteagu
 do\, Azier Calvo\, Henrique Vera\, Jos&eacute\; Guerra\, Diego Wallis\, Ra
 fael Urbina\, Beatriz Meza\, Blanca Rivero\, Paulina Villanueva.Editorial:
  DOM Publishers &ndash\; Berl&iacute\;nA&ntilde\;o de publicaci&oacute\;n:
   2017Idioma : Ingl&eacute\;s\n&nbsp\;\n\n&nbsp\;Fuente: Plataforma Arquit
 ectura https://fadeu-old.urantiacos.cl/agenda/evento/1079-lanzamiento-arch
 itectural-guide-caracas-en-santiago
DTSTART:20170719T223000Z
DTEND:20170720T000000Z
LOCATION:Salón Sergio Larraín\, Campus Lo Contador ()
SUMMARY:Lanzamiento 'Architectural Guide Caracas' en Santiago
URL:https://fadeu-old.urantiacos.cl/agenda/evento/1079-lanzamiento-architec
 tural-guide-caracas-en-santiago
END:VEVENT
END:VCALENDAR
