BEGIN:VCALENDAR
VERSION:2.0
PRODID:-//https://fadeu-old.urantiacos.cl///NONSGML kigkonsult.se iCalcreator 2.10.15//
METHOD:PUBLISH
BEGIN:VEVENT
UID:20260420T000253UTC-0864WohAdr@https://fadeu-old.urantiacos.cl/
DTSTAMP:20260420T000253Z
DESCRIPTION:Conversatorio | Participaci&oacute\;n Ciudadana y Territorio. N
 uevas aproximaciones desde la planificaci&oacute\;n participativa y el urb
 anismo de base\, a realizarse el viernes 26 de julio a las 13 hrs. en el S
 al&oacute\;n Sergio Larra&iacute\;n\, Campus Lo Contador.\nCupos limitados
 \, inscripciones aqu&iacute\;\nOrganiza: N&uacute\;cleo Participaci&oacute
 \;n y Territorio\, Instituto de Estudios Urbanos y Territoriales UC.\n\n&n
 bsp\; https://fadeu-old.urantiacos.cl/agenda/evento/1903-conversatorio-par
 ticipacion-ciudadana-y-territorio-nuevas-aproximaciones-desde-la-planifica
 cion-participativa-y-el-urbanismo-de-base
DTSTART:20190726T170000Z
DTEND:20190726T180000Z
LOCATION:Salón Sergio Larraín\, Campus Lo Contador ()
SUMMARY: Conversatorio: 'Participación Ciudadana y Territorio. Nuevas aprox
 imaciones desde la planificación participativa y el urbanismo de base'
URL:https://fadeu-old.urantiacos.cl/agenda/evento/1903-conversatorio-partic
 ipacion-ciudadana-y-territorio-nuevas-aproximaciones-desde-la-planificacio
 n-participativa-y-el-urbanismo-de-base
END:VEVENT
BEGIN:VEVENT
UID:20260420T000253UTC-0868lHEfDw@https://fadeu-old.urantiacos.cl/
DTSTAMP:20260420T000253Z
DESCRIPTION:Evento para profesionales de la industria UX en el que se abord
 ar&aacute\;n las necesidades y desaf&iacute\;os de las organizaciones para
  implementar procesos y metodolog&iacute\;as de investigaci&oacute\;n de u
 suario en entornos disruptivos.\nSe trabajar&aacute\; sobre 2 casos de la 
 industria:\n1_ El caso de la aplicaci&oacute\;n MACH y sus procesos de inv
 estigaci&oacute\;n UX para plantear mejoras en su desarrollo.\n2_Presentac
 i&oacute\;n del equipo de UX de la aerol&iacute\;nea LATAM\, con su modelo
  de experimentaci&oacute\;n y procesos poco tradicionales.\nLa jornada fin
 alizar&aacute\; con un panel de conversaci&oacute\;n en el cual los invita
 dos debatir&aacute\;n sobre procesos de investigaci&oacute\;n y recopilaci
 &oacute\;n de informaci&oacute\;n de usuario para mejorar sus plataformas.
 \nExponen:\nCharla Mach\nDaniela Palma UX Lead MACH BCI (Linkedin)Felipe A
 larc&oacute\;n UX Lead MACH BCI (por confirmar cargo)&mdash\;\nCharla Lata
 mRafael Buitrago Osorio Ux Lead LATAM (Linkedin)\n&mdash\;\nPanelMarcela P
 astor UX Lead Laboratorio LATAM (Linkedin)Darcy Vergara UX Lead LATAM (Lin
 kedin)\nDaniela Palma UX Lead MACH BCI (Linkedin)Felipe Alarc&oacute\;n UX
  Lead MACH BCI\n____________________________________________________\nIxDA
  es la Asociaci&oacute\;n de Dise&ntilde\;o de Interacci&oacute\;n y exist
 e desde el a&ntilde\;o 2003. Es una organizaci&oacute\;n internacional con
  m&aacute\;s de 15.000 miembros y m&aacute\;s de 80 grupos locales en todo
  el mundo. Su objetivo es la difusi&oacute\;n de la disciplina del Dise&nt
 ilde\;o de Interacci&oacute\;n basado en un modelo de grupos o cap&iacute\
 ;tulos locales por ciudad. https://fadeu-old.urantiacos.cl/agenda/evento/1
 900-encuentro-ixda-latam
DTSTART:20190725T230000Z
DTEND:20190726T000000Z
LOCATION:Auditorio FADEU\, Campus Lo Contador PUC (El Comendador 1916\, Pro
 videncia\, Providencia\, Región Metropolitana\, Chile)
SUMMARY:Encuentro IxDA LATAM
URL:https://fadeu-old.urantiacos.cl/agenda/evento/1900-encuentro-ixda-latam
END:VEVENT
END:VCALENDAR
