BEGIN:VCALENDAR
VERSION:2.0
PRODID:-//https://fadeu-old.urantiacos.cl///NONSGML kigkonsult.se iCalcreator 2.10.15//
METHOD:PUBLISH
BEGIN:VEVENT
UID:20260423T133940UTC-4975bdiHGk@https://fadeu-old.urantiacos.cl/
DTSTAMP:20260423T133940Z
DESCRIPTION:El 31 de julio\, a contar de las 14:30 hrs.\, se dar&aacute\; i
 nicio al Extreme Environments Inhabitation Workshop con una jornada abiert
 a dedicada a los desaf&iacute\;os de la habitabilidad en territorios extre
 mos y la experiencia de la industria minera en este &aacute\;mbito.\nEl Wo
 rkshop\, por su parte\, se realizar&aacute\; entre el 31 de julio y el 18 
 de agosto en el Desierto de Atacama y el Campus Lo Contador de la Universi
 dad Cat&oacute\;lica\, y tendr&aacute\; como prop&oacute\;sito central el 
 explorar los desaf&iacute\;o de dise&ntilde\;ar asentamientos bajo las con
 diciones del desierto m&aacute\;s &aacute\;rido del mundo\, enfoc&aacute\;
 ndose en el dise&ntilde\;o de procesos para el desarrollo de materiales a 
 partir de recursos nativos.\nFechaLunes 31 de julio de 2017\, 14.30 hrs.\n
 LugarAuditorio Arquitectura\, Campus Lo Contador. El Comendador 1936\, Pro
 videncia\nOrganizaUniversal Projects\, MIT MISTI Chile y PUC\nAuspiciaMIT 
 MISTI Chile y MIT Sloan Latin America\nPatrocinaCentro del Desierto de Ata
 cama UC\, Escuela de Arquitectura MIT y UC.\nM&aacute\;s informaci&oacute\
 ;n aqu&iacute\; &nbsp\;\n https://fadeu-old.urantiacos.cl/agenda/evento/11
 31-opening-day-extreme-environments-inhabitation-workshop
DTSTART:20170731T183000Z
DTEND:20170731T193000Z
LOCATION:Auditorio Arquitectura UC\, Campus Lo Contador (el comendador 1916
 \, providencia)
SUMMARY:Opening Day - Extreme Environments Inhabitation Workshop
URL:https://fadeu-old.urantiacos.cl/agenda/evento/1131-opening-day-extreme-
 environments-inhabitation-workshop
END:VEVENT
BEGIN:VEVENT
UID:20260423T133940UTC-4981VP3AZB@https://fadeu-old.urantiacos.cl/
DTSTAMP:20260423T133940Z
DESCRIPTION:13th International Fab Lab Conference &amp\; SymposiumFabricati
 ng Society - Santiago 2017\nLa Escuela de Dise&ntilde\;o UC en conjunto co
 n Fab Lab Santiago\, el Center For Bits &amp\; Atoms del MIT y la Fab Foun
 dation\, est&aacute\;n organizando el 13th International Fab Lab Conferenc
 e and Symposium\, FAB13\, que se desarrollar&aacute\; la primera semana de
  agosto de este a&ntilde\;o en Santiago\, con el tema Fabricating Society.
 \nEste encuentro re&uacute\;ne a la red internacional de laboratorios de f
 abricaci&oacute\;n digital de mas de 1.200 laboratorios\, atrayendo a m&aa
 cute\;s de 1.000 participantes de todo el mundo\, adem&aacute\;s de cerca 
 de 4.000 asistentes nacionales a las diversas actividades que el encuentro
  propone.\nLa estructura del evento se compone de una Conferencia (4 d&iac
 ute\;as)\, Simposio (1 d&iacute\;a) y Festival (2 d&iacute\;as durante el 
 fin de semana)\, donde se realizar&aacute\;n ponencias\, paneles de conver
 saci&oacute\;n\, talleres\, demostraciones y exposiciones de proyectos.\nL
 a Conferencia y Simposio ser&aacute\;n en el Centro de Extensi&oacute\;n U
 C y la Feria/Festival\, abierto a p&uacute\;blico\, se realizar&aacute\; e
 n el GAM Centro Cultural Gabriela Mistral.\nPostulacionesA trav&eacute\;s 
 del sitio web se pueden realizar las postulaciones para presentar papers o
  proyectos especiales\, presentaciones generales\, desarrollar talleres\, 
 actividades especiales y voluntariado para estudiantes.\nPrecio entradas&n
 bsp\;Conferencia y Simposio: $USD 500Feria/Festival: abierto a p&uacute\;b
 lico\nM&aacute\;s informacionesPagina oficial del evento&nbsp\;fab13.fabev
 ent.org\nOrganizanEscuela de Dise&ntilde\;o UCFab Lab SantiagoCenter for B
 its &amp\; Atoms - MITFab Foundation\nPatrocinanMinisterio de Econom&iacut
 e\;aCORFOConsejo Nacional de la Cultura y las ArtesFundaci&oacute\;n Vivie
 ndaFab CityProChileFabLatRed Chilena de Plataformas de Fabricaci&oacute\;n
  Digital\n&nbsp\;\n\n&nbsp\; https://fadeu-old.urantiacos.cl/agenda/evento
 /969-13th-international-fab-lab-conference-symposium
DTSTART:20170731T130000Z
DTEND:20170731T230000Z
LOCATION:Centro de Extensión UC (Av Libertador Bernardo O'Higgins 390\, San
 tiago\, Región Metropolitana\, Chile)
SUMMARY:13th International Fab Lab Conference & Symposium
URL:https://fadeu-old.urantiacos.cl/agenda/evento/969-13th-international-fa
 b-lab-conference-symposium
END:VEVENT
BEGIN:VEVENT
UID:20260423T133940UTC-4994Vrv5ON@https://fadeu-old.urantiacos.cl/
DTSTAMP:20260423T133940Z
DESCRIPTION:Jefe de programa:Zinnia Silva\n37 horas pedag&oacute\;gicas\nEl
  manejo de este programa permite al usuario un desarrollo y manejo de proy
 ectos completos\, a trav&eacute\;s del uso de los comandos del programa co
 mputacional Autocad 2017.\nEl manejo de este programa permite al usuario u
 n desarrollo y manejo de proyectos completos\, a trav&eacute\;s del uso de
  los comandos del programa computacional Autocad 2017\, desde el inicio ha
 sta su representaci&oacute\;n digital.\nM&aacute\;s informaci&oacute\;n aq
 u&iacute\;&nbsp\;\n&nbsp\; https://fadeu-old.urantiacos.cl/agenda/evento/1
 089-inicio-curso-de-autocad
DTSTART:20170731T040000Z
LOCATION:Escuela de Diseño UC\, Campus Lo Contador (El Comendador\, Provide
 ncia\, Providencia\, Región Metropolitana\, Chile)
SUMMARY:Inicio Curso de Autocad
URL:https://fadeu-old.urantiacos.cl/agenda/evento/1089-inicio-curso-de-auto
 cad
END:VEVENT
END:VCALENDAR
