BEGIN:VCALENDAR
VERSION:2.0
PRODID:-//https://fadeu-old.urantiacos.cl///NONSGML kigkonsult.se iCalcreator 2.10.15//
METHOD:PUBLISH
BEGIN:VEVENT
UID:20260419T222543UTC-8485aS7ce5@https://fadeu-old.urantiacos.cl/
DTSTAMP:20260419T222543Z
DESCRIPTION:Peter Davis\nProfesor em&eacute\;rito de la Universidad de Newc
 astle\, donde particip&oacute\; en la fundaci&oacute\;n del mag&iacute\;st
 er en Estudios de Museos y del Centro Internacional de Estudios Culturales
  y Patrimoniales. Sus principales &aacute\;reas de estudio son los ecomuse
 os\, el rol de las comunidades locales en las definiciones patrimoniales y
  los v&iacute\;nculos entre patrimonio y lugar.+ Revisa el programa aqu&ia
 cute\;. https://fadeu-old.urantiacos.cl/agenda/evento/1915-charla-magistra
 l-de-peter-davis-lugares-personas-patrimonio
DTSTART:20190731T220000Z
DTEND:20190731T233000Z
LOCATION:Auditorio FADEU\, Campus Lo Contador PUC (El Comendador 1916\, Pro
 videncia\, Providencia\, Región Metropolitana\, Chile)
SUMMARY:Charla Magistral de Peter Davis: “Lugares\, personas\, patrimonio”
URL:https://fadeu-old.urantiacos.cl/agenda/evento/1915-charla-magistral-de-
 peter-davis-lugares-personas-patrimonio
END:VEVENT
END:VCALENDAR
