BEGIN:VCALENDAR
VERSION:2.0
PRODID:-//https://fadeu-old.urantiacos.cl///NONSGML kigkonsult.se iCalcreator 2.10.15//
METHOD:PUBLISH
BEGIN:VEVENT
UID:20260423T133853UTC-1911izECMt@https://fadeu-old.urantiacos.cl/
DTSTAMP:20260423T133853Z
DESCRIPTION:13th International Fab Lab Conference &amp\; SymposiumFabricati
 ng Society - Santiago 2017\nLa Escuela de Dise&ntilde\;o UC en conjunto co
 n Fab Lab Santiago\, el Center For Bits &amp\; Atoms del MIT y la Fab Foun
 dation\, est&aacute\;n organizando el 13th International Fab Lab Conferenc
 e and Symposium\, FAB13\, que se desarrollar&aacute\; la primera semana de
  agosto de este a&ntilde\;o en Santiago\, con el tema Fabricating Society.
 \nEste encuentro re&uacute\;ne a la red internacional de laboratorios de f
 abricaci&oacute\;n digital de mas de 1.200 laboratorios\, atrayendo a m&aa
 cute\;s de 1.000 participantes de todo el mundo\, adem&aacute\;s de cerca 
 de 4.000 asistentes nacionales a las diversas actividades que el encuentro
  propone.\nLa estructura del evento se compone de una Conferencia (4 d&iac
 ute\;as)\, Simposio (1 d&iacute\;a) y Festival (2 d&iacute\;as durante el 
 fin de semana)\, donde se realizar&aacute\;n ponencias\, paneles de conver
 saci&oacute\;n\, talleres\, demostraciones y exposiciones de proyectos.\nL
 a Conferencia y Simposio ser&aacute\;n en el Centro de Extensi&oacute\;n U
 C y la Feria/Festival\, abierto a p&uacute\;blico\, se realizar&aacute\; e
 n el GAM Centro Cultural Gabriela Mistral.\nPostulacionesA trav&eacute\;s 
 del sitio web se pueden realizar las postulaciones para presentar papers o
  proyectos especiales\, presentaciones generales\, desarrollar talleres\, 
 actividades especiales y voluntariado para estudiantes.\nPrecio entradas&n
 bsp\;Conferencia y Simposio: $USD 500Feria/Festival: abierto a p&uacute\;b
 lico\nM&aacute\;s informacionesPagina oficial del evento&nbsp\;fab13.fabev
 ent.org\nOrganizanEscuela de Dise&ntilde\;o UCFab Lab SantiagoCenter for B
 its &amp\; Atoms - MITFab Foundation\nPatrocinanMinisterio de Econom&iacut
 e\;aCORFOConsejo Nacional de la Cultura y las ArtesFundaci&oacute\;n Vivie
 ndaFab CityProChileFabLatRed Chilena de Plataformas de Fabricaci&oacute\;n
  Digital\n&nbsp\;\n\n&nbsp\; https://fadeu-old.urantiacos.cl/agenda/evento
 /971-13th-international-fab-lab-conference-symposium
DTSTART:20170801T130000Z
DTEND:20170801T230000Z
LOCATION:Centro de Extensión UC (Av Libertador Bernardo O'Higgins 390\, San
 tiago\, Región Metropolitana\, Chile)
SUMMARY:13th International Fab Lab Conference & Symposium
URL:https://fadeu-old.urantiacos.cl/agenda/evento/971-13th-international-fa
 b-lab-conference-symposium
END:VEVENT
BEGIN:VEVENT
UID:20260423T133853UTC-1919VLuFpM@https://fadeu-old.urantiacos.cl/
DTSTAMP:20260423T133853Z
DESCRIPTION:Jefe de programa:Juan Pablo Swinburn Fontaine45 horas pedag&oac
 ute\;gicas\nLa carpinter&iacute\;a en madera en nuestro pa&iacute\;s es un
  recurso que fue dominado por maestros y mueblistas\, pero que hoy en d&ia
 cute\;a es cada vez m&aacute\;s dif&iacute\;cil de encontrardebido a los n
 uevos procesos productivos industriales\, la tecnificaci&oacute\;n y expor
 taci&oacute\;n de productos.&nbsp\;Este taller tiene como fin entregar con
 ocimientos que en otros pa&iacute\;ses son altamente valorados y relevante
 s\, pero que cada vez son m&aacute\;s escasos en nuestro medio. Junto con 
 breves clases te&oacute\;ricas se desarrollara una metodolog&iacute\;a de 
 trabajo constructivaque entregar&aacute\; conocimiento sobre las maquinari
 as\, el material y los procesos de elaboraci&oacute\;n para poder desarrol
 lar un proyecto personal. De este modo cada estudiante podr&aacute\; resol
 ver una problem&aacute\;tica de forma pr&aacute\;ctica con un con conocimi
 ento aplicado a un resultado definido.\nM&aacute\;s informaci&oacute\;n aq
 u&iacute\;&nbsp\; https://fadeu-old.urantiacos.cl/agenda/evento/1091-intro
 duccion-a-la-carpinteria-en-madera
DTSTART:20170801T040000Z
LOCATION:Escuela de Diseño UC\, Campus Lo Contador (El Comendador\, Provide
 ncia\, Providencia\, Región Metropolitana\, Chile)
SUMMARY:Introducción a la Carpintería en Madera
URL:https://fadeu-old.urantiacos.cl/agenda/evento/1091-introduccion-a-la-ca
 rpinteria-en-madera
END:VEVENT
END:VCALENDAR
