BEGIN:VCALENDAR
VERSION:2.0
PRODID:-//https://fadeu-old.urantiacos.cl///NONSGML kigkonsult.se iCalcreator 2.10.15//
METHOD:PUBLISH
BEGIN:VEVENT
UID:20260420T173458UTC-1483M99aXE@https://fadeu-old.urantiacos.cl/
DTSTAMP:20260420T173458Z
DESCRIPTION:\n\nSeminario Inaugural Diplomado de Pol&iacute\;ticas de Vivie
 nda y Ciudad\nConferencistas_Paulina Saball:&nbsp\;Ex-ministra de vivienda
  y urbanismoDaniel Jadue:&nbsp\;actual alcalde por la comuna de RecoletaDa
 niel Johnson:&nbsp\;director ejecutivo de fundaci&oacute\;n Paz Ciudadana
 \nEn el marco del&nbsp\;nuevo Diplomado en Pol&iacute\;ticas de Vivienda\,
  que comienza en Agosto de 2018\, es que los queremos invitar a participar
  de su Seminario Inaugural el&nbsp\;1 de Agosto a las 18:30 en el Auditori
 o Fernando Castillo Velasco. Para dicho encuentro contaremos con la presen
 cia de la Ex Ministra de Vivienda y Urbanismo Paulina Saball\, el actual a
 lcalde de Recoleta Daniel Jadue y el director ejecutivo de la fundaci&oacu
 te\;n Paz Ciudadana Daniel Johnson.\nEl nuevo Diplomado de Pol&iacute\;tic
 as de Vivienda y Ciudad busca ser un espacio de discusi&oacute\;n interdis
 ciplinaria que entregue herramientas para comprender las pol&iacute\;ticas
  de vivienda desde puntos de vista hist&oacute\;ricos\, econ&oacute\;micos
 \, sociales\, culturales y t&eacute\;cnicos. Adem&aacute\;s es un espacio 
 de experimentaci&oacute\;n\, gesti&oacute\;n y proyecci&oacute\;n de nuevo
 s paradigmas habitacionales y urbanos para enfrentar los desaf&iacute\;os 
 actuales de las ciudades chilenas.\nInscripciones&nbsp\;para el seminario:
 &nbsp\;keilagodoy@uc.clPara mayor informaci&oacute\;n del diplomado:&nbsp\
 ;shakti@uc.cl\nFecha_Mi&eacute\;rcoles 1 de Agosto de 2018\, 18.30 hrs.\nL
 ugar_Auditorio Fernando Castillo Velasco\, El Comendador 1936\, Providenci
 a.\nInvitan_Instituto de Estudios Urbanos y Territoriales UCEscuela de Arq
 uitectura UC&nbsp\;\n\n&nbsp\; https://fadeu-old.urantiacos.cl/agenda/even
 to/1615-seminario-inaugural-diplomado-de-politicas-de-vivienda-y-ciudad
DTSTART:20180801T223000Z
DTEND:20180801T233000Z
LOCATION:Auditorio Fernando Castillo Velasco. Edificio ARQ (El Comendador 1
 936\, Providencia\, Región Metropolitana\, Chile)
SUMMARY:Seminario Inaugural Diplomado de Políticas de Vivienda y Ciudad
URL:https://fadeu-old.urantiacos.cl/agenda/evento/1615-seminario-inaugural-
 diplomado-de-politicas-de-vivienda-y-ciudad
END:VEVENT
END:VCALENDAR
