BEGIN:VCALENDAR
VERSION:2.0
PRODID:-//https://fadeu-old.urantiacos.cl///NONSGML kigkonsult.se iCalcreator 2.10.15//
METHOD:PUBLISH
BEGIN:VEVENT
UID:20260423T134320UTC-8210J8vsF0@https://fadeu-old.urantiacos.cl/
DTSTAMP:20260423T134320Z
DESCRIPTION:El 2 de agosto se realizar&aacute\; el lanzamiento del segundo 
 tomo del libro ''Arquitectura en el Chile del Siglo XX''\, s&iacute\;ntesi
 s de un largo trabajo de investigaci&oacute\;n del arquitecto y acad&eacut
 e\;mico Fernando P&eacute\;rez Oyarz&uacute\;n\, que en esta ocasi&oacute\
 ;n cuenta con la colaboraci&oacute\;n de Horacio Torrent\, Claudio V&aacut
 e\;squez y Hugo Palmarola. Los cuatro vol&uacute\;menes que conforman la s
 erie proponen una narrativa acerca de la arquitectura y las ciudades en Ch
 ile durante el siglo pasado.\nModernizaci&oacute\;n y Vanguardia\, 1930 y 
 1950\, propone una lectura de los principales hitos\, tendencias y actores
 \, as&iacute\; como del entorno pol&iacute\;tico econ&oacute\;mico y cultu
 ral del per&iacute\;odo que cubre desde el fin del primer gobierno de Carl
 os Ib&aacute\;&ntilde\;ez hasta el comienzo del segundo\, esto es el fin d
 e la presidencia de Gabriel Gonz&aacute\;lez Videla.\n&Eacute\;stas d&eacu
 te\;cadas est&aacute\;n marcadas por los a&ntilde\;os del Frente Popular\,
  uno de los fen&oacute\;menos pol&iacute\;ticos centrales del Chile del si
 glo xx\, fuertemente determinada por las demandas sociales del per&iacute\
 ;odo\, el esfuerzo por desarrollar la industria y una fuerte presencia del
  Estado que se prolongar&iacute\;a en las d&eacute\;cadas siguientes. El r
 elato busca poner los hechos vinculados a la arquitectura\, entendida en u
 n sentido amplio que incluye la ciudad y el territorio\, contra el tel&oac
 ute\;n de fondo de la historia pol&iacute\;tica y cultural del per&iacute\
 ;odo.\nSe ruega confirmar asistencia a: lvillarr(at)uc.cl\nFecha: mi&eacut
 e\;rcoles 2 de agosto de 2017Hora: 18.30 hrs.\nLugar:Auditorio FADEU\, Cam
 pus Lo Contador. El Comendador 1916\, Providencia\nInvitan:Escuela de Arqu
 itectura UCEdiciones ARQ\n https://fadeu-old.urantiacos.cl/agenda/evento/1
 121-arquitectura-en-chile-del-siglo-xx
DTSTART:20170802T223000Z
DTEND:20170802T233000Z
LOCATION:Auditorio FADEU (Auditorio FADEU)
SUMMARY:Arquitectura en Chile del Siglo XX
URL:https://fadeu-old.urantiacos.cl/agenda/evento/1121-arquitectura-en-chil
 e-del-siglo-xx
END:VEVENT
BEGIN:VEVENT
UID:20260423T134320UTC-8217sauinc@https://fadeu-old.urantiacos.cl/
DTSTAMP:20260423T134320Z
DESCRIPTION:13th International Fab Lab Conference &amp\; SymposiumFabricati
 ng Society - Santiago 2017\nLa Escuela de Dise&ntilde\;o UC en conjunto co
 n Fab Lab Santiago\, el Center For Bits &amp\; Atoms del MIT y la Fab Foun
 dation\, est&aacute\;n organizando el 13th International Fab Lab Conferenc
 e and Symposium\, FAB13\, que se desarrollar&aacute\; la primera semana de
  agosto de este a&ntilde\;o en Santiago\, con el tema Fabricating Society.
 \nEste encuentro re&uacute\;ne a la red internacional de laboratorios de f
 abricaci&oacute\;n digital de mas de 1.200 laboratorios\, atrayendo a m&aa
 cute\;s de 1.000 participantes de todo el mundo\, adem&aacute\;s de cerca 
 de 4.000 asistentes nacionales a las diversas actividades que el encuentro
  propone.\nLa estructura del evento se compone de una Conferencia (4 d&iac
 ute\;as)\, Simposio (1 d&iacute\;a) y Festival (2 d&iacute\;as durante el 
 fin de semana)\, donde se realizar&aacute\;n ponencias\, paneles de conver
 saci&oacute\;n\, talleres\, demostraciones y exposiciones de proyectos.\nL
 a Conferencia y Simposio ser&aacute\;n en el Centro de Extensi&oacute\;n U
 C y la Feria/Festival\, abierto a p&uacute\;blico\, se realizar&aacute\; e
 n el GAM Centro Cultural Gabriela Mistral.\nPostulacionesA trav&eacute\;s 
 del sitio web se pueden realizar las postulaciones para presentar papers o
  proyectos especiales\, presentaciones generales\, desarrollar talleres\, 
 actividades especiales y voluntariado para estudiantes.\nPrecio entradas&n
 bsp\;Conferencia y Simposio: $USD 500Feria/Festival: abierto a p&uacute\;b
 lico\nM&aacute\;s informacionesPagina oficial del evento&nbsp\;fab13.fabev
 ent.org\nOrganizanEscuela de Dise&ntilde\;o UCFab Lab SantiagoCenter for B
 its &amp\; Atoms - MITFab Foundation\nPatrocinanMinisterio de Econom&iacut
 e\;aCORFOConsejo Nacional de la Cultura y las ArtesFundaci&oacute\;n Vivie
 ndaFab CityProChileFabLatRed Chilena de Plataformas de Fabricaci&oacute\;n
  Digital\n&nbsp\;\n\n&nbsp\; https://fadeu-old.urantiacos.cl/agenda/evento
 /973-13th-international-fab-lab-conference-symposium
DTSTART:20170802T130000Z
DTEND:20170802T230000Z
LOCATION:Centro de Extensión UC (Av Libertador Bernardo O'Higgins 390\, San
 tiago\, Región Metropolitana\, Chile)
SUMMARY:13th International Fab Lab Conference & Symposium
URL:https://fadeu-old.urantiacos.cl/agenda/evento/973-13th-international-fa
 b-lab-conference-symposium
END:VEVENT
BEGIN:VEVENT
UID:20260423T134320UTC-8224Fv2XCZ@https://fadeu-old.urantiacos.cl/
DTSTAMP:20260423T134320Z
DESCRIPTION:Jefe de programa:Ricardo Vega M.102 horas pedag&oacute\;gicas\n
 Descripci&oacute\;nEl presente Diplomado en Visualizaci&oacute\;n de Datos
  busca introducir a los alumnos en las estrategias de visualizaci&oacute\;
 n que permitan transformar datos en conocimiento\, entendiendo sus proceso
 s y modelos\, as&iacute\; como los diversos aspectos t&eacute\;cnicos y de
  comunicaci&oacute\;n involucrados. Al final del curso los alumnos habr&aa
 cute\;n adquirido herramientas t&eacute\;cnicas\, conceptuales y metodol&o
 acute\;gicas fundamentales que les permitir&aacute\;n analizar\, proponer 
 y desarrollar proyectos de visualizaci&oacute\;n de datos m&aacute\;s adec
 uados a los objetivos planteados.\n&nbsp\;\n+ m&aacute\;s informaci&oacute
 \;n aqu&iacute\;\n&nbsp\; https://fadeu-old.urantiacos.cl/agenda/evento/10
 97-diplomado-en-visualizacion-de-datos
DTSTART:20170802T040000Z
LOCATION:Escuela de Diseño UC\, Campus Lo Contador (El Comendador\, Provide
 ncia\, Providencia\, Región Metropolitana\, Chile)
SUMMARY:Diplomado en Visualización de Datos
URL:https://fadeu-old.urantiacos.cl/agenda/evento/1097-diplomado-en-visuali
 zacion-de-datos
END:VEVENT
END:VCALENDAR
