BEGIN:VCALENDAR
VERSION:2.0
PRODID:-//https://fadeu-old.urantiacos.cl///NONSGML kigkonsult.se iCalcreator 2.10.15//
METHOD:PUBLISH
BEGIN:VEVENT
UID:20260419T222425UTC-6077OuRPCw@https://fadeu-old.urantiacos.cl/
DTSTAMP:20260419T222425Z
DESCRIPTION:Programaci&oacute\;n del Evento:\n\n\nFecha:&nbsp\;02 de agosto
 \, 2019Horario:&nbsp\;8/3/19 15:00 a hrs.Lugar:&nbsp\;Sala L&aacute\;mpara
 \, Campus Lo Contador\nFecha:&nbsp\;03 de agosto\, 2019Horario:&nbsp\;Todo
  el d&iacute\;aLugar:&nbsp\;Sala L&aacute\;mpara\, Campus Lo Contador\nFec
 ha:&nbsp\;04 de agosto\, 2019Horario:&nbsp\;Todo el d&iacute\;aLugar:&nbsp
 \;Sala L&aacute\;mpara\, Campus Lo Contador\n\n\nLugar:&nbsp\;Campus Lo Co
 ntador\, El Comendador 1916\, Providencia.\n\nDesde el&nbsp\;pr&oacute\;xi
 mo 2 hasta el 4 de agosto&nbsp\;se realizar&aacute\; en el campus Lo Conta
 dor el evento&nbsp\;Game Jam+\, la copa mundial del desarrollo de videojue
 gos.\nGame&nbsp\;Jam+&nbsp\;es un evento internacional que convoca a artis
 tas\, m&uacute\;sicos\, programadores y dise&ntilde\;adores nacional para 
 la generaci&oacute\;n de ideas de videojuegos. En esta actividad inmersiva
  con duraci&oacute\;n de tres d&iacute\;as\, los participantes desarrollan
  sus propuestas de videojuegos\, componen el material audiovisual y la pro
 gramaci&oacute\;n necesaria para la presentaci&oacute\;n de sus prototipos
  funcionales basados en la tem&aacute\;tica global entregada por la organi
 zaci&oacute\;n.\nGame Jam+&nbsp\;promueve la transferencia de las iniciati
 vas generadas en los eventos alrededor del mundo por medio de la presentac
 i&oacute\;n de estrategias de marketing y planes de negocio que son enfren
 tados a inversionistas y publishers de las grandes compa&ntilde\;&iacute\;
 as\nOrganizado en Chile por Game Dev UC y ECCCO\, el espacio de Educaci&oa
 cute\;n y Divulgaci&oacute\;n Cient&iacute\;fica de la Escuela de Dise&nti
 lde\;o\, liderado por el acad&eacute\;mico Alejandro Dur&aacute\;n\, cuent
 a con el apoyo de la&nbsp\;Escuela de Dise&ntilde\;o UC\, la fundaci&oacut
 e\;n Encuentros del Futuro y Chile Creativo\, el&nbsp\;Programa Estrat&eac
 ute\;gico Nacional&nbsp\;de Econom&iacute\;a Creativa de Corfo.\n&nbsp\;\n
 \n https://fadeu-old.urantiacos.cl/agenda/evento/1910-gamejam
DTSTART:20190802T040000Z
LOCATION:Sala Lámpara\, Escuela de Diseño\, Campus Lo Contador (El Comendad
 or 1912-1974\, Providencia\, Región Metropolitana\, Chile)
SUMMARY:GameJam+
URL:https://fadeu-old.urantiacos.cl/agenda/evento/1910-gamejam
END:VEVENT
END:VCALENDAR
