BEGIN:VCALENDAR
VERSION:2.0
PRODID:-//https://fadeu-old.urantiacos.cl///NONSGML kigkonsult.se iCalcreator 2.10.15//
METHOD:PUBLISH
BEGIN:VEVENT
UID:20260423T133407UTC-6189flZFJl@https://fadeu-old.urantiacos.cl/
DTSTAMP:20260423T133407Z
DESCRIPTION:Conferencia Inaugural Talleres de Ejercitaci&oacute\;nJuan Baix
 as\nAl inicio de cada semestre\, profesores de la Escuela de Arquitectura 
 UC realizan una serie clases magistrales que inauguran el semestre acad&ea
 cute\;mico de cada uno de los ciclos de talleres de nuestra carrera. Para 
 el 2&deg\; semestre de 2017 la conferencia de Talleres de Ejercitaci&oacut
 e\;n ser&aacute\; realizada por Juan Baixas.\nFecha_Jueves 03 de agosto de
  2017\, 15:30 hrs\nLugar_Auditorio FADEU\, Campus Lo Contador. El Comendad
 or 1916\, Providencia\nInvitan_Escuela de Arquitectura UC https://fadeu-ol
 d.urantiacos.cl/agenda/evento/1133-conferencia-inaugural-talleres-de-ejerc
 itacion
DTSTART:20170803T193000Z
DTEND:20170803T203000Z
LOCATION:Auditorio FADEU\, Campus Lo Contador PUC (El Comendador 1916\, Pro
 videncia\, Providencia\, Región Metropolitana\, Chile)
SUMMARY:Conferencia Inaugural Talleres de Ejercitación
URL:https://fadeu-old.urantiacos.cl/agenda/evento/1133-conferencia-inaugura
 l-talleres-de-ejercitacion
END:VEVENT
BEGIN:VEVENT
UID:20260423T133407UTC-61949uC1V0@https://fadeu-old.urantiacos.cl/
DTSTAMP:20260423T133407Z
DESCRIPTION:Joaqu&iacute\;n Bara&ntilde\;ao presentar&aacute\; 'Historia Fr
 eak de las Ciudades' en el contexto del curso 'Vivienda como Proyecto Urba
 no-Social' que dicta el profesor Jos&eacute\; di Girolamo en el Magister e
 n Proyecto Urbano UC.\nJoaqu&iacute\;n Bara&ntilde\;ao es ingeniero civil 
 hidr&aacute\;ulico de la UC\, pero al poco andar descubri&oacute\; que lo 
 suyo no eran los n&uacute\;meros. Lleva trece a&ntilde\;os curando www.dat
 osfreak.org y en base a los m&aacute\;s de 3000 datos recolectados a la fe
 cha ha escrito los exitosos libros 'Historia Universal Freak'\, 'Historia 
 Freak de la M&uacute\;sica' e 'Historia Freak del F&uacute\;tbol'. Y pront
 o vendr&aacute\;n m&aacute\;s.\nFecha_Jueves 03 de Agosto de 2016. 15.30 h
 rs\nLugar_Sala 36\, 2&deg\;piso Casona Lo Contador. El Comendador 1916\, P
 rovidencia\nInvitan_Mag&iacute\;ster en Proyecto Urbano\n https://fadeu-ol
 d.urantiacos.cl/agenda/evento/1135-clase-abierta-historia-freak-de-las-ciu
 dades
DTSTART:20170803T193000Z
DTEND:20170803T203000Z
LOCATION:Auditorio FADEU\, Campus Lo Contador PUC (El Comendador 1916\, Pro
 videncia\, Providencia\, Región Metropolitana\, Chile)
SUMMARY:Clase Abierta: Historia Freak de las Ciudades
URL:https://fadeu-old.urantiacos.cl/agenda/evento/1135-clase-abierta-histor
 ia-freak-de-las-ciudades
END:VEVENT
BEGIN:VEVENT
UID:20260423T133407UTC-6198k8CVub@https://fadeu-old.urantiacos.cl/
DTSTAMP:20260423T133407Z
DESCRIPTION:13th International Fab Lab Conference &amp\; SymposiumFabricati
 ng Society - Santiago 2017\nLa Escuela de Dise&ntilde\;o UC en conjunto co
 n Fab Lab Santiago\, el Center For Bits &amp\; Atoms del MIT y la Fab Foun
 dation\, est&aacute\;n organizando el 13th International Fab Lab Conferenc
 e and Symposium\, FAB13\, que se desarrollar&aacute\; la primera semana de
  agosto de este a&ntilde\;o en Santiago\, con el tema Fabricating Society.
 \nEste encuentro re&uacute\;ne a la red internacional de laboratorios de f
 abricaci&oacute\;n digital de mas de 1.200 laboratorios\, atrayendo a m&aa
 cute\;s de 1.000 participantes de todo el mundo\, adem&aacute\;s de cerca 
 de 4.000 asistentes nacionales a las diversas actividades que el encuentro
  propone.\nLa estructura del evento se compone de una Conferencia (4 d&iac
 ute\;as)\, Simposio (1 d&iacute\;a) y Festival (2 d&iacute\;as durante el 
 fin de semana)\, donde se realizar&aacute\;n ponencias\, paneles de conver
 saci&oacute\;n\, talleres\, demostraciones y exposiciones de proyectos.\nL
 a Conferencia y Simposio ser&aacute\;n en el Centro de Extensi&oacute\;n U
 C y la Feria/Festival\, abierto a p&uacute\;blico\, se realizar&aacute\; e
 n el GAM Centro Cultural Gabriela Mistral.\nPostulacionesA trav&eacute\;s 
 del sitio web se pueden realizar las postulaciones para presentar papers o
  proyectos especiales\, presentaciones generales\, desarrollar talleres\, 
 actividades especiales y voluntariado para estudiantes.\nPrecio entradas&n
 bsp\;Conferencia y Simposio: $USD 500Feria/Festival: abierto a p&uacute\;b
 lico\nM&aacute\;s informacionesPagina oficial del evento&nbsp\;fab13.fabev
 ent.org\nOrganizanEscuela de Dise&ntilde\;o UCFab Lab SantiagoCenter for B
 its &amp\; Atoms - MITFab Foundation\nPatrocinanMinisterio de Econom&iacut
 e\;aCORFOConsejo Nacional de la Cultura y las ArtesFundaci&oacute\;n Vivie
 ndaFab CityProChileFabLatRed Chilena de Plataformas de Fabricaci&oacute\;n
  Digital\n&nbsp\;\n\n&nbsp\; https://fadeu-old.urantiacos.cl/agenda/evento
 /975-13th-international-fab-lab-conference-symposium
DTSTART:20170803T130000Z
DTEND:20170803T230000Z
LOCATION:Centro de Extensión UC (Av Libertador Bernardo O'Higgins 390\, San
 tiago\, Región Metropolitana\, Chile)
SUMMARY:13th International Fab Lab Conference & Symposium
URL:https://fadeu-old.urantiacos.cl/agenda/evento/975-13th-international-fa
 b-lab-conference-symposium
END:VEVENT
BEGIN:VEVENT
UID:20260423T133407UTC-62058ubdup@https://fadeu-old.urantiacos.cl/
DTSTAMP:20260423T133407Z
DESCRIPTION:Jefe de programa:Bernardita Figueroa120 horas pedag&oacute\;gic
 as\nEn una actualidad donde la innovaci&oacute\;n es un imperativo\, este 
 programa provee t&eacute\;cnicas y herramientas que fomentan la generaci&o
 acute\;n de ideas. Entrega adem&aacute\;s metodolog&iacute\;as para la cre
 aci&oacute\;n\, evaluaci&oacute\;n y comunicaci&oacute\;n de proyectos\, a
 cortando as&iacute\; la brecha entre la idea y su ejecuci&oacute\;n.\n+ m&
 aacute\;s informaci&oacute\;n aqu&iacute\;\n\n&nbsp\; https://fadeu-old.ur
 antiacos.cl/agenda/evento/1099-diplomado-en-creatividad-e-innovacion-desde
 -el-diseno-y-los-negocios
DTSTART:20170803T040000Z
LOCATION:Escuela de Diseño UC\, Campus Lo Contador (El Comendador\, Provide
 ncia\, Providencia\, Región Metropolitana\, Chile)
SUMMARY:Diplomado en Creatividad e Innovación\, desde el diseño y los negoc
 ios
URL:https://fadeu-old.urantiacos.cl/agenda/evento/1099-diplomado-en-creativ
 idad-e-innovacion-desde-el-diseno-y-los-negocios
END:VEVENT
END:VCALENDAR
