BEGIN:VCALENDAR
VERSION:2.0
PRODID:-//https://fadeu-old.urantiacos.cl///NONSGML kigkonsult.se iCalcreator 2.10.15//
METHOD:PUBLISH
BEGIN:VEVENT
UID:20260423T134320UTC-8000WO71vl@https://fadeu-old.urantiacos.cl/
DTSTAMP:20260423T134320Z
DESCRIPTION:13th International Fab Lab Conference &amp\; SymposiumFabricati
 ng Society - Santiago 2017\nLa Escuela de Dise&ntilde\;o UC en conjunto co
 n Fab Lab Santiago\, el Center For Bits &amp\; Atoms del MIT y la Fab Foun
 dation\, est&aacute\;n organizando el 13th International Fab Lab Conferenc
 e and Symposium\, FAB13\, que se desarrollar&aacute\; la primera semana de
  agosto de este a&ntilde\;o en Santiago\, con el tema Fabricating Society.
 \nEste encuentro re&uacute\;ne a la red internacional de laboratorios de f
 abricaci&oacute\;n digital de mas de 1.200 laboratorios\, atrayendo a m&aa
 cute\;s de 1.000 participantes de todo el mundo\, adem&aacute\;s de cerca 
 de 4.000 asistentes nacionales a las diversas actividades que el encuentro
  propone.\nLa estructura del evento se compone de una Conferencia (4 d&iac
 ute\;as)\, Simposio (1 d&iacute\;a) y Festival (2 d&iacute\;as durante el 
 fin de semana)\, donde se realizar&aacute\;n ponencias\, paneles de conver
 saci&oacute\;n\, talleres\, demostraciones y exposiciones de proyectos.\nL
 a Conferencia y Simposio ser&aacute\;n en el Centro de Extensi&oacute\;n U
 C y la Feria/Festival\, abierto a p&uacute\;blico\, se realizar&aacute\; e
 n el GAM Centro Cultural Gabriela Mistral.\nPostulacionesA trav&eacute\;s 
 del sitio web se pueden realizar las postulaciones para presentar papers o
  proyectos especiales\, presentaciones generales\, desarrollar talleres\, 
 actividades especiales y voluntariado para estudiantes.\nPrecio entradas&n
 bsp\;Conferencia y Simposio: $USD 500Feria/Festival: abierto a p&uacute\;b
 lico\nM&aacute\;s informacionesPagina oficial del evento&nbsp\;fab13.fabev
 ent.org\nOrganizanEscuela de Dise&ntilde\;o UCFab Lab SantiagoCenter for B
 its &amp\; Atoms - MITFab Foundation\nPatrocinanMinisterio de Econom&iacut
 e\;aCORFOConsejo Nacional de la Cultura y las ArtesFundaci&oacute\;n Vivie
 ndaFab CityProChileFabLatRed Chilena de Plataformas de Fabricaci&oacute\;n
  Digital\n&nbsp\;\n\n&nbsp\; https://fadeu-old.urantiacos.cl/agenda/evento
 /977-13th-international-fab-lab-conference-symposium
DTSTART:20170804T130000Z
DTEND:20170804T230000Z
LOCATION:Centro de Extensión UC (Av Libertador Bernardo O'Higgins 390\, San
 tiago\, Región Metropolitana\, Chile)
SUMMARY:13th International Fab Lab Conference & Symposium
URL:https://fadeu-old.urantiacos.cl/agenda/evento/977-13th-international-fa
 b-lab-conference-symposium
END:VEVENT
BEGIN:VEVENT
UID:20260423T134320UTC-8007DvgZ7b@https://fadeu-old.urantiacos.cl/
DTSTAMP:20260423T134320Z
DESCRIPTION:Conferencia Inaugural Talleres de Investigaci&oacute\;nHoracio 
 Torrent\nAl inicio de cada semestre\, profesores de la Escuela de Arquitec
 tura UC realizan una serie clases magistrales que inauguran el semestre ac
 ad&eacute\;mico de cada uno de los ciclos de talleres de nuestra carrera. 
 Para el 2&deg\; semestre de 2017 la conferencia de Talleres de Investigaci
 &oacute\;n ser&aacute\; realizada por Horacio Torrent.\nFecha_Viernes 04 d
 e agosto de 2017\, 14:00 hrs\nLugar_Auditorio Arquitectura\, Campus Lo Con
 tador. El Comendador 1936\, Providencia\nInvitan_Escuela de Arquitectura U
 C\n https://fadeu-old.urantiacos.cl/agenda/evento/1139-conferencia-inaugur
 al-talleres-de-investigacion
DTSTART:20170804T040000Z
LOCATION:Auditorio FADEU\, Campus Lo Contador PUC (El Comendador 1916\, Pro
 videncia\, Providencia\, Región Metropolitana\, Chile)
SUMMARY:Conferencia Inaugural Talleres de Investigación
URL:https://fadeu-old.urantiacos.cl/agenda/evento/1139-conferencia-inaugura
 l-talleres-de-investigacion
END:VEVENT
END:VCALENDAR
