BEGIN:VCALENDAR
VERSION:2.0
PRODID:-//https://fadeu-old.urantiacos.cl///NONSGML kigkonsult.se iCalcreator 2.10.15//
METHOD:PUBLISH
BEGIN:VEVENT
UID:20260420T091314UTC-5493vhNI7r@https://fadeu-old.urantiacos.cl/
DTSTAMP:20260420T091314Z
DESCRIPTION:La arque&oacute\;loga australiana Laurajane Smith dictar&aacute
 \; la charla magistral: 'The Emotional Politics of Heritage&rdquo\; (Las p
 ol&iacute\;ticas emocionales del patrimonio).\nEsta actividad es parte del
  Diplomado en Patrimonio Cultural que ofrece una aproximaci&oacute\;n inte
 rdisciplinaria al patrimonio vivo\, y es organizada por el Mag&iacute\;ste
 r en Patrimonio Cultural UC\, el Centro del Patrimonio Cultural UC y el &a
 acute\;rea de Educaci&oacute\;n Continua de la Escuela de Arquitectura UC.
 \nLa conferencia &mdash\;que examinar&aacute\; el papel de la emoci&oacute
 \;n y la pol&iacute\;tica en la creaci&oacute\;n del patrimonio&mdash\; to
 mar&aacute\; como base el material de su libro&nbsp\;Emotional Heritage&nb
 sp\;(Routledge\, 2021)\, publicaci&oacute\;n en la que Smith aborda su inv
 estigaci&oacute\;n en torno a los visitantes de sitios patrimoniales y mus
 eos en el Reino Unido\, Australia y Estados Unidos.\nLaurajane SmithProfes
 ora y directora del Centro de Estudios del Patrimonio y Museos\, en la Esc
 uela de Investigaci&oacute\;n de Humanidades y Artes\, de la Universidad N
 acional Australiana. Es miembro de la Sociedad para la Academia de Ciencia
 s Sociales de ese pa&iacute\;s. Fund&oacute\; la Asociaci&oacute\;n de Est
 udios del Patrimonio Cr&iacute\;tico\, y ha sido editora del International
  Journal of Heritage Studies desde 2009. Es autora de&nbsp\;Uses of Herita
 ge&nbsp\;(2006) y&nbsp\;Emotional Heritage&nbsp\;(2021) y editora junto a 
 Natsuko Akagawa de&nbsp\;Intangible Heritage&nbsp\;(2009) y&nbsp\;Safeguar
 ding Intangible Heritage&nbsp\;(2018)\, todos publicados con la editorial 
 inglesa Routledge. En esta editorial es tambi&eacute\;n co-editora general
  con William Logan de la serie&nbsp\;Key Issues in Cultural Heritage.\nFec
 ha_Mi&eacute\;rcoles 04 de agosto de 2021\, 19:00 h - Chile (23:00 - GMT)
 \nLugar_V&iacute\;a Zoom\, previa inscripci&oacute\;n en el siguiente&nbsp
 \;link&nbsp\;\nOrganiza_Centro del Patrimonio Cultural UCEducaci&oacute\;n
  Continua Arquitectura UCMag&iacute\;ster en Patrimonio Cultural UCEscuela
  de Arquitectura UC\n\nNoticiasContacto:&nbsp\;redesarq@uc.cl&nbsp\;| +56 
 2 2354 7747www.arquitectura.uc.cl https://fadeu-old.urantiacos.cl/agenda/e
 vento/2795-charla-laurajane-smith-mapc
DTSTART:20210804T230000Z
DTEND:20210805T000000Z
LOCATION:On line (On line)
SUMMARY:Charla Laurajane Smith | MAPC
URL:https://fadeu-old.urantiacos.cl/agenda/evento/2795-charla-laurajane-smi
 th-mapc
END:VEVENT
END:VCALENDAR
