BEGIN:VCALENDAR
VERSION:2.0
PRODID:-//https://fadeu-old.urantiacos.cl///NONSGML kigkonsult.se iCalcreator 2.10.15//
METHOD:PUBLISH
BEGIN:VEVENT
UID:20260419T222409UTC-8692E9JX6a@https://fadeu-old.urantiacos.cl/
DTSTAMP:20260419T222409Z
DESCRIPTION:Alejandro Aravena\,&nbsp\;arquitecto UC y premio Pritzker 2016\
 ,&nbsp\;dictar&aacute\; la conferencia inaugural de los talleres de Formac
 i&oacute\;n del segundo semestre de 2019\, titulada '&iquest\;Se parece el
  taller a la vida profesional?'.\n&nbsp\;\n\nAlejandro Aravena\nArquitecto
  de la Pontificia Universidad Cat&oacute\;lica de Chile con estudios de po
 stgrado en el Instituto Universitario di Venezia. Galardonado con el premi
 o Pritzker en 2016\, entre sus reconocimientos est&aacute\;n la medalla Er
 ich Schelling en 2006\, el Le&oacute\;n de Plata en la XI Bienal de Veneci
 a de 2008\, el Index Award en Dinamarca en 2011\, el premio RIBA Charles J
 encks en 2018 y el premio J.C. Nichols for Visionaries in Urban Developmen
 t 2019 otorgado por el Urban Land Institute (ULI).\nFue nombrado Internati
 onal Fellow por el Royal Institute of British Architects y ha sido profeso
 r en diversas universidades\, entre ellas el GSD de Harvard. Actualmente e
 s director ejecutivo de ELEMENTAL\, un do tank que aborda proyectos de dif
 erentes escalas\, entendi&eacute\;ndolos como una oportunidad para extende
 r los beneficios de la ciudad a todos.&nbsp\;\n\nFecha_\nLunes 05 de agost
 o de 2019\, 18.30 h\n&nbsp\;\nLugar_\nAuditorio FADEU\nCampus Lo Contador
 \nEl Comendador 1916\, Providencia\n&nbsp\;\nOrganiza_\nEscuela de Arquite
 ctura UC\n&nbsp\;\n\n&nbsp\;\n&nbsp\;\nNoticiasContacto:&nbsp\;redesarq@uc
 .cl&nbsp\;| +56 2 2354 7747www.arquitectura.uc.cl https://fadeu-old.uranti
 acos.cl/agenda/evento/1907-conferencia-inaugural-formacion-alejandro-arave
 na
DTSTART:20190805T223000Z
DTEND:20190805T233000Z
LOCATION:Auditorio FADEU\, Campus Lo Contador PUC (El Comendador 1916\, Pro
 videncia\, Providencia\, Región Metropolitana\, Chile)
SUMMARY:Conferencia inaugural Formación | Alejandro Aravena
URL:https://fadeu-old.urantiacos.cl/agenda/evento/1907-conferencia-inaugura
 l-formacion-alejandro-aravena
END:VEVENT
BEGIN:VEVENT
UID:20260419T222409UTC-8698BuU0TB@https://fadeu-old.urantiacos.cl/
DTSTAMP:20260419T222409Z
DESCRIPTION:\nEL LUNES 5 DE AGOSTO EN EL CAMPUS LO CONTADOR UC SE REALIZAR&
 Aacute\; UN SEMINARIO DONDE SE ABORDAR&Aacute\; LA IMPORTANCIA DE LOS HUME
 DALES URBANOS EN EL PA&Iacute\;S\, QUE CONTAR&Aacute\; CON&nbsp\; EL VICEP
 RESIDENDE DEL SENADO\, ALFONSO DE URRESTI\, QUIEN IMPULSA UNA LEY PARA PRO
 TEGER ESTOS ECOSISTEMAS Y QUE ACTUALMENTE SE ENCUENTRA EN SU &Uacute\;LTIM
 O TR&Aacute\;MITE LEGISLATIVO.\nLo humedales urbanos pueden prestar valios
 os servicios ecosist&eacute\;micos a las ciudades y ser un aporte en accio
 nes de adaptaci&oacute\;n y mitigaci&oacute\;n frente al Cambio Clim&aacut
 e\;tico\, pero los &uacute\;ltimos a&ntilde\;os en Chile numerosos humedal
 es han sido rellenados y se han construido viviendas sobre ellos\, aun cua
 ndo se encuentren en terrenos inundables.\nEl seminario&nbsp\;El valor de 
 los Humedales Urbanos en tiempos de Cambio Clim&aacute\;tico&nbsp\;analiza
 r&aacute\; la ley para su protecci&oacute\;n que actualmente se encuentra 
 en el Congreso es una oportunidad para analizar c&oacute\;mo se han vincul
 ados distintos actores\; academia\, sociedad civil y parlamentarios\, y cu
 &aacute\;les han sido sus resultados.\nEn la oportunidad estar&aacute\;n p
 resentes Juan Carlos Mu&ntilde\;oz\, Director de CEDEUS y Coordinador de l
 a Mesa Ciudades convocada por el Ministerio de Ciencia y Tecnolog&iacute\;
 a camino a la Cop25\; Carolina Rojas\, acad&eacute\;mica Instituto de Estu
 dios Urbanos y Territoriales UC e investigadora CEDEUS\, experta en humeda
 les urbanos.\nTambi&eacute\;n expondr&aacute\;n Ana Mar&iacute\;a Azorla y
  Andrea Aste\, de la Red de Humedales Urbanos de la Provincia de Concepci&
 oacute\;n acerca de las iniciativas municipales para cuidar los humedales 
 y el senador Alfonso De Urresti presentar&aacute\; su iniciativa de ley al
  respecto.\nLa jornada se cerrar&aacute\; con una mesa de di&aacute\;logo 
 donde Caroline Stamm\, acad&eacute\;mica Instituto de Estudios Urbanos y T
 erritoriales UC\; Evelyn Soto de la Red de Humedales Biob&iacute\;o y Clau
 dia Toledo del Gobierno Regional de la Regi&oacute\;n del Biob&iacute\;o c
 omentar&aacute\;n los alcances de la ley impulsada por el senador De Urres
 ti.\nEl seminario se realizar&aacute\; en el Sal&oacute\;n Sergio Larra&ia
 cute\;n en el Campus Lo Contador UC\, ubicado en El Comendador 1916\, Prov
 idencia\, Santiago.\nESTA ACTIVIDAD ES ABIERTA\, PERO CON CUPOS LIMITADOS\
 , PREVIA INSCRIPCI&Oacute\;N EN ESTE&nbsp\;FORMULARIO.&nbsp\;&nbsp\;\n&nbs
 p\;\n\n https://fadeu-old.urantiacos.cl/agenda/evento/1905-seminario-el-va
 lor-de-los-humedales-urbanos-en-tiempos-de-cambio-climatico
DTSTART:20190805T040000Z
LOCATION:Salón Sergio Larraín\, Campus Lo Contador ()
SUMMARY:Seminario 'El Valor de los humedales urbanos en tiempos de cambio c
 limático'
URL:https://fadeu-old.urantiacos.cl/agenda/evento/1905-seminario-el-valor-d
 e-los-humedales-urbanos-en-tiempos-de-cambio-climatico
END:VEVENT
END:VCALENDAR
