BEGIN:VCALENDAR
VERSION:2.0
PRODID:-//https://fadeu-old.urantiacos.cl///NONSGML kigkonsult.se iCalcreator 2.10.15//
METHOD:PUBLISH
BEGIN:VEVENT
UID:20260419T222410UTC-2080VkG7Pv@https://fadeu-old.urantiacos.cl/
DTSTAMP:20260419T222410Z
DESCRIPTION:Loreto Lyon\, arquitecta UC y Master en Environmental Design an
 d Engineering del Bartlett School of Architecture del University College d
 e Londres\,&nbsp\;dictar&aacute\; la conferencia inaugural de los talleres
  de Ejercitaci&oacute\;n del segundo semestre de 2019.\n&nbsp\;\n&nbsp\;\n
 \nLoreto Lyon\nLoreto Lyon (Chile\, 1979) Arquitecto\, Pontificia Universi
 dad Cat&oacute\;lica de Chile\, 2005. El 2011 obtiene el t&iacute\;tulo de
  Master of Sciences in Environmental Design and Engineering de Bartlett\, 
 University College London (UCL). Profesor de la Pontificia Universidad Cat
 &oacute\;lica de Chile desde el a&ntilde\;o 2012\, y de la Universidad San
  Sebasti&aacute\;n desde el a&ntilde\;o 2014. El a&ntilde\;0 2&rsquo\;18 p
 articip&oacute\; de Visiting Critic de la Universidad de Cornell\, USA.\nE
 ntre el a&ntilde\;o 2004 y el 2010 colabora y trabaja con el arquitecto Sm
 iljan Radic. El 2012\, junto a Alejandro Beals\, fundan la oficina de arqu
 itectura Beals Lyon Arquitectos. Desde esa fecha\, su estudio ha desarroll
 ado investigaciones y proyectos de diversa escala\, como la instalaci&oacu
 te\;n ganadora para la versi&oacute\;n chilena del MoMA Young Architect&rs
 quo\;s Program (YAP-CONSTRUCTO 2012/13)\, la Municipalidad de Nancagua (20
 14-2016) y el Nuevo Edificio Sobre Estaci&oacute\;n Plaza de Armas para el
  Metro de Santiago\, entre otros.\nLos a&ntilde\;os 2016 y 2017 son invita
 dos como profesores del workshop de arquitectura de verano del Instituto U
 niversitario di Architettura di Venezia (IUAV)\, WAVE 2016\, donde obtiene
 n el primer premio por la propuesta realizada junto a sus alumnos\, &ldquo
 \;Archipelago Marghera&rdquo\;. El a&ntilde\;o 2018 son profesores invitad
 os para dirigir un taller de proyectos y un seminario en el Departamento d
 e Arquitectura\, del AAP de Cornell\, USA.\nSu trabajo ha sido ampliamente
  publicado en libros y revistas. En el 2016\, Ediciones ARQ\, de la Univer
 sidad Cat&oacute\;lica\, publica &ldquo\;Beals Lyon Arquitectos: Vac&iacut
 e\;os P&uacute\;blicos&rdquo\;\, monograf&iacute\;a dedicada a los proyect
 os p&uacute\;blicos de su oficina.\n\nFecha_\nMartes 06 de agosto de 2019\
 , 15.30 h\n&nbsp\;\n&nbsp\;\nLugar_\nAuditorio Fernando Castillo Velasco\n
 Campus Lo Contador\nEl Comendador 1936\, Providencia\n&nbsp\;\n&nbsp\;\nOr
 ganiza_\nEscuela de Arquitectura UC\n&nbsp\;\n&nbsp\;\n\n&nbsp\;\n&nbsp\;
 \nNoticiasContacto:&nbsp\;redesarq@uc.cl&nbsp\;| +56 2 2354 7747www.arquit
 ectura.uc.cl https://fadeu-old.urantiacos.cl/agenda/evento/1909-conferenci
 a-inaugural-ejercitacion-loreto-lyon
DTSTART:20190806T193000Z
DTEND:20190806T203000Z
LOCATION:Auditorio Fernando Castillo Velasco. Edificio ARQ (El Comendador 1
 936\, Providencia\, Región Metropolitana\, Chile)
SUMMARY:Conferencia inaugural Ejercitación | Loreto Lyon
URL:https://fadeu-old.urantiacos.cl/agenda/evento/1909-conferencia-inaugura
 l-ejercitacion-loreto-lyon
END:VEVENT
BEGIN:VEVENT
UID:20260419T222410UTC-2089zCHP7T@https://fadeu-old.urantiacos.cl/
DTSTAMP:20260419T222410Z
DESCRIPTION:Germ&aacute\;n Hidalgo\, arquitecto UC\, profesor titular de la
  Escuela de Arquitectura UC y doctor en Teor&iacute\;a e Historia de la Ar
 quitectura de la Universidad Polit&eacute\;cnica de Catalu&ntilde\;a\,&nbs
 p\;dictar&aacute\; la conferencia inaugural de los talleres de Investigaci
 &oacute\;n del segundo semestre de 2019.\n&nbsp\;\n\nGerm&aacute\;n Hidalg
 o\nArquitecto\, Pontificia Universidad Cat&oacute\;lica de Chile\, 1991. D
 octor en Teor&iacute\;a e Historia de la Arquitectura\, ETSAB\, Universida
 d Polit&eacute\;cnica de Catalu&ntilde\;a\, 2000. Ha presentado sus invest
 igaciones y cursos en Chicago\, Roma\, Barcelona\, Bogot&aacute\;\, Porto 
 Alegre\, y C&oacute\;rdoba. Ha publicado art&iacute\;culos en&nbsp\;Planni
 ng Perspectives&nbsp\;(UK)\,&nbsp\;ARQ&nbsp\;y&nbsp\;Revista 180&nbsp\;(Ch
 ile) y cap&iacute\;tulos de libros:&nbsp\;Massilia 2007\, SCL 2110\, +Arqu
 itectos\, entre otros. En 2010 public&oacute\;&nbsp\;Vistas Panor&aacute\;
 micas de Santiago 1790 &ndash\; 1910: Su desarrollo Urbano bajo la Mirada 
 de Dibujantes\, Pintores y Fot&oacute\;grafos&nbsp\;(Ediciones UC/Origo).
 \nProfesor titular UC en pregrado y posgrado en la &aacute\;reas de Teor&i
 acute\;a e Historia de la Arquitectura\, en diversos talleres de proyecto 
 e investigaci&oacute\;n y en cursos de representaci&oacute\;n. Investigado
 r responsable del Proyecto Fondecyt n&deg\;1150308 (2015-2018) y co&ndash\
 ;investigador de diversos proyectos FONDECYT\, FONDART y VRI.\n\nFecha_\nM
 artes 06 de agosto de 2019\, 14.00 h\n&nbsp\;\nLugar_\nAuditorio Fernando 
 Castillo Velasco\nCampus Lo Contador\nEl Comendador 1936\, Providencia\n&n
 bsp\;\nOrganiza_\nEscuela de Arquitectura UC\n&nbsp\;\n\n&nbsp\;\nNoticias
 Contacto:&nbsp\;redesarq@uc.cl&nbsp\;| +56 2 2354 7747www.arquitectura.uc.
 cl https://fadeu-old.urantiacos.cl/agenda/evento/1908-conferencia-inaugura
 l-investigacion-german-hidalgo
DTSTART:20190806T180000Z
DTEND:20190806T190000Z
LOCATION:Auditorio Fernando Castillo Velasco. Edificio ARQ (El Comendador 1
 936\, Providencia\, Región Metropolitana\, Chile)
SUMMARY:Conferencia inaugural Investigación | Germán Hidalgo
URL:https://fadeu-old.urantiacos.cl/agenda/evento/1908-conferencia-inaugura
 l-investigacion-german-hidalgo
END:VEVENT
END:VCALENDAR
