BEGIN:VCALENDAR
VERSION:2.0
PRODID:-//https://fadeu-old.urantiacos.cl///NONSGML kigkonsult.se iCalcreator 2.10.15//
METHOD:PUBLISH
BEGIN:VEVENT
UID:20260420T173458UTC-6218XgDDuU@https://fadeu-old.urantiacos.cl/
DTSTAMP:20260420T173458Z
DESCRIPTION:\n&nbsp\;\n\n\nConferencia Inaugural Talleres de investigaci&oa
 cute\;n /&nbsp\;Patricio MardonesEsta es la tercera de la agenda de charla
 s inaugurales para los Talleres de la Escuela de Arquitectura UC del segun
 do per&iacute\;odo acad&eacute\;mico 2018. Presenta Patricio Mardones\, Ar
 quitecto\, Pontificia Universidad Cat&oacute\;lica de Chile\, 1999\; Profe
 sor en la Escuela de Arquitectura de la Universidad de Texas\, EE.UU. (200
 7)\; Actualmente profesor en las escuelas de Arquitectura de la Universida
 d Andr&eacute\;s Bello y la Pontificia Universidad Cat&oacute\;lica de Chi
 le.PATRICIO MARDONES HICHE\nPatricio Mardones Hiche (Antofagasta\, 1973) e
 s arquitecto por la Pontificia Universidad Cat&oacute\;lica de Chile (1999
 )\; durante 1993 curs&oacute\; estudios de Arte en la misma Universidad. D
 esde el a&ntilde\;o 2000 ha combinado pr&aacute\;ctica profesional\, docen
 cia y labores editoriales.\nEntre 2007 y 2015 desarroll&oacute\; una serie
  de proyectos editoriales y curatoriales vinculados a la arquitectura chil
 ena contempor&aacute\;nea\, en colaboraci&oacute\;n con revistas como Icon
  (Inglaterra)\, Mark (Holanda)\, Dwell (EE.UU)\, 2G (Espa&ntilde\;a)\, The
  Plan (Italia)\, AU (Brasil)\, Casabella (Italia)\, Azure (Canad&aacute\;)
 \, Oris (Croacia)\, entre otras\; igualmente particip&oacute\; como curado
 r en exposiciones en Chile y los Estados Unidos. Entre 2011 and 2015 fue d
 irector de Ediciones ARQ en la Escuela de Arquitectura de la Pontificia Un
 iversidad Cat&oacute\;lica de Chile.\nEs coautor de la segunda etapa de la
  Biblioteca del Centro de Documentaci&oacute\;n SLGM de la Escuela de Arqu
 itectura de la Pontificia Universidad Cat&oacute\;lica de Chile\, (asociad
 o a Cecilia Puga\, 2007) y de la nueva Cripta y presbiterio de la Catedral
  Metropolitana de Santiago (asociado a Rodrigo P&eacute\;rez de Arce y Seb
 asti&aacute\;n Bianchi\, 2006). Sus &uacute\;ltimos proyectos incluyen la 
 Infraestructura de uso p&uacute\;blico del Parque Nacional Queulat en Ays&
 eacute\;n (1er premio\, concurso 2016) y el Terminal de Cruceros del puert
 o de Punta Arenas (1er premio\, concurso 2017) ambos asociado a Cecilia Pu
 ga y Paula Velasco.\nEn 2007\, fue profesor visitante en The University of
  Texas at Austin. Actualmente es profesor en la Universidad Andr&eacute\;s
  Bello y en la Pontificia Universidad Cat&oacute\;lica de Chile y es miemb
 ro del directorio de la Fundaci&oacute\;n de Arquitectura Fr&aacute\;gil e
 n Santiago.\nFecha_Martes 07 de agosto de 2018\, 15:30 hrs.Lugar_Auditorio
  FCV. El Comendador 1916\, Providencia.Invitan_Escuela de Arquitectura UCE
 vento gratuito abierto a todo p&uacute\;blicoContacto:&nbsp\;redesarq@uc.c
 l&nbsp\;| +56 2 2354 7747www.arquitectura.uc.cl\n\n&nbsp\; https://fadeu-o
 ld.urantiacos.cl/agenda/evento/1626-conferencia-inaugural-talleres-de-ejer
 citacion-patricio-mardones
DTSTART:20180807T193000Z
DTEND:20180807T203000Z
LOCATION:Auditorio Fernando Castillo Velasco. Edificio ARQ (El Comendador 1
 936\, Providencia\, Región Metropolitana\, Chile)
SUMMARY:Conferencia Inaugural Talleres de Ejercitación / Patricio Mardones
URL:https://fadeu-old.urantiacos.cl/agenda/evento/1626-conferencia-inaugura
 l-talleres-de-ejercitacion-patricio-mardones
END:VEVENT
BEGIN:VEVENT
UID:20260420T173458UTC-6228AwhZmv@https://fadeu-old.urantiacos.cl/
DTSTAMP:20260420T173458Z
DESCRIPTION:Conferencia Inaugural Talleres de investigaci&oacute\;n\n'El Pa
 isaje [Chileno] como Problema de Investigaci&oacute\;n' / Romy Hecht\n&nbs
 p\;\n&nbsp\;\nEsta es la segunda de la agenda de charlas inaugurales para 
 los Talleres de la Escuela de Arquitectura UC del segundo per&iacute\;odo 
 acad&eacute\;mico 2018. Presenta&nbsp\;Romy Hecht\, Arquitecta y Magister 
 en Arquitectura UC\, 1998\; Ph.D. en Historia y Teor&iacute\;a de la Arqui
 tectura\, Princeton University\, 2009\; Profesora Arquitectura UC.\n&nbsp\
 ;\n&nbsp\;\nRomy Hecht\n&nbsp\;\n&nbsp\;\nArquitecta y Mag&iacute\;ster en
  Arquitectura\, Pontificia Universidad Cat&oacute\;lica de Chile (PUC)\, 1
 998\; Ph.D en Historia y Teor&iacute\;a de la Arquitectura\, Princeton Uni
 versity\, 2009. Profesora Asociada de la Escuela de Arquitectura de la PUC
  en cursos de pregrado y postgrado en Historia y Teor&iacute\;a del Paisaj
 e. Ha sido Profesora invitada en el Programa de Arquitectura del Paisaje d
 e la Universidad de Harvard e investigadora en Dumbarton Oaks\, Washington
 \, DC. Ha sido responsable de investigaciones PUC y proyectos FONDECYT\, p
 resentando los resultados en conferencias y congresos en Argentina\, Sud&a
 acute\;frica\, en las universidades de Princeton\, Harvard\, Columbia y Ri
 ce (Estados Unidos)\, adem&aacute\;s de la PUC.\n&nbsp\;\n\nSus ensayos ha
 n sido publicados en Retorno al Paisaje (Evren\, Espa&ntilde\;a) y en Harv
 ard Design Magazine (EE.UU)\; ARQ\, Revista 180 y CA (Revista del Colegio 
 de Arquitectos de Chile)\; y New Architecture (China). El a&ntilde\;o 2012
 \, junto a Danilo Martic V.\, tradujo al espa&ntilde\;ol The Necessity for
  Ruins and other Essays de John Brinckerhoff Jackson (Santiago\, Ediciones
  ARQ). El a&ntilde\;o 2015\, junto a Ver&oacute\;nica Aguirre L. y Camila 
 Medina N. fund&oacute\; el sitio web LOFscapes (www.lofscapes.com)\, cuyo 
 objetivo es construir una plataforma de discusi&oacute\;n cr&iacute\;tica 
 acerca de la transformaci&oacute\;n del paisaje chileno.\n\n&nbsp\;\nFecha
 _\nMartes 07 de agosto de 2018\, 14:00 hrs.\n&nbsp\;\n&nbsp\;\n&nbsp\;\nLu
 gar_\nAuditorio FCV. El Comendador 1916\, Providencia.\n&nbsp\;\n&nbsp\;\n
 &nbsp\;\nInvitan_\nEscuela de Arquitectura UC\n&nbsp\;\n&nbsp\;\n&nbsp\;\n
 Evento gratuito abierto a todo p&uacute\;blicoContacto:&nbsp\;redesarq@uc.
 cl&nbsp\;| +56 2 2354 7747www.arquitectura.uc.cl https://fadeu-old.urantia
 cos.cl/agenda/evento/1628-conferencia-inaugural-talleres-de-investigacion-
 romy-hech
DTSTART:20180807T184000Z
DTEND:20180807T194000Z
LOCATION:Auditorio Fernando Castillo Velasco. Edificio ARQ (El Comendador 1
 936\, Providencia\, Región Metropolitana\, Chile)
SUMMARY:Conferencia Inaugural Talleres de Investigación / Romy Hech
URL:https://fadeu-old.urantiacos.cl/agenda/evento/1628-conferencia-inaugura
 l-talleres-de-investigacion-romy-hech
END:VEVENT
BEGIN:VEVENT
UID:20260420T173458UTC-6236xG7f1K@https://fadeu-old.urantiacos.cl/
DTSTAMP:20260420T173458Z
DESCRIPTION:Le recordamos que ma&ntilde\;ana se realiza el&nbsp\;Seminario&
 nbsp\;&iquest\;Podemos construir ciudades m&aacute\;s integradas?\,&nbsp\;
 en el cual el&nbsp\;Ministro de Vivienda y Urbanismo\,&nbsp\;Cristi&aacute
 \;n Monckeberg\,&nbsp\;expondr&aacute\; sobre el&nbsp\;'Programa de Integr
 aci&oacute\;n Social y Territorial: proyecciones y desaf&iacute\;os urbano
 -habitacionales 2018-2022'.\n\nEsta charla ser&aacute\; comentada por los 
 alcaldes&nbsp\;Carolina Leitao&nbsp\;(Alcaldesa de Pe&ntilde\;alol&eacute\
 ;n)\,&nbsp\;Germ&aacute\;n Codina(Alcalde de Puente Alto)\,&nbsp\;Daniel J
 adue&nbsp\;(Alcalde de Recoleta) y&nbsp\;Jorge Sharp&nbsp\;(Alcalde de Val
 para&iacute\;so).&nbsp\;\nSe realizar&aacute\; tambi&eacute\;n un mesa de 
 discusi&oacute\;n sobre:&nbsp\;'Mercados de Suelo como factor para la inte
 graci&oacute\;n social residencial'\, en la cual participar&aacute\;n los 
 acad&eacute\;micos y expertos\,&nbsp\;Guillermo Rolando&nbsp\;(Subsecretar
 io MINVU)\,&nbsp\;Francisco Sabatini&nbsp\;(Acad&eacute\;mico IEUT)\,&nbsp
 \;Slaven Razmilic&nbsp\;(Centro de Estudios P&uacute\;blicos) y&nbsp\;Javi
 er Hurtado(CChC).\nLa actividad se realizar&aacute\; el&nbsp\;martes 7 de 
 agosto&nbsp\;a las&nbsp\;8:30 horas\, en el&nbsp\;Auditorio Fernando Casti
 llo Velasco.(El Comendador 1936\, Providencia.&nbsp\;Campus Lo Contador UC
 ).\nInscripciones cerradas.\n&nbsp\;\n\n https://fadeu-old.urantiacos.cl/a
 genda/evento/1623-seminario-podemos-construir-ciudades-mas-integradas
DTSTART:20180807T123000Z
DTEND:20180807T133000Z
LOCATION:Auditorio Fernando Castillo Velasco. Edificio ARQ (El Comendador 1
 936\, Providencia\, Región Metropolitana\, Chile)
SUMMARY:Seminario: ¿Podemos construir ciudades más integradas?
URL:https://fadeu-old.urantiacos.cl/agenda/evento/1623-seminario-podemos-co
 nstruir-ciudades-mas-integradas
END:VEVENT
BEGIN:VEVENT
UID:20260420T173458UTC-6241a3bl53@https://fadeu-old.urantiacos.cl/
DTSTAMP:20260420T173458Z
DESCRIPTION:Exhibici&oacute\;n en el Hall del Edificio EAUC que muestra el 
 trabajo de los estudiantes del Taller de Licenciatura&nbsp\;Irarr&aacute\;
 zaval + Hevia Garc&iacute\;a + Pozo&nbsp\;que&nbsp\;se encuentra expuesto 
 en la&nbsp\;18&ordm\; Bienal de Arquitectura de Venecia\,&nbsp\;hasta el 2
 5 de noviembre.\n\nEl Taller de Licenciatura que dirigieron el primer seme
 stre de 2018&nbsp\;Sebasti&aacute\;n Irarr&aacute\;zaval\, Guillermo Hevia
  Garc&iacute\;a y Patricio Pozo\, en calidad de profesor invitado\, se enc
 uentra participando en la&nbsp\;18&ordm\; Bienal de Arquitectura de Veneci
 a\, FREESPACE.&nbsp\;El trabajo que desarrollaron junto a los alumnos de l
 a&nbsp\;Escuela de Arquitectura de la Universidad Cat&oacute\;lica de Chil
 e&nbsp\;est&aacute\; exhibido en el&nbsp\;Pabell&oacute\;n Venecia&nbsp\;u
 bicado en los jardines de la Bienal. La muestra donde participan lleva por
  nombre&nbsp\;Marghera City of Making&nbsp\;y busca generar proyectos para
  repensar la transformaci&oacute\;n urbana de tres &aacute\;reas de la&nbs
 p\;zona industrial de Marghera\, frente a Venecia. Adem&aacute\;s de la Es
 cuela de Arquitectura de la Universidad Cat&oacute\;lica\, participan\, ET
 SAB Barcelona (Espa&ntilde\;a)\, AHO Oslo (Noruega)\, KU Leuven (B&eacute\
 ;lgica)\, ETH Zurich (Suiza)\, TU Delft (Holanda)\, ULB Brussels (B&eacute
 \;lgica)\, Parson School of Design (USA) y USPI - University of S&atilde\;
 o Paulo (Brasil)\nLa apertura del pabell&oacute\;n fue el&nbsp\;25 de Mayo
  en los Jardines de la Bienal y se encontrar&aacute\; abierto hasta el 25 
 de noviembre de 2018.\nEl equipo del taller ha montado una exhibici&oacute
 \;n en el Hall del Edificio de Arquitectura UC que muestra el trabajo que 
 se encuentra expuesto en Venecia. Un video\, im&aacute\;genes objetivo y u
 na descripci&oacute\;n&nbsp\;de la propuesta completan la instalaci&oacute
 \;n.&nbsp\;Esta exhibici&oacute\;n se encontrar&aacute\; abierta a todo p&
 uacute\;blico hasta el viernes 17 de agosto.\nPROPUESTA&nbsp\;/ Escuela de
  Arquitectura UC\nLOOP MARGHERAEl Patrimonio Industrial como Modelo\nEl te
 rreno del parque tecnol&oacute\;gico VEGA carece de conectividad\, espacio
 s p&uacute\;blicos e identidad. Con el fin de crear conectividad\, propone
 mos conectar el &aacute\;rea con el tejido urbano y verde vecino mediante 
 puentes para peatones y bicicletas. En relaci&oacute\;n a la creaci&oacute
 \;n de espacios p&uacute\;blicos\; proponemos un borde costero extendido q
 ue aloje una playa artificial\, diques\, paseos peatonales\, una arena y u
 n museo de los mares. Y para reforzar la identidad\, proponemos que todas 
 las edificaciones -oficinas\, viviendas y edificios culturales- tomen como
  punto de partida el patrimonio industrial de Marghera.\nLOOP MARGHERAIndu
 strial Heritage as a Model\nVega site lacks connectivity\, public spaces\,
  and identity. In order to create connectivity\, we propose to link the ar
 ea to the nearby urban and green tissues through pedestrian and bike bridg
 es. Regarding the creation of public spaces\, we propose an overextended w
 aterfront that allocates an artificial beach\, docks\, pedestrian-bike pat
 hs\, an arena\, and a sea museum. And to reinforce identity\, we propose t
 hat all future constructions -offices\, residential and cultural buildings
 - take as a point of departure Marghera&rsquo\;s industrial heritage.\nPro
 fesores_Sebasti&aacute\;n Irarr&aacute\;zavalGuillermo Hevia Garc&iacute\;
 aPatricio Pozo\nAyudantes_Rosario EdwardsMar&iacute\;a Gracia San Mart&iac
 ute\;n\nEstudiantes_Nicol&aacute\;s &Aacute\;lamos\, Pablo Alfaro\, Mar&ia
 cute\;a Berizzo\, Christian Caris\, Francisca G&oacute\;mez\, Beatriz Gell
 ona\, Javiera Magall&oacute\;n\, Marcela Pasten\, Nicole Rezepka\, Conzuel
 o Sagal\, Carla Schwartz\, Luna Tisn&eacute\;\, Roberto Valdivieso.&nbsp\;
 &nbsp\;\nLink video Propuesta_\nhttp://padiglionevenezia.it/en/marghera-de
 sign-competition/\n&nbsp\;\n\n&nbsp\;\n\n&nbsp\;\n\n&nbsp\;\n\n&nbsp\;\n\n
 &nbsp\;\n\n&nbsp\;\n\n&nbsp\;\n\n&nbsp\;\n\n&nbsp\;\n\n&nbsp\;\n\n&nbsp\;
 \n\n&nbsp\;\n\n&nbsp\;\n\nIm&aacute\;genes &copy\;Equipo&nbsp\;Taller de L
 icenciatura UC&nbsp\;Irarr&aacute\;zaval + Hevia Garc&iacute\;a + Pozo\n&n
 bsp\;\n\n&nbsp\;\n\n&nbsp\;\nNoticiasContacto:&nbsp\;arq@uc.cl&nbsp\;| +56
  2 2354 7747www.arquitectura.uc.cl https://fadeu-old.urantiacos.cl/agenda/
 evento/1636-exhibicion-trabajo-estudiantes-earq-uc-en-bienal-de-arquitectu
 ra-de-venecia
DTSTART:20180807T040000Z
LOCATION:Hall Edificio Arquitectura (El Comendador 1936\, Providencia\, Reg
 ión Metropolitana\, Chile)
SUMMARY:Exhibición trabajo estudiantes EARQ UC en Bienal de Arquitectura de
  Venecia
URL:https://fadeu-old.urantiacos.cl/agenda/evento/1636-exhibicion-trabajo-e
 studiantes-earq-uc-en-bienal-de-arquitectura-de-venecia
END:VEVENT
END:VCALENDAR
