BEGIN:VCALENDAR
VERSION:2.0
PRODID:-//https://fadeu-old.urantiacos.cl///NONSGML kigkonsult.se iCalcreator 2.10.15//
METHOD:PUBLISH
BEGIN:VEVENT
UID:20260419T222410UTC-3616x8cMJT@https://fadeu-old.urantiacos.cl/
DTSTAMP:20260419T222410Z
DESCRIPTION:Tenemos el agrado de invitarte al lanzamiento de Puente Diseño
  Empresa\, plataforma que muestra el impacto que tiene el diseño en los n
 egocios.\nNo te quedes afuera de esta iniciativa donde conocerás una herr
 amienta que te permitirá mejorar tu negocio.\nEncontrarás casos donde el
  diseño ha impactado en el negocio de grandes\, medianas y pequeñas empr
 esas. Podrás conocer los contenidos y funciones de la plataforma y saber 
 cómo utilizarlo para mejorar tu negocio.\nEl Puente Diseño Empresa es im
 pulsado por Chilecreativo\, ejecutado por la Escuela de Diseño de la Pont
 ificia Universidad Católica de Chile y financiado por CORFO.\n&nbsp\;\n\n
 Cu&aacute\;ndo: 7 de Agosto 2019\, de 8:30 - 11:00Lugar: Centro de Convenc
 iones SOFOFA\, Av. Andr&eacute\;s Bello 2777\, Las Condes\nInscripciones a
 qu&iacute\;.\n&nbsp\; https://fadeu-old.urantiacos.cl/agenda/evento/1911-l
 anzamiento-plataforma-puente-diseno-empresa
DTSTART:20190807T123000Z
DTEND:20190807T150000Z
LOCATION:SOFOFA (Av. Andrés Bello 2777)
SUMMARY:Lanzamiento plataforma Puente Diseño Empresa
URL:https://fadeu-old.urantiacos.cl/agenda/evento/1911-lanzamiento-platafor
 ma-puente-diseno-empresa
END:VEVENT
END:VCALENDAR
