BEGIN:VCALENDAR
VERSION:2.0
PRODID:-//https://fadeu-old.urantiacos.cl///NONSGML kigkonsult.se iCalcreator 2.10.15//
METHOD:PUBLISH
BEGIN:VEVENT
UID:20260420T173719UTC-51097DaBGc@https://fadeu-old.urantiacos.cl/
DTSTAMP:20260420T173719Z
DESCRIPTION:Conversatorio&nbsp\;'Agenda y Gobernanza Local: Valpara&iacute\
 ;so y Renca'.&nbsp\;Invitados Jorge Sharp (Alcalde I.M. de Valpara&iacute\
 ;so) y Claudio Castro (I.M. de Renca). El encuentro forma parte de el cicl
 o 'La Ciudad como Proyecto'\, organizado conjuntamente entre el&nbsp\;Cent
 ro de Estudios P&uacute\;blicos&nbsp\;y la&nbsp\;Escuela de Arquitectura U
 C.\n&nbsp\;\nInvitados_\nJorge Sharp (Alcalde I.M. de Valpara&iacute\;so) 
 y Claudio Castro (I.M. de Renca).\n&nbsp\;\nAnfitriones_Francisco Sabatini
  y Rossana Forray\, Profesores del IEUT y de Arquitectura UC\, respectivam
 ente.\n&nbsp\;\nFecha_\nMi&eacute\;rcoles 08 de agosto de 2018\, 19.00 hrs
 .\n&nbsp\;\nLugar_\nMonse&ntilde\;or S&oacute\;tero Sanz 162 - Providencia
  - Santiago de Chile. CEP Chile.\n&nbsp\;\nOrganizan_\nEscuela de Arquitec
 tura UC\nCentro de Estudios P&uacute\;blicos\, CEP Chile\n&nbsp\;\n\n&nbsp
 \;\nNoticiasContacto:&nbsp\;redesarq@uc.cl&nbsp\;| +56 2 2354 7747www.arqu
 itectura.uc.cl https://fadeu-old.urantiacos.cl/agenda/evento/1627-agenda-y
 -gobernanza-local-valparaiso-y-renca
DTSTART:20180808T230000Z
DTEND:20180809T000000Z
LOCATION:CEP Chile (Monseñor Nuncio Sotero Sanz de Villalba 162\, Providenc
 ia\, Región Metropolitana\, Chile)
SUMMARY:'Agenda y Gobernanza Local: Valparaíso y Renca
URL:https://fadeu-old.urantiacos.cl/agenda/evento/1627-agenda-y-gobernanza-
 local-valparaiso-y-renca
END:VEVENT
BEGIN:VEVENT
UID:20260420T173719UTC-5116zmbcW8@https://fadeu-old.urantiacos.cl/
DTSTAMP:20260420T173719Z
DESCRIPTION:Santiago de Chile 1977-1990\n8 de agosto de 2018 (13:00 &ndash\
 ; 18:30 pm)Auditorio FCV\, Campus Lo Contador. El Comendador 1936\, Provid
 encia.\n&nbsp\;\nSimposio organizado por Daniel Talesnik con el apoyo del 
 Columbia Global Center Santiago y la Escuela de Arquitectura de la Pontifi
 cia Universidad Cat&oacute\;lica de Chile\n&nbsp\;\nDurante la dictadura\,
  las nuevas pol&iacute\;ticas nacionales de desarrollo urbano de 1977\, y 
 en particular la de 1979\, iniciaron cambios estructurales en la ciudad de
  Santiago. Estos cambios no necesariamente respond&iacute\;an a un criteri
 o consensuado frente a la ciudad. A estas transformaciones urbanas se suma
 n m&uacute\;ltiples puntos de inflexi&oacute\;n pol&iacute\;tica y econ&oa
 cute\;mica\, tales como la constituci&oacute\;n de 1980\, la crisis de 198
 2\, y el plebiscito de 1988\, entre otros. Un posible cierre de este perio
 do son las elecciones presidenciales de 1989 y el cambio de mando que las 
 sigue. Una lectura de lo que suceder&aacute\; a continuaci&oacute\;n es qu
 e\, a pesar de que cambia el modelo pol&iacute\;tico\, no cambia necesaria
 mente el modelo de desarrollo de la ciudad.\n&nbsp\;\nEn el periodo 1977-9
 0\, tanto la expansi&oacute\;n del per&iacute\;metro urbano\, el desplazam
 iento de habitantes bajo pol&iacute\;ticas de vivienda\, y la suspensi&oac
 ute\;n del uso de ciertos espacios p&uacute\;blicos tradicionales\, entre 
 otros temas\, pueden discutirse colectivamente en tanto comparten origen y
 /o contexto. As&iacute\;\, se puede establecer que los cambios durante est
 a &eacute\;poca son un antecedente para el desarrollo urbano de Santiago d
 e los &uacute\;ltimos 30 a&ntilde\;os.\nEl objetivo de este simposio es re
 unir investigaciones de arquitectura y urbanismo relacionadas al periodo 1
 977-90. Los temas a discutir interceptan entre otros: dictadura\, econom&i
 acute\;a de mercado y social de mercado (neoliberalismo)\, segregaci&oacut
 e\;n\, espacio p&uacute\;blico\, arquitecturas de y para el consumo\, est&
 eacute\;ticas arquitect&oacute\;nicas\, revistas de arquitectura y urbanis
 mo\, bienales\, oficinas y colectivos de arquitectos\, pol&iacute\;ticas d
 e vivienda y pol&iacute\;ticas urbanas.\n1:00 pm\, presentaci&oacute\;n de
 l simposio por Daniel Talesnik\n1:15-2:30 pm primer panel: Espacio p&uacut
 e\;blico y consumo\nLiliana de Simone&nbsp\;(Profesora Asistente\, Faculta
 d de Comunicaciones\, Pontificia Universidad Cat&oacute\;lica de Chile): &
 ldquo\;Artefactos neoliberales: la construcci&oacute\;n y especulaci&oacut
 e\;n de la ciudad a trav&eacute\;s de la arquitectura de y para el consumo
 . 1973-1990&rdquo\;\nDaniel Opazo (Profesor Asistente\, Escuela de Arquite
 ctura\, Universidad de Chile): &ldquo\;Lo domiciliario como nueva matriz d
 e lo p&uacute\;blico: espacios de organizaci&oacute\;n pol&iacute\;tica en
  la ciudad&rdquo\;\nModera: Elke Schlack&nbsp\;(Profesora Asistente\, Escu
 ela de Arquitectura\, Pontificia Universidad Cat&oacute\;lica de Chile)\nR
 esponde: Genaro Cuadros&nbsp\;(Universidad Diego Portales)\n2:30-3:45 pm s
 egundo panel: Discurso disciplinar (revistas\, bienales\, etc.)\nFernando 
 Carvajal (Profesor Universidad Andr&eacute\;s Bello y Doctorando Pontifici
 a Universidad Cat&oacute\;lica de Chile): &ldquo\;Agosto de 1977\, el CEDL
 A y la contrapropuesta para el Centro de Santiago&rdquo\;\nFernando Portal
  (Profesor Asistente Adjunto\, Escuela de Arquitectura\, Pontificia Univer
 sidad Cat&oacute\;lica de Chile): &ldquo\;La desaparici&oacute\;n de lo pu
 blico en ocho bienales. Discusiones en torno a arquitectura y sociedad en 
 Chile 1977 &ndash\; 1991&rdquo\;\nModera: Macarena Cort&eacute\;s&nbsp\;(P
 rofesora Asistente\, Escuela de Arquitectura\, Pontificia Universidad Cat&
 oacute\;lica de Chile)\nResponde: Horacio Torrent&nbsp\;(Profesor Titular\
 , Escuela de Arquitectura\, Pontificia Universidad Cat&oacute\;lica de Chi
 le)\n3:45-4:00 pm Caf&eacute\;\n4:00 - 5:15 pm tercer panel: Arquitectura
 \nFrancisco D&iacute\;az&nbsp\;(Profesor Asistente\, Escuela de Arquitectu
 ra\, Pontificia Universidad Cat&oacute\;lica de Chile): &ldquo\;Arquitectu
 ra y postmodernidad en Chile: Complejidad y contradicci&oacute\;n en la di
 ctadura&rdquo\;\nDaniel Talesnik&nbsp\;(Profesor Asistente y Curador\, Mus
 eo de Arquitectura\, TU M&uacute\;nich\; Profesor Asistente Adjunto\, Escu
 ela de Arquitectura\, Pontificia Universidad Cat&oacute\;lica de Chile): &
 ldquo\;Postmodernismo y neoliberalismo en Santiago de Chile en la d&eacute
 \;cada de 1980&rdquo\;\nModera: Gabriela Garc&iacute\;a de Cort&aacute\;za
 r (Profesora Asistente Adjunto\, Escuela de Arquitectura\, Pontificia Univ
 ersidad Cat&oacute\;lica de Chile)\nResponde: Alejandro Crispiani (Profeso
 r Titular\, Escuela de Arquitectura\, Pontificia Universidad Cat&oacute\;l
 ica de Chile)\n5:15 - 6:30 pm cuarto panel: Pol&iacute\;ticas habitacional
 es\nAlejandra Celed&oacute\;n&nbsp\;(Profesora Asistente\, Escuela de Arqu
 itectura\, Pontificia Universidad Cat&oacute\;lica de Chile): &ldquo\;[NON
  PLAN] Entre libertad y liberalismo&rdquo\;\nEmanuel Giannotti&nbsp\;(Prof
 esor Asistente\, Escuela de Arquitectura\, Universidad de Chile) y Javier 
 Rojas Miranda (Licenciado en Arquitectura\, Universidad de Chile): &ldquo\
 ;&lsquo\;El esfuerzo comienza en casa&rsquo\;. Las reformulaciones de las 
 pol&iacute\;ticas de vivienda durante la dictadura\, 1975-1985.&rdquo\;\nM
 odera: Francisco Quintana&nbsp\;(Profesor Asistente\, Escuela de Arquitect
 ura\, Pontificia Universidad Cat&oacute\;lica de Chile)\nResponde: Gonzalo
  C&aacute\;ceres&nbsp\;(Profesor Asociado\, Instituto de Estudios Urbanos\
 , Pontificia Universidad Cat&oacute\;lica de Chile)\n* Cada dos presentaci
 ones de 20 minutos\, habr&aacute\; una respuesta de 10 minutos y 25 minuto
 s para preguntas.\n https://fadeu-old.urantiacos.cl/agenda/evento/1616-sim
 posio-santiago-de-chile-1977-1990
DTSTART:20180808T170000Z
DTEND:20180808T223000Z
LOCATION:Auditorio Fernando Castillo Velasco. Edificio ARQ (El Comendador 1
 936\, Providencia\, Región Metropolitana\, Chile)
SUMMARY:Simposio 'Santiago de Chile 1977-1990'
URL:https://fadeu-old.urantiacos.cl/agenda/evento/1616-simposio-santiago-de
 -chile-1977-1990
END:VEVENT
END:VCALENDAR
