BEGIN:VCALENDAR
VERSION:2.0
PRODID:-//https://fadeu-old.urantiacos.cl///NONSGML kigkonsult.se iCalcreator 2.10.15//
METHOD:PUBLISH
BEGIN:VEVENT
UID:20260419T222410UTC-1167hN8I1I@https://fadeu-old.urantiacos.cl/
DTSTAMP:20260419T222410Z
DESCRIPTION:\n\nEl programa de Mag&iacute\;ster en Patrimonio Cultural y la
  Escuela de Arquitectura de la Pontificia Universidad Cat&oacute\;lica de 
 Chile invitan a la exposici&oacute\;n y lanzamiento del cat&aacute\;logo '
 Soplos de luz' por Leonardo Portus.\n&nbsp\;\nLeonardo Portus&nbsp\;(Santi
 ago de Chile\, 1969). Artista visual autodidacta. Investiga arquitectura y
  memoria a trav&eacute\;s de lugares emblem&aacute\;ticos de nuestra histo
 ria\, simb&oacute\;licos y autobiogr&aacute\;ficos como la vivienda social
 \, y el valioso legado del patrimonio modernista. Contenidos desarrollados
  mediante fotograf&iacute\;as\, instalaciones y maquetas. Ha expuesto cole
 ctivamente dentro y fuera de Chile y recibido diversos premios.\n&nbsp\;\n
 'Soplos de Luz'&nbsp\;es un proyecto de puesta en valor del patrimonio arq
 uitect&oacute\;nico moderno chillanejo\, que interpreta en su nombre la ex
 periencia sensorial del artista Leonardo Portus al conocer por primera vez
  el Edificio COPELEC una tarde de enero de 2012. En este edificio la textu
 ra del hormig&oacute\;n brutalista adquiere una nueva cualidad donde las f
 ormas curvas y org&aacute\;nicas rompen el paradigma ortogonal de la arqui
 tectura moderna y nos hace pensar en un ilusorio alfarero que ha modelado 
 el hormig&oacute\;n como si de greda se tratase.\n&nbsp\;\n'Soplos de Luz'
  consta de cinco dioramas que recrean fragmentos interiores de COPELEC ins
 talando el ojo del espectador en cierto car&aacute\;cter on&iacute\;rico d
 e estos espacios: &iquest\;que vemos cuando ingresamos al Edificio y lo re
 corremos\, que h&aacute\;lito gu&iacute\;a nuestros pasos?. Complementan e
 stos dioramas\, una serie de fotograf&iacute\;as que documentan el interio
 r y exterior del edificio\, para quienes no lo conozcan o quieran re-visit
 arlo y descubrir nuevas experiencias sensoriales.\n&nbsp\;\nCon la present
 aci&oacute\;n de Erwin Brevis\, secretario t&eacute\;cnico del Consejo de 
 Monumentos Nacionales\, y de Jos&eacute\; de Nordenflycht\, profesor del p
 rograma de Mag&iacute\;ster en Patrimonio Cultural UC.\n&nbsp\;\n*Proyecto
  Financiado por Fondart Regional Bio Bio Convocatoria 2018\, Ministerio de
  las Culturas\, las Artes y el Patrimonio.\n&nbsp\;\n\n&nbsp\;\n\n\n\n\nNo
 ticiasContacto:&nbsp\;redesarq@uc.cl&nbsp\;| +56 2 2354 7747www.arquitectu
 ra.uc.cl\n\n&nbsp\; https://fadeu-old.urantiacos.cl/agenda/evento/1916-exp
 osicion-y-lanzamiento-catalogo-soplos-de-luz-leonardo-portus
DTSTART:20190808T223000Z
DTEND:20190808T233000Z
LOCATION:Hall Acceso Edificio escuela de Arquitectura UC (El Comendador 193
 6\, Providencia\, Región Metropolitana\, Chile)
SUMMARY:Exposición y lanzamiento catálogo 'Soplos de luz' | Leonardo Portus
URL:https://fadeu-old.urantiacos.cl/agenda/evento/1916-exposicion-y-lanzami
 ento-catalogo-soplos-de-luz-leonardo-portus
END:VEVENT
BEGIN:VEVENT
UID:20260419T222410UTC-1176OumXdD@https://fadeu-old.urantiacos.cl/
DTSTAMP:20260419T222410Z
DESCRIPTION:Seminario SDT&nbsp\;N&ordm\;9\n&nbsp\;\nPresenta:\nJoaqu&iacute
 \;n Zeren&eacute\; Harcha.\n&nbsp\;\nT&iacute\;tulo:\nReconfiguraciones po
 sthumanistas del dise&ntilde\;o: arqueolog&iacute\;as yespeculaciones en t
 orno a la relaci&oacute\;n humano-t&eacute\;cnica.\nResumen:\nLa presentac
 i&oacute\;n plantea una discusi&oacute\;n interdisciplinar\, a la luz de l
 os debates contempor&aacute\;neos en torno al posthumanismo\, las arqueolo
 g&iacute\;as mediales yel advenimiento del antropoceno\, desde el cual rep
 ensar los problemas y l&iacute\;mites disciplinares del dise&ntilde\;o. Si
 guiendo las reflexiones de fil&oacute\;sofos como Vil&eacute\;m Flussery G
 ilbert Simondon\, se propone una reflexi&oacute\;n en torno a las discipli
 nas del dise&ntilde\;o como configuradoras de las esferas artificiales que
  la &ldquo\;humanidad&rdquo\; habita y que dan forma a sus diversos modos 
 de vida &ldquo\;humanos&rdquo\;. En este contexto\, se plantea la pregunta
  por c&oacute\;mo los medios tecnol&oacute\;gicos configuran las formas de
  sensibilidad y cognici&oacute\;n humanas\, actuando sobre el mundo en dim
 ensiones y direcciones que escapan a las intenciones y significados humano
 s.Bajo esta perspectiva el dise&ntilde\;o puede ampliar sus horizontes de 
 reflexi&oacute\;n y acci&oacute\;n\, aportando al desarrollo de una posibl
 e anal&iacute\;tica de las t&eacute\;cnicas dehumanizaci&oacute\;n\, orien
 tada a la exploraci&oacute\;n cr&iacute\;tica en los estratos y procesos m
 ateriales\, mediales y tecnol&oacute\;gicos que dan forma a las sociedades
  y culturas &ldquo\;humanas&rdquo\; presentes\, pasadas y futuras.\n&nbsp\
 ;\nJoaqu&iacute\;n Zeren&eacute\; es&nbsp\;Licenciado en Artes Visuales (U
 niversidad Austral de Chile). Mag&iacute\;ster en Dise&ntilde\;o Comunicac
 ional (Universidad de Buenos Aires). Doctorando en Ciencias Humanas\, Menc
 i&oacute\;n Discurso y Cultura (Universidad Austral de Chile). Actualmente
  se encuentra realizando su investigaci&oacute\;n doctoral sobre los aport
 es de Vil&eacute\;m Flusser y Gilbert Simondon a la teor&iacute\;a y pr&aa
 cute\;ctica del dise&ntilde\;o en el contexto de las (post)humanidades del
  siglo XXI\n&nbsp\;\nComenta:\nBruno Perelli:\nProfesor Asistente del Depa
 rtamento de Dise&ntilde\;o de la Universidad de Chile. Dise&ntilde\;ador G
 r&aacute\;fico Universidad de Chile y Master en Dise&ntilde\;o Universidad
  Adolfo Ib&aacute\;&ntilde\;ez.\n\n&nbsp\;\n\n\nProyecto Fondecyt N&ordm\;
  1180062.\n&nbsp\;\n https://fadeu-old.urantiacos.cl/agenda/evento/1906-se
 minario-sdt-n-9
DTSTART:20190808T210000Z
DTEND:20190808T220000Z
LOCATION:Sala Consejo Decanato (El Comendador 1916)
SUMMARY:SEMINARIO | SDT Nº9
URL:https://fadeu-old.urantiacos.cl/agenda/evento/1906-seminario-sdt-n-9
END:VEVENT
BEGIN:VEVENT
UID:20260419T222410UTC-1470FRfOn7@https://fadeu-old.urantiacos.cl/
DTSTAMP:20260419T222410Z
DESCRIPTION:Conferencia inaugural del Mag&iacute\;ster en Arquitectura del 
 Paisaje a cargo de&nbsp\;Pablo Alfaro\,&nbsp\;arquitecto UC y&nbsp\;Master
  of Landscape Architecture\, University of California\, Berkeley\, titulad
 a 'A veces se pierde (en el paisaje)'.\n&nbsp\;\n&nbsp\;\nPablo Alfaro\n&n
 bsp\;\n&nbsp\;\nArquitecto\, Pontificia Universidad Cat&oacute\;lica de Ch
 ile (2008) y Master of Landscape Architecture\, University of California\,
  Berkeley (2016). Entre sus distinciones recientes est&aacute\; el primer 
 lugar en el concurso para el Parque Metropolitano Pachacamac en Lima\, Per
 &uacute\;\, junto a Tom&aacute\;s McKay y Kushal Lachhwani.\n&nbsp\;\n&nbs
 p\;\n\nObtuvo el&nbsp\;Stephen Lenci Award for Architecture and Landscape 
 Architecture Research\, el&nbsp\;Randy Hester Award for Ecological Democra
 cy\, y el&nbsp\;ASLA Honor Award&nbsp\;2016 por su proyecto FOGFEST. Ha si
 do colaborador en diversas oficinas de paisaje nacionales e internacionale
 s incluyendo Teodoro Fern&aacute\;ndez Arquitectos\, Rodrigo P&eacute\;rez
  de Arce + OWAR\, Gehl Architects y Topotek 1 en Berl&iacute\;n. Actualmen
 te es Arquitecto Asociado en TLS Landscape Architecture en Berkeley\, dond
 e trabaja desarrollando proyectos de paisaje de gran escala en China y Cal
 ifornia. Sus intereses se enfocan en el paisaje &aacute\;rido y en los fen
 &oacute\;menos naturales que modifican nuestra percepci&oacute\;n del pais
 aje. La camanchaca en el desierto costero chileno y las nieblas advectivas
  de la costa norte de California han sido su principal material de proyect
 o.&nbsp\;\n\nFecha_\nJueves 08 de agosto de 2019\, 13.15 h.\n&nbsp\;\nLuga
 r_\nAuditorio Fernando Castillo Velasco\nCampus Lo Contador\nEl Comendador
  1936\, Providencia\n&nbsp\;\nOrganiza_\nMag&iacute\;ster&nbsp\;en Arquite
 ctura del Paisaje UC\nEscuela de Arquitectura UC\n&nbsp\;\n\n&nbsp\;&nbsp\
 ;\nNoticiasContacto:&nbsp\;redesarq@uc.cl&nbsp\;| +56 2 2354 7747www.arqui
 tectura.uc.cl https://fadeu-old.urantiacos.cl/agenda/evento/1904-conferenc
 ia-inaugural-mapa-pablo-alfaro
DTSTART:20190808T171500Z
DTEND:20190808T181500Z
LOCATION:Auditorio Fernando Castillo Velasco. Edificio ARQ (El Comendador 1
 936\, Providencia\, Región Metropolitana\, Chile)
SUMMARY:Conferencia inaugural MAPA | Pablo Alfaro
URL:https://fadeu-old.urantiacos.cl/agenda/evento/1904-conferencia-inaugura
 l-mapa-pablo-alfaro
END:VEVENT
END:VCALENDAR
