BEGIN:VCALENDAR
VERSION:2.0
PRODID:-//https://fadeu-old.urantiacos.cl///NONSGML kigkonsult.se iCalcreator 2.10.15//
METHOD:PUBLISH
BEGIN:VEVENT
UID:20260420T173719UTC-6029saUbUF@https://fadeu-old.urantiacos.cl/
DTSTAMP:20260420T173719Z
DESCRIPTION:\nWorkshop Internacional 'How do we live? Housing workshop'\n\n
 \nJocelyn Froimovich + Johana MuszbekCurso de 5 cr&eacute\;ditos\, sigla A
 RQ3009-9\,&nbsp\;NRC 2160&nbsp\;10 al 17 de agostoLa Escuela de Arquitectu
 ra invita a sus alumnos en las etapas de ejercitaci&oacute\;n y mag&iacute
 \;ster a participar en el Workshop de vivienda colectiva a realizarse en e
 l campus Lo Contador.\nA partir del 10 de agosto de 2018 se realizar&aacut
 e\; en Santiago el workshop Project Home: How do we live? organizado por l
 a Universidad de Liverpool y guiado por las profesoras Jocelyn Froimovich 
 y Johanna Muszbek\, que contar&aacute\; con la participaci&oacute\;n de lo
 s profesores UC Cristi&aacute\;n Izquierdo y Max N&uacute\;&ntilde\;ez.\nE
 ste es un workshop de car&aacute\;cter intensivo\, requiriendo dedicaci&oa
 cute\;n jornada completa los 7 d&iacute\;as de duraci&oacute\;n del mismo\
 , incluyendo los d&iacute\;as s&aacute\;bado 11 y domingo 12.\n*Los estudi
 antes de la escuela podr&aacute\;n convalidar su participaci&oacute\;n por
  5 cr&eacute\;ditos.\nPara consultas espec&iacute\;ficas sobre el workshop
  contactar a:\nMax N&uacute\;&ntilde\;ez:&nbsp\;max@mnaa.cl&nbsp\;\nProjec
 t Home: How Do We Live?\nA big percentage of a city&rsquo\;s building stoc
 k is destined to housing. The sort of housing that is continuously&nbsp\;r
 epeated\, not the one-of-a kind client-tailored house. As cities&rsquo\; g
 rowth fluctuate\, housing demands vary.&nbsp\;Thus\, housing in a city is 
 a constant enterprise: built\, converted\, recycled\, and restored.&nbsp\;
 Housing is the&nbsp\;stuff cities are made of.&nbsp\;\nCities house housin
 g. Housing house lives.&nbsp\;Lives have changed significantly. Has housin
 g in the city&nbsp\;followed these changes?&nbsp\;Is urban housing being d
 esigned accordingly?\nDifferent lifestyles need different homes. Different
  homes develop within housing types. Housing types&nbsp\;respond to and cr
 eate a particular urban condition and vice versa. This is a problem that h
 as been&nbsp\;thought of before. The question of how to design housing has
  accompanied the discipline throughout thelast century\, but many housing 
 design paradigms still remain the same. Thus\,&nbsp\;the goal of the works
 hop&nbsp\;is to design new housing types that expand the existing housing 
 repertoire.&nbsp\;These new types will&nbsp\;respond to current and future
  lifestyles and contribute to resolve specific urban demands.\nAs part of 
 Project Home\, a research and pedagogic program on housing launched in 201
 5\, the series of&nbsp\;workshops How Do We Live? analyze domesticity in d
 ifferent urban scenarios. This series will continue as&nbsp\;a collaborati
 on between University of Liverpool School of Architecture and Pontificia U
 niversidad Cat&oacute\;lica&nbsp\;de Chile\, with a one-week workshop at S
 antiago - Campus Lo Contador.\nThis workshop will take Santiago&rsquo\;s h
 ousing and urban conditions as its case study.&nbsp\;The question&nbsp\;fo
 r this workshop is:&nbsp\;what defines the housing crisis of Santiago toda
 y?&nbsp\;By forcing the notion of crisis&nbsp\;as a methodology\, students
  will question a specific Santiago housing type and propose alternative&nb
 sp\;designs for each of them.&nbsp\;Santiago&acute\;s housing crisis will 
 be framed through the analysis of shared&nbsp\;spaces within residential c
 ompounds.\nWe will look closely at some of the city&rsquo\;s exemplary res
 idential projects. Analyzing the framework in which&nbsp\;these housing pr
 ojects were produced in Santiago will allow us to assess the relationship 
 between current&nbsp\;models of residence and design solutions.&nbsp\;The 
 goal is to productively critique preconceived notions&nbsp\;of spatial eff
 iciency\, programmatic and private versus public segregation and other mod
 ernist&nbsp\;inheritances and envision future schemes.\nThe workshop will 
 take place in Santiago between August 10th and August 17th\, 2018.\nNotici
 asContacto:&nbsp\;redesarq@uc.cl&nbsp\;| +56 2 2354 7747www.arquitectura.u
 c.cl\n\n&nbsp\; https://fadeu-old.urantiacos.cl/agenda/evento/1630-worksho
 p-internacional-how-do-we-live-housing-workshop
DTSTART:20180810T040000Z
LOCATION:Escuela de Arquitectura\, Campus Lo Contador (El Comendador 1916\,
  Providencia\, Providencia\, Región Metropolitana\, Chile)
SUMMARY:Workshop Internacional 'How do we live? Housing workshop'
URL:https://fadeu-old.urantiacos.cl/agenda/evento/1630-workshop-internacion
 al-how-do-we-live-housing-workshop
END:VEVENT
BEGIN:VEVENT
UID:20260420T173719UTC-6063RJgJZC@https://fadeu-old.urantiacos.cl/
DTSTAMP:20260420T173719Z
DESCRIPTION:\nEl pr&oacute\;ximo jueves 09 de agosto se llevar&aacute\; a c
 abo el lanzamiento del libro 'Alberto Piwonka Ovalle: en el cruce de las i
 deas de la Modernidad en Chile'. Comentan&nbsp\;Alfredo Jocelyn Holt\,&nbs
 p\;Fernando P&eacute\;rez y&nbsp\;Luz Mar&iacute\;a Williamson\, en el Aud
 itorio FADEU.\nEl libro&nbsp\;de Crist&oacute\;bal Molina Baeza supera con
  creces el marco de la arquitectura\, ofreciendo una mirada m&aacute\;s am
 plia a los procesos de modernizacion cultural\, material y arquitect&oacut
 e\;nica en el Chile de mediados del siglo pasado.\nCon la figura de Albert
 o Piwonka como un nodo -capaz de vincular una gran variedad de personas\, 
 proyectos\, ideas o incluso escuelas de pensamiento- el arquitecto se tran
 sforma\, no s&oacute\;lo en un prisma a trav&eacute\;s del cual mirar a la
  cultura en un momento espec&iacute\;fico para nuestro pa&iacute\;s\, sino
  tambi&eacute\;n en una referencia para entender gran parte del legado mat
 erial de la &eacute\;poca.\nEn ocasi&oacute\;n del lanzamiento\, se realiz
 ar&aacute\; adem&aacute\;s la finalizaci&oacute\;n de la donaci&oacute\;n 
 al Archivo de Originales del Fondo Alberto Piwonka Ovalle\, perteneciente 
 al Centro de Informaci&oacute\;n y Documentaci&oacute\;n Sergio Larra&iacu
 te\;n Garc&iacute\;a Moreno.\n\nFecha_Jueves 09 de Agosto de 2018\, 19.00 
 hrs.\nLugar_Auditorio FADEU. El Comendador 1916\, Providencia.\nOrganizan_
 FADEUEdiciones ARQEscuela de Arquitectura UC\n\nNoticiasContacto:&nbsp\;re
 desarq@uc.cl&nbsp\;| +56 2 2354 7747www.arquitectura.uc.cl\n\n https://fad
 eu-old.urantiacos.cl/agenda/evento/1613-lanzamiento-libro-alberto-piwonka-
 ovalle-en-el-cruce-de-las-ideas-de-la-modernidad-en-chile-cristobal-molina
 -baeza
DTSTART:20180809T230000Z
DTEND:20180810T000000Z
LOCATION:Auditorio FADEU\, Campus Lo Contador PUC (El Comendador 1916\, Pro
 videncia\, Providencia\, Región Metropolitana\, Chile)
SUMMARY:Lanzamiento: Libro 'Alberto Piwonka Ovalle: En el cruce de las idea
 s de la modernidad en Chile' / Cristóbal Molina Baeza
URL:https://fadeu-old.urantiacos.cl/agenda/evento/1613-lanzamiento-libro-al
 berto-piwonka-ovalle-en-el-cruce-de-las-ideas-de-la-modernidad-en-chile-cr
 istobal-molina-baeza
END:VEVENT
BEGIN:VEVENT
UID:20260420T173719UTC-6075HGLE6V@https://fadeu-old.urantiacos.cl/
DTSTAMP:20260420T173719Z
DESCRIPTION:Luis Prato\, Decano de la Facultad de Artes UC\, Mar&iacute\;a 
 Ang&eacute\;lica Zegers\, Directora de Ediciones UC\, y Elvira P&eacute\;r
 ez\, Jefa del programa de Mag&iacute\;ster en Patrimonio Cultural UC\, inv
 itan a la Presentaci&oacute\;n del libro de Ediciones UC&nbsp\;'Lecciones 
 de Clase'&nbsp\;de&nbsp\;Francisco Schwember.&nbsp\;Comentan&nbsp\;Luis M.
  Flores\, acad&eacute\;mico de la Facultad de Educaci&oacute\;n UC\, y&nbs
 p\;Jos&eacute\; de Nordenflycht\, acad&eacute\;mico UPLA y del Mag&iacute\
 ;ster en Patrimonio Cultural UC.\nEste libro -publicado en edici&oacute\;n
  biling&uuml\;e- es producto de una investigaci&oacute\;n. No es el result
 ado mismo del proceso pero s&iacute\; un producto asociado\, y tal vez de 
 los m&aacute\;s valiosos debido al doble rol que cumple: contiene una refl
 exi&oacute\;n te&oacute\;rica sobre lo ejecutado\, escrito a cinco manos p
 or expertos en la relaci&oacute\;n educaci&oacute\;n\, arte y patrimonio\;
  tambi&eacute\;n es el soporte del an&aacute\;lisis del procedimiento cons
 tructivo de la obra de Francisco Schwember. Se trata de una investigaci&oa
 cute\;n doctoral basada en una pr&aacute\;ctica\, suceso que no resulta ha
 bitual en el sistema universitario chileno.\nFrancisco Schwember&nbsp\;es&
 nbsp\;Licenciado en Arte (2001)\, Profesor de Pedagog&iacute\;a Media en A
 rtes Visuales en la Universidad Cat&oacute\;lica de Chile (2002)\, Mag&iac
 ute\;ster en Artes Universidad Cat&oacute\;lica de Chile (2010). Actualmen
 te cursa estudios de Doctorado en Ciencias de la Educaci&oacute\;n en la m
 isma instituci&oacute\;n.&nbsp\;Ha participado en varias exposiciones\, ta
 nto en Chile\, como en el extranjero\, (New York\, Madrid\, Buenos Aires\,
  Lima\, Quito\, Berl&iacute\;n). Recibe diversas distinciones entre las qu
 e destacan\; Beca CONICYT Desarrollo de Capital Humano Avanzado (2014)\, P
 remio Concurso de Creaci&oacute\;n y Cultura Art&iacute\;stica Universidad
  Cat&oacute\;lica de Chile (DIPUC)\, 2005\, VRAID 2007\, 2010\, 2012\, 201
 3 y FONDEDOC\, 2010\, Beca Taller-Exposici&oacute\;n de pintura Iberoameri
 cana\, Comunidad de Madrid\, Espa&ntilde\;a\, 2001\, Primer Lugar Promoci&
 oacute\;n 2001 en Licenciatura en Arte\, Beca Matr&iacute\;cula de Honor a
  la Excelencia Acad&eacute\;mica en la Universidad Cat&oacute\;lica de Chi
 le en los a&ntilde\;os 1998 y 1999.\nEntrada liberada\, cupos limitados. I
 nscripci&oacute\;n al correo&nbsp\;magisterpatrimonio@uc.cl&nbsp\;.\n\n ht
 tps://fadeu-old.urantiacos.cl/agenda/evento/1619-presentacion-libro-leccio
 nes-de-clase-de-francisco-schwember
DTSTART:20180809T230000Z
DTEND:20180810T000000Z
LOCATION:Auditorio Fernando Castillo Velasco. Edificio ARQ (El Comendador 1
 936\, Providencia\, Región Metropolitana\, Chile)
SUMMARY:Presentación Libro 'Lecciones de Clase' de Francisco Schwember
URL:https://fadeu-old.urantiacos.cl/agenda/evento/1619-presentacion-libro-l
 ecciones-de-clase-de-francisco-schwember
END:VEVENT
END:VCALENDAR
