BEGIN:VCALENDAR
VERSION:2.0
PRODID:-//https://fadeu-old.urantiacos.cl///NONSGML kigkonsult.se iCalcreator 2.10.15//
METHOD:PUBLISH
BEGIN:VEVENT
UID:20260419T222427UTC-1624azi1gn@https://fadeu-old.urantiacos.cl/
DTSTAMP:20260419T222427Z
DESCRIPTION:Bienvenida Magister en Dise&ntilde\;o Avanzado\, MADASal&oacute
 \;n Sergio Larra&iacute\;n\, Campus Lo Contador_18.00 a 20.00 hrs. https:/
 /fadeu-old.urantiacos.cl/agenda/evento/1912-bienvenida-magister-en-diseno-
 avanzado-mada
DTSTART:20190809T220000Z
DTEND:20190810T000000Z
LOCATION:Salón Sergio Larraín\, Campus Lo Contador ()
SUMMARY:Bienvenida Magister en Diseño Avanzado\, MADA
URL:https://fadeu-old.urantiacos.cl/agenda/evento/1912-bienvenida-magister-
 en-diseno-avanzado-mada
END:VEVENT
END:VCALENDAR
