BEGIN:VCALENDAR
VERSION:2.0
PRODID:-//https://fadeu-old.urantiacos.cl///NONSGML kigkonsult.se iCalcreator 2.10.15//
METHOD:PUBLISH
BEGIN:VEVENT
UID:20260419T222446UTC-5943ssfVVo@https://fadeu-old.urantiacos.cl/
DTSTAMP:20260419T222446Z
DESCRIPTION:\nConferencia '(Auto) gesti&oacute\;n de vivienda y barrios: De
 saf&iacute\;os y oportunidades desde la innovaci&oacute\;n social'\n\n\nLu
 z Mar&iacute\;a Vergara |&nbsp\;Arquitecta y mag&iacute\;ster UC. Doctor e
 n Gesti&oacute\;n del Entorno Construido de la TU Delft en Holanda\n&iques
 t\;Cu&aacute\;les son los desaf&iacute\;os institucionales y comunitarios 
 para administrar y mantener el parque habitacional en barrios vulnerables?
  &iquest\; De qu&eacute\; manera la innovaci&oacute\;n social y la socieda
 d civil son parte de las soluciones?. Esta charla presentar&aacute\; el de
 saf&iacute\;o de la gesti&oacute\;n habitacional en contextos de vulnerabi
 lidad\, dentro de un contexto global de transformaciones sociales marcadas
  por la co-creaci&oacute\;n\, la auto-organizaci&oacute\;n y el auge de la
  sociedad civil. Ante la ausencia del Estado y la escasa participaci&oacut
 e\;n del mercado en temas de administraci&oacute\;n y mantenimiento\, la c
 harla explorar&aacute\; el rol de la sociedad civil como veh&iacute\;culo 
 de innovaci&oacute\;n social destacando los desaf&iacute\;os y las oportun
 idades para mejorar la calidad de vivienda y barrios en Chile.\nLuz Mar&ia
 cute\;a Vergara\nArquitecta y mag&iacute\;ster UC\, y doctor en gesti&oacu
 te\;n del entorno construido de la Universidad Tecnol&oacute\;gica de Delf
 t (TU Delft)\, Holanda. Actualmente se desempe&ntilde\;a como acad&eacute\
 ;mica e investigadora en la Facultad de Arquitectura de la TU Delft en el 
 departamento de Management in the Built Environment.\nSu investigaci&oacut
 e\;n de doctorado Managing Social Condominiums se enfoc&oacute\; en el rol
  de la sociedad civil en el mejoramiento\, administraci&oacute\;n y gesti&
 oacute\;n de condominios sociales\, explorando su rol como intermediarios 
 y veh&iacute\;culos de innovaci&oacute\;n social.&nbsp\;Su l&iacute\;nea d
 e investigaci&oacute\;n se centra en procesos colaborativos y multisectori
 ales de creaci&oacute\;n y transformaci&oacute\;n de territorios vulnerabl
 es\, especialmente en regiones del sur global\, as&iacute\; como el desarr
 ollo e implementaci&oacute\;n de pol&iacute\;ticas de vivienda que apoyen 
 estos procesos.\nLuz Mar&iacute\;a es creadora y docente del curso online 
 Rethink the City. New Approaches to Global and Local Urban Challenges\, ga
 nador del premio a la excelencia acad&eacute\;mica 2017 otorgado por la As
 ociaci&oacute\;n Europea de Escuelas de Planificaci&oacute\;n Urbana (AESO
 P)\, adem&aacute\;s es fundadora del Global Urban Lab\, plataforma multidi
 sciplinaria de la Universidad de Delft dedicada a promover investigaci&oac
 ute\;n aplicada y docencia sobre procesos de urbanizaci&oacute\;n en regio
 nes del sur global.\nFecha_Lunes 12 de agosto de 2019\, 18.00 h&nbsp\;Luga
 r_Auditorio Fernando Castillo VelascoCampus Lo ContadorEl Comendador 1936\
 , ProvidenciaOrganiza_Laboratorio 9x18Escuela de Arquitectura UCCollaborat
 ive Housing ResearchUniversidad Tecnol&oacute\;gica de Delft - TU Delft&nb
 sp\;NoticiasContacto:&nbsp\;redesarq@uc.cl&nbsp\;| +56 2 2354 7747www.arqu
 itectura.uc.cl\n\n&nbsp\; https://fadeu-old.urantiacos.cl/agenda/evento/19
 17-conferencia-auto-gestion-de-vivienda-y-barrios-desafios-y-oportunidades
 -desde-la-innovacion-social
DTSTART:20190812T220000Z
DTEND:20190812T230000Z
LOCATION:Auditorio Fernando Castillo Velasco. Edificio ARQ (El Comendador 1
 936\, Providencia\, Región Metropolitana\, Chile)
SUMMARY:Conferencia '(Auto) gestión de vivienda y barrios: Desafíos y oport
 unidades desde la innovación social'
URL:https://fadeu-old.urantiacos.cl/agenda/evento/1917-conferencia-auto-ges
 tion-de-vivienda-y-barrios-desafios-y-oportunidades-desde-la-innovacion-so
 cial
END:VEVENT
BEGIN:VEVENT
UID:20260419T222446UTC-5955i6ZSae@https://fadeu-old.urantiacos.cl/
DTSTAMP:20260419T222446Z
DESCRIPTION:\nExposici&oacute\;n de los resultados del workshop 'Reclamaci&
 oacute\;n de paisajes fluviales' a&nbsp\;cargo de la arquitecta paisajista
  Claudia Illanes\, socia de Harris + Illanes\, la que reflexionar&aacute\;
  en torno a los proyectos de paisaje formulados para el borde fluvial de l
 a comuna de El Monte\, regi&oacute\;n Metropolitana\, que se ubica en los 
 m&aacute\;rgenes del r&iacute\;o Mapocho.&nbsp\;Organizado por el Mag&iacu
 te\;ster en Arquitectura del Paisaje (MAPA) en colaboraci&oacute\;n con Pu
 entes UC.\nEl workshop\, dirigido por la profesora y arquitecta paisajista
  Claudia Illanes\, se plantea como un espacio de reflexi&oacute\;n proyect
 ual asociado a la tem&aacute\;tica de la reclamaci&oacute\;n de los paisaj
 es fluviales. Si bien los bordes y riberas de nuestros r&iacute\;os consti
 tuyen lugares memorables y sistemas altamente valiosos para la resiliencia
  y sustentabilidad de las ciudades\, el estado de deterioro y abandono en 
 el cual generalmente se encuentran los transforma en espacios de conflicto
 \, riesgo y olvido. Bajo este marco\, el workshop considera la formulaci&o
 acute\;n y desarrollo de un proyecto de paisaje para el borde fluvial de l
 a comuna de El Monte\, regi&oacute\;n Metropolitana\, que se ubica en los 
 m&aacute\;rgenes del r&iacute\;o Mapocho. En t&eacute\;rminos espec&iacute
 \;ficos\, se pretende elaborar una propuesta que constituya un aporte real
  a a la gesti&oacute\;n de este espacio fluvial\, para lo cual se contar&a
 acute\; con el apoyo de PUENTES UC\, orientado a generar las articulacione
 s entre este &aacute\;mbito acad&eacute\;mico y el municipio.\n\n\nClaudia
  Illanes\nArquitecta de la Pontificia Universidad Cat&oacute\;lica de Chil
 e (1993) y&nbsp\;Mag&iacute\;ster en Arquitectura del Paisaje de la Univer
 sidad Polit&eacute\;cnica de Catalunya (2001)\, con diploma de estudios av
 anzados del Departamento de Urbanismo de la Universidad&nbsp\;Polit&eacute
 \;cnica de Catalunya (2005).\nEs socia fundadora de Harris + Illanes (2006
 )\, oficina de planificaci&oacute\;n y dise&ntilde\;o de paisaje en difere
 ntes escalas. Sus proyectos abarcan desde forestaciones en &aacute\;reas d
 egradadas\, planes de paisaje para nuevas &aacute\;reas urbanas y proyecto
 s de dise&ntilde\;o de &aacute\;reas verdes p&uacute\;blicas y privadas.&n
 bsp\;Actualmente es profesora del Mag&iacute\;ster en Arquitectura del Pai
 saje de la Escuela de Arquitectura UC.\n\nFecha_\nLunes 12 de agosto de 20
 19\, 12.30 h\n&nbsp\;\nLugar_\nSal&oacute\;n Sergio Larra&iacute\;n Garc&i
 acute\;a Moreno\nCampus Lo Contador\nEl Comendador 1936\, Providencia\n&nb
 sp\;\nOrganiza_\nMag&iacute\;ster en Arquitectura del Paisaje UC\nEscuela 
 de Arquitectura UC&nbsp\;\n&nbsp\;\n&nbsp\;\nNoticiasContacto:&nbsp\;redes
 arq@uc.cl&nbsp\;| +56 2 2354 7747www.arquitectura.uc.cl https://fadeu-old.
 urantiacos.cl/agenda/evento/1919-presentacion-del-workshop-reclamacion-de-
 paisajes-fluviales-claudia-illanes
DTSTART:20190812T163000Z
DTEND:20190812T170000Z
LOCATION:Salón Sergio Larraín\, Campus Lo Contador ()
SUMMARY:Presentación del workshop 'Reclamación de paisajes fluviales' | Cla
 udia Illanes
URL:https://fadeu-old.urantiacos.cl/agenda/evento/1919-presentacion-del-wor
 kshop-reclamacion-de-paisajes-fluviales-claudia-illanes
END:VEVENT
END:VCALENDAR
