BEGIN:VCALENDAR
VERSION:2.0
PRODID:-//https://fadeu-old.urantiacos.cl///NONSGML kigkonsult.se iCalcreator 2.10.15//
METHOD:PUBLISH
BEGIN:VEVENT
UID:20260423T133255UTC-6334Sf0V8V@https://fadeu-old.urantiacos.cl/
DTSTAMP:20260423T133255Z
DESCRIPTION:La obra del dise&ntilde\;ador Alejandro Stuven en una interesan
 te conversaci&oacute\;n con Esperanza Rodr&iacute\;guez\, co-curadora de l
 a muestra &ldquo\;A. Stuven. Creaciones Textiles&rdquo\;\, exposici&oacute
 \;n basada en su investigaci&oacute\;n\, que rescata el trabajo del autor 
 nacional y que actualmente se exhibe en nuestra Galer&iacute\;a del Dise&n
 tilde\;o (Nivel -2) con entrada liberada.\nEntrada gratuita / Cupos limita
 dosConfirma tu asistencia a extension@centroculturallamoneda.cl\nInvitada:
 Esperanza Rodr&iacute\;guezCo-curadora de la muestra &ldquo\;A. Stuven. Cr
 eaciones Textiles&rdquo\;. Dise&ntilde\;adora de la Escuela de Dise&ntilde
 \;o de la Pontificia Universidad Cat&oacute\;lica de Chile\, realiz&oacute
 \; cursos de Dise&ntilde\;o Textil en la Escuela de Arte y Dise&ntilde\;o 
 de Londr&eacute\;s Central Saint Martin. Dise&ntilde\;adora de tiendas Cen
 cosud.\nModeradora:Soledad HocesAcad&eacute\;mica de la Escuela de Dise&nt
 ilde\;o de la Pontificia Universidad Cat&oacute\;lica de Chile\, actualmen
 te miembro del directorio del Comit&eacute\; Nacional de Conservaci&oacute
 \;n Textil (CNCT)\, el que presidi&oacute\; entre 2006 y 2009. https://fad
 eu-old.urantiacos.cl/agenda/evento/1147-charla-exposicion-alejandro-stuven
DTSTART:20170816T220000Z
DTEND:20170817T000000Z
LOCATION:Centro Cultural Palacio la Moneda (Plaza de la Ciudadanía - Av Lib
 ertador Bernardo O'Higgins 1111\, Santiago\, Región Metropolitana\, Chile)
SUMMARY:Charla Exposición Alejandro Stuven 
URL:https://fadeu-old.urantiacos.cl/agenda/evento/1147-charla-exposicion-al
 ejandro-stuven
END:VEVENT
BEGIN:VEVENT
UID:20260423T133255UTC-6340ge39hN@https://fadeu-old.urantiacos.cl/
DTSTAMP:20260423T133255Z
DESCRIPTION:El detalle constructivo es (o deber&iacute\;a ser) esencial par
 a entender e intervenir en el edificio patrimonial.\nLa atenta observaci&o
 acute\;n del edificio\, plasmada gr&aacute\;ficamente a trav&eacute\;s del
  detalle\, permite definir y explicar las soluciones constructivas que lo 
 configuran. Como instrumento de proyecto\, el detalle participa del an&aac
 ute\;lisis y dise&ntilde\;o constructivo\, convirti&eacute\;ndose en la he
 rramienta clave para establecer los criterios y la toma de decisiones de l
 a intervenci&oacute\;n a realizar.\nLa leyenda en el detalle complementa l
 a descripci&oacute\;n gr&aacute\;fica y necesariamente deber&iacute\;a con
 vertirse en el puente de enlace del an&aacute\;lisis constructivo con los 
 documentos de la memoria proyectual. Ah&iacute\; radica la necesidad de es
 tablecer un rigor descriptivo.\nRelator:\nJoan Font&agrave\;s Serrat es Ar
 quitecto (ETSAB\, 1994) y Arquitecto T&eacute\;cnico (EUPG\, 1988)Profesor
  de la Universidad de Girona desde 1993. Su actividad docente se centra en
  la materia de Construcci&oacute\;n.\nDe su actividad profesional como Arq
 uitecto se puede destacar: Ampliaci&oacute\;n del Laboratorio de Ensayos p
 ara la Construcci&oacute\;n CECAM (Celr&agrave\;\, 2001)\; Edificio de 13 
 apartamentos en Canyelles (Rosas\, 2005)\; Edificio de 12 apartamentos Mol
 &iacute\; Blau (Rosas\, 2008) y Vivienda en la Rovellada (Colera\, 2011)\n
 Miembro de los Grupos de Investigaci&oacute\;n &ldquo\;An&aacute\;lisis de
 l Proceso Constructivo&rdquo\; (2005-2012)\, &rdquo\;Ingenier&iacute\;a de
  Proceso\, Producto y Producci&oacute\;n GREP' (2012-2015) y &ldquo\;UdiGi
 talEdu: Creative Learning\, STEAM and Social Change&rdquo\; (desde 2015)\n
 Doctorado en Construcci&oacute\;n\, restauraci&oacute\;n y rehabilitaci&oa
 cute\;n arquitect&oacute\;nica (UPC/ETSAB: 2005-09) y Doctorado en Educaci
 &oacute\;n: Innovaci&oacute\;n y mejora de las pr&aacute\;cticas educativa
 s (UdG: 2015). Actualmente est&aacute\; desarrollando su tesis doctoral 'A
 prendizaje de la Construcci&oacute\;n a trav&eacute\;s de im&aacute\;genes
 '.\nHa colaborado con la Universidad Nacional de Colombia\, sede Manizales
 \, impartiendo un seminario sobre &ldquo\;An&aacute\;lisis Constructivo a 
 trav&eacute\;s de Im&aacute\;genes&rdquo\; dentro de la Maestr&iacute\;a e
 n Construcci&oacute\;n\, y ha dado clases en: UCB San Pablo (La Paz\, 2015
 )\; UM San Andr&eacute\;s (La Paz\, 2015)\; Universidad de Talca (Talca\, 
 2015)\; PU Cat&oacute\;lica de Chile (Santiago\, 2015)\; UNAL (Manizales\,
  2016-17)\; Universidad del Valle (Cali\, 2017)\; PU Javeriana (Bogot&aacu
 te\;\, 2017)\; PU Javeriana (Cali\, Colombia\, 2016-17)\; Universidad de l
 os Andes (Bogot&aacute\;\, 2016-17).\n https://fadeu-old.urantiacos.cl/age
 nda/evento/1189-patrimonio-y-leyendas-en-detalle-descripcion-y-analisis-co
 nstructivo
DTSTART:20170816T210000Z
DTEND:20170816T220000Z
LOCATION:Salón Sergio Larraín\, Campus Lo Contador ()
SUMMARY:Patrimonio y leyendas en detalle: Descripción y análisis constructi
 vo
URL:https://fadeu-old.urantiacos.cl/agenda/evento/1189-patrimonio-y-leyenda
 s-en-detalle-descripcion-y-analisis-constructivo
END:VEVENT
BEGIN:VEVENT
UID:20260423T133255UTC-6349V4PrPo@https://fadeu-old.urantiacos.cl/
DTSTAMP:20260423T133255Z
DESCRIPTION:El Simposio &ldquo\;Arquitectura a trav&eacute\;s de la Ficci&o
 acute\;n&rdquo\; ser&aacute\; la primera actividad p&uacute\;blica organiz
 ada por el Storytelling Space Group\, grupo de investigaci&oacute\;n inter
 disciplinario que tiene por objetivo ampliar la comprensi&oacute\;n del ro
 l de la ficci&oacute\;n en el &aacute\;mbito de la creaci&oacute\;n arquit
 ect&oacute\;nica\, as&iacute\; como de la capacidad de la narraci&oacute\;
 n para generar constructos materiales\, y en ese sentido\, explorar m&eacu
 te\;todos de traducci&oacute\;n y transformaci&oacute\;n desde el &aacute\
 ;mbito de la ficci&oacute\;n hacia el de la arquitectura. El simposio prop
 one como tema 'El Imaginario Narrativo y sus Materializaciones' y plantea 
 dos paneles complementarios: el primero\, 'Descubriendo Historias'\, apunt
 a a explorar posibilidades de develaci&oacute\;n de las capas narrativas d
 e una obra o hecho existente\; y el segundo\, 'Materializando Historias'\,
  apunta a explorar posibilidades de condensaci&oacute\;n de un imaginario 
 en constructos espec&iacute\;ficos. De ese modo\, se busca dar a conocer a
 lgunos casos\, experiencias y reflexiones sobre el di&aacute\;logo entre A
 rquitectura y Ficci&oacute\;n\, y poner en discusi&oacute\;n la pertinenci
 a de la ficci&oacute\;n como origen y medio para la creaci&oacute\;n y la 
 ense&ntilde\;anza arquitect&oacute\;nica.\nCronograma_\nD&iacute\;a 1 | Mi
 &eacute\;rcoles\, 16 AgostoPanel 1: Descubriendo HistoriasSal&oacute\;n Se
 rgio Larra&iacute\;n\, 15 hrs.\nPalabras de bienvenida: Jos&eacute\; Rosas
 \, jefe Doctorado en Arquitectura y Estudios Urbanos UC\, coordinador en C
 hile del Storytelling Space Group.\n&ldquo\;Alimapa/Valpara&iacute\;so: la
  imagen de la cat&aacute\;strofe como develaci&oacute\;n de la historia de
  una Tierra Quemada&rdquo\;. Viviana Bravo\, artista visual Universidad de
  Chile (1996)\, estudios avanzados Kunstakademie D&uuml\;sseldorf (2002)\,
  mag&iacute\;ster Hochschule f&uuml\;r Gestaltung Offenbach am Main (2005)
 \, candidata a doctor en arquitectura y estudios urbanos UC.Abra cadabra: 
 la ilustraci&oacute\;n como lengua muerta y constructora de objetos m&aacu
 te\;gicos narrativos&rdquo\;. Daniel Blanco\, escritor e ilustrador autodi
 dacta desde 2005\, fundador y director Editorial Erdosain (2012).&ldquo\;M
 iedo de gatos invisibles: las curiosas fronteras de la imaginaci&oacute\;n
 &rdquo\;. Valentina Rosales\, psic&oacute\;loga UDP (2014)\, mag&iacute\;s
 ter en Literatura UC (2017).&ldquo\;Un camino de apropiaciones y transform
 aciones: la cumbre de un cerro\, una v&iacute\;rgen\, y una novela sobre u
 n r&iacute\;o&rdquo\;. Mat&iacute\;as Morales\, licenciado en letras UDP (
 2013)\, mag&iacute\;ster en Literatura UC (2016).&ldquo\;Fantasy\, Revolut
 ion\, and the Anthropocene: the imaginative urban speculations of Hubert R
 obert&rdquo\;. Zachary Angles\, arquitecto (EEUU\, 2014)\, estudiante de m
 &aacute\;ster School of Architecture and Planning MIT.Modera: Rixt Woudstr
 a\, historiadora del arte (Holanda\, 2010)\, m&aacute\;ster en estudios de
 l arte University of Amsterdam (2013)\, candidata a doctor en Historia\, T
 eor&iacute\;a y Cr&iacute\;tica MIT.\nD&iacute\;a 2 | Jueves\, 17 AgostoPa
 nel con EstudiantesSal&oacute\;n Sergio Larra&iacute\;n\, 11 hrs.&ldquo\;P
 orca Miseria&rdquo\;. Benjam&iacute\;n Wilson\, estudiante Mag&iacute\;ste
 r en Arquitectura UC&ldquo\;El Animal&rdquo\;. Paula Melo\, estudiante Mag
 &iacute\;ster en Dise&ntilde\;o Avanzado UC&ldquo\;Babel&rdquo\;. Renzo Ma
 rsino\, estudiante Escuela de Arquitectura UCModera: Eliyahu Keller\, arqu
 itecto (Israel\, 2009)\, m&aacute\;ster en design studies Harvard Graduate
  School of Design (2016)\, estudiante de doctorado en historia\, teor&iacu
 te\;a y cr&iacute\;tica MIT.\nPanel 2: Materializando HistoriasSal&oacute\
 ;n Sergio Larra&iacute\;n\, 15 hrs.&ldquo\;La construcci&oacute\;n de la r
 ealidad y la ficci&oacute\;n: un acercamiento al cine de Ra&uacute\;l Ruiz
 &rdquo\;. Valeria de los R&iacute\;os\, licenciada en est&eacute\;tica y p
 eriodista UC (1998)\, m&aacute\;ster (2003) y doctor Cornell University (2
 005)\, profesora asociada Instituto de Est&eacute\;tica UC.&ldquo\;Imagina
 r y materializar el pasado: arqueolog&iacute\;a experimental en la reconst
 rucci&oacute\;n de Tulor&rdquo\;. Ana Mar&iacute\;a Bar&oacute\;n\, arque&
 oacute\;loga Universidad de Chile (1979)\, m&aacute\;ster Institut de Pal&
 eacute\;ontologie Humaine (2002).&ldquo\;Imaginaci&oacute\;n activa e inco
 nsciente en di&aacute\;logo: una aproximaci&oacute\;n junguiana&rdquo\;. L
 &iacute\;a Espinosa\, licenciada en filosof&iacute\;a UC (2002)\, post&iac
 ute\;tulo psicolog&iacute\;a anal&iacute\;tica junguiana Universidad Adolf
 o Ib&aacute\;&ntilde\;ez (2005)\, estudios de doctorado en filosof&iacute\
 ;a con menci&oacute\;n en Est&eacute\;tica y Teor&iacute\;a del Arte Unive
 rsidad de Chile.&ldquo\;Construir lo no visto: intervenciones art&iacute\;
 sticas en el pasado de Santiago&rdquo\;. Isabel Garc&iacute\;a\, artista y
  curadora\, licenciada en artes Universidad de Chile (1998)\, mag&iacute\;
 ster en patrimonio cultural UC (2017).&ldquo\;A tale of two (walled) citie
 s: fiction\, architecture and imagined futures in the work of Lebbeus Wood
 s&rdquo\;. Eliyahu Keller\, arquitecto (Israel\, 2009)\, m&aacute\;ster en
  design studies Harvard Graduate School of Design (2016)\, estudiante de d
 octorado en historia\, teor&iacute\;a y cr&iacute\;tica MIT.Modera: Igor F
 racalossi\, arquitecto (Brasil\, 2009)\, mag&iacute\;ster en teor&iacute\;
 a y cr&iacute\;tica de la arquitectura UC (2012)\, candidato a doctor en a
 rquitectura y estudios urbanos UC\, profesor Escuela de Arquitectura UC.\n
 Conversatorio con Smiljan Radic y Marcela CorreaAuditorio FADEU\, 18:30 hr
 s.Entrevista: Emilio de la Cerda\, director Escuela de Arquitectura UC.\nS
 obre el Storytelling Space Group:Integrantes UC: Igor Fracalossi (Doctorad
 o en Arquitectura y Estudios Urbanos)\, Mat&iacute\;as Morales (Mag&iacute
 \;ster en Literatura) y Valentina Rosales (Mag&iacute\;ster en Literatura)
 \, y Jos&eacute\; Rosas (advisor).Integrantes MIT: Rixt Woudstra (PhD.c in
  History\, Theory and Criticism)\, Eliyahu Keller (PhD.s in History\, Theo
 ry and Criticism)\, Zachary Angles (Master School of Architecture + Planni
 ng)\, y Brandon Clifford (advisor).\nLugar_Sal&oacute\;n Sergio Larra&iacu
 te\;n\, Campus Lo Contador. El Comendador 1946\, ProvidenciaAuditorio FADE
 U\, Campus Lo Contador. El Comendador 1916\, Providencia\nCupos limitados.
  Inscripciones en este enlace.Contacto: Igor Fracalossi ifracalossi(at)uc.
 cl\nOrganiza_Storytelling Space Group MIT - UC. Coordina: Igor Fracalossi
 \nFinancia_MIT en alianza con la Vicerrector&iacute\;a de investigaci&oacu
 te\;n UC a trav&eacute\;s del Programa MISTI - Chile Seed Funds 2016.\nPat
 rocinan_Escuela de Arquitectura UC\, Subdirecci&oacute\;n de Extensi&oacut
 e\;n UC\, y Doctorado en Arquitectura y Estudios Urbanos UC.\n&nbsp\;\n ht
 tps://fadeu-old.urantiacos.cl/agenda/evento/1141-1-simposio-arquitectura-a
 -traves-de-la-ficcion-el-imaginario-narrativo-y-sus-materializaciones
DTSTART:20170816T180000Z
DTEND:20170817T223000Z
LOCATION:Auditorio FADEU\, Campus Lo Contador PUC (El Comendador 1916\, Pro
 videncia\, Providencia\, Región Metropolitana\, Chile)
SUMMARY:1° Simposio Arquitectura a través de la Ficción El Imaginario Narra
 tivo y sus Materializaciones
URL:https://fadeu-old.urantiacos.cl/agenda/evento/1141-1-simposio-arquitect
 ura-a-traves-de-la-ficcion-el-imaginario-narrativo-y-sus-materializaciones
END:VEVENT
BEGIN:VEVENT
UID:20260423T133255UTC-6368ftmNKu@https://fadeu-old.urantiacos.cl/
DTSTAMP:20260423T133255Z
DESCRIPTION:Diplomado en Tasaci&oacute\;n InmobiliariaJefa de programa: Kat
 herine Yates B.102 horas pedag&oacute\;gicas\nEl vertiginoso desarrollo de
  las ciudades hace cada vez m&aacute\;s complejo el proceso de valorizaci&
 oacute\;n de bienes y proyectos inmobiliarios dado que intervienen en ello
 s m&uacute\;ltiples variables asociadas a los procesos urbanos y econ&oacu
 te\;micos\, como lo son la incorporaci&oacute\;n de nuevas &aacute\;reas d
 e expansi&oacute\;n\, cambios normativos\, tendencias en la demanda\, fluc
 tuaciones del ciclo econ&oacute\;mico nacional\, entre otras. Por tanto\, 
 se requieren profesionales con un amplio criterio\, capaces de enfrentar e
  identificar estas variables para llevarlas a efectos de mercado con la ca
 pacidad de emitir juicios fundamentados en informaciones diversas y destre
 za t&eacute\;cnica.\nEs por esto que nace la necesidad de un profesional i
 nteresado en explorar en este campo que adquiera el manejo de un conjunto 
 de conocimientos\, no s&oacute\;lo t&eacute\;cnicos sino adem&aacute\;s de
  la actualidad contingente del sector y su cultura espec&iacute\;fica\, qu
 e le permitan ser capaz de emitir juicios fundamentados y opiniones con cr
 iterio a la hora de valorar un bien.\nEl diplomado de Tasaciones Inmobilia
 rias est&aacute\; enfocado a entregar todas las herramientas b&aacute\;sic
 as para que un profesional del &aacute\;rea inmobiliaria\, o &aacute\;reas
  afines\, pueda ejercer como tasador e iniciar un camino en este campo lab
 oral.\n*10% a las primeras 5 personas que se matriculen en este programa a
 ntes del 15 de julio de 2017.**M&aacute\;ximo de descuento acumulable: 15%
 \n+ M&aacute\;s informaci&oacute\;n y postulaci&oacute\;n aqu&iacute\;.\n&
 nbsp\;\n https://fadeu-old.urantiacos.cl/agenda/evento/1049-inicio-diploma
 do-en-tasacion-inmobiliaria
DTSTART:20170816T030000Z
LOCATION:Instituto de Estudios Urbanos y Territoriales UC\, Campus Lo Conta
 dor (El Comendador 1916\, Providencia\, Providencia\, Región Metropolitana
 \, Chile)
SUMMARY:Inicio Diplomado en Tasación Inmobiliaria
URL:https://fadeu-old.urantiacos.cl/agenda/evento/1049-inicio-diplomado-en-
 tasacion-inmobiliaria
END:VEVENT
BEGIN:VEVENT
UID:20260423T133255UTC-6374PNL3wC@https://fadeu-old.urantiacos.cl/
DTSTAMP:20260423T133255Z
DESCRIPTION:Jefe de programa:Felipe Sepulveda100 horas\nDescripci&oacute\;n
 :El retail\, es sin duda\, uno de los sectores econ&oacute\;micos m&aacute
 \;s din&aacute\;micos del mercado debido a la alta competencia entre sus a
 gentes\, los m&uacute\;ltiples canales de venta y el creciente aumento de 
 expectativas por parte de sus consumidores. Por este motivo\, el Visual Me
 rchandising act&uacute\;a como una herramienta fundamental y estrat&eacute
 \;gica para este rubro promoviendo la venta de productos mediante exhibici
 ones atractivas que rentabilizan los espacios.\nComo paradoja de nuestro c
 ontexto local\, si bien el &aacute\;rea se encuentra en desarrollo crecien
 te y cada vez son m&aacute\;s amplias las posibilidades laborales\, no exi
 ste una profesionalizaci&oacute\;n espec&iacute\;fica de la disciplina: la
  falta de informaci&oacute\;n y la escasez de espacios de discusi&oacute\;
 n y praxis del Visual Merchandising impiden ampliar el conocimiento sobre 
 el tema para transformarnos en un referente nacional e internacional. Por 
 este motivo\, el dise&ntilde\;o asume un rol fundamental como un agente de
  intervenci&oacute\;n\, innovaci&oacute\;n y cambio.\nEl desarrollo de vit
 rinas (o escaparates) y las estrategias visuales para los diferentes espac
 ios comerciales son herramientas fundamentales que hoy demandan los difere
 ntes retailers. El Visual Merchandising es entonces un complejo y relevant
 e &aacute\;mbito del retail que no s&oacute\;lo se comporta al servicio de
  la venta\, sino que tambi&eacute\;n\, como en espacio experimental de cre
 atividad y expresi&oacute\;n pl&aacute\;stica.\n&nbsp\;\n+ m&aacute\;s inf
 ormaci&oacute\;n aqu&iacute\;\n\n&nbsp\; https://fadeu-old.urantiacos.cl/a
 genda/evento/1103-diplomado-en-vitrinismo-y-visual-merchandising
DTSTART:20170816T030000Z
LOCATION:Escuela de Diseño UC\, Campus Lo Contador (El Comendador\, Provide
 ncia\, Providencia\, Región Metropolitana\, Chile)
SUMMARY:Diplomado en Vitrinismo y Visual Merchandising
URL:https://fadeu-old.urantiacos.cl/agenda/evento/1103-diplomado-en-vitrini
 smo-y-visual-merchandising
END:VEVENT
BEGIN:VEVENT
UID:20260423T133255UTC-6380DhSCCl@https://fadeu-old.urantiacos.cl/
DTSTAMP:20260423T133255Z
DESCRIPTION:El workshop Genis Temporum\, Time grounded design / Responsive 
 practices for uncertain scenarios que organiza el MAPA UC propone dise&nti
 lde\;ar una metodolog&iacute\;a experimental y abierta capaz de promover l
 a factibilidad y\, advenimiento y adaptabilidad de varias hip&oacute\;tesi
 s en el curso montano-natural\, rural-en-evoluci&oacute\;n y urbano-consol
 idaci&oacute\;n del r&iacute\;o Mapocho en Santiago.\nA trav&eacute\;s de 
 3 tiempos proyectuales con distinta capacidad de transformaci&oacute\;n\, 
 impacto y movilizaci&oacute\;n de recursos: el tiempo de las ''victorias t
 empranas''\, inmediatas y palpables\, el tiempo recurrente y c&iacute\;cli
 co de ''los protocolos'' y finalmente el tiempo intenso y experimental de 
 los ''prototipos'' o ''proyectos piloto''\,el workshop buscar&aacute\; con
 cebir una estrategia para el mayor equipamiento p&uacute\;blico de Santiag
 o.\nMart&iacute\; Franch\, Ing. en Horticultura y Jardiner&iacute\;a ETSAB
 \, licenciado en Arquitectura del Paisaje por la Universidad de Greenwich\
 , profesor de proyectos en el Master de Paisaje de la ETSAB\, y profesor v
 isitante en distintas universidades de Europa ser&aacute\; el responsable 
 del workshop.\nDaniela Fuentealba\, Arquitecta de la Universidad de Chile\
 , Mag&iacute\;ster en Arquitectura del Paisaje por la Universidad Polit&ea
 cute\;cnica de Catalunya\, project leader en el estudio EMF de Mart&iacute
 \; Franch y profesora adjunta en el taller ''Sistemas del agua'' del Mag&i
 acute\;ster en Arquitectura del Paisaje de la Universidad de Catalunya \,s
 er&aacute\; la profesora invitada.\nPara m&aacute\;s informaci&oacute\;n m
 agistermapaz@uc.cl\nFecha_Mi&eacute\;rcoles 09 - Viernes 18 de agosto de 2
 017.\nLugar_Campus Lo Contador. El Comendador 1916\, Providencia\nInvitan_
 Mag&iacute\;ster en Arquitectura del Paisaje UC\n&nbsp\;\n https://fadeu-o
 ld.urantiacos.cl/agenda/evento/1161-workshop-internacional-de-paisaje
DTSTART:20170809T040000Z
DTEND:20170818T030000Z
LOCATION:Campus Lo Contador (El Comendador 1916\, Providencia\, Providencia
 \, Región Metropolitana\, Chile)
SUMMARY:Workshop Internacional de Paisaje
URL:https://fadeu-old.urantiacos.cl/agenda/evento/1161-workshop-internacion
 al-de-paisaje
END:VEVENT
END:VCALENDAR
