BEGIN:VCALENDAR
VERSION:2.0
PRODID:-//https://fadeu-old.urantiacos.cl///NONSGML kigkonsult.se iCalcreator 2.10.15//
METHOD:PUBLISH
BEGIN:VEVENT
UID:20260419T222426UTC-7514AdDzSC@https://fadeu-old.urantiacos.cl/
DTSTAMP:20260419T222426Z
DESCRIPTION:Patricio Bernedo\, Decano de la Facultad de Historia\, Geograf&
 iacute\;a y Ciencia Pol&iacute\;tica UC\, Mar&iacute\;a Ang&eacute\;lica Z
 egers\, Directora de Ediciones UC\, y Elvira P&eacute\;rez\, Jefa del prog
 rama de Mag&iacute\;ster en Patrimonio Cultural UC\, invitan a la&nbsp\;Pr
 esentaci&oacute\;n del Libro&nbsp\;de Ediciones UC ESTUDIOS PATRIMONIALES.
 &nbsp\;Edici&oacute\;n de Jos&eacute\; de Nordenflycht Concha y art&iacute
 \;culos de los profesores del programa de Mag&iacute\;ster en Patrimonio C
 ultural UC. Comenta Rafael Sagredo\, acad&eacute\;mico del Instituto de Hi
 storia UC.\nLunes 19 de Agosto de 2019\, 18:00 hrs.\, Museo Hist&oacute\;r
 ico Nacional\, Sal&oacute\;n Gobernadores. Plaza de Armas 951\, Santiago.
 \n'Estudios Patrimoniales despliega un estado del debate contempor&aacute\
 ;neo sobre la producci&oacute\;n intelectual en el campo multidisciplinar 
 de nuestro patrimonio local.\nSus autores comprenden al patrimonio como un
  fen&oacute\;meno m&aacute\;s complejo que un tema o una disciplina. Un fe
 n&oacute\;meno relacional que acontece en casos concretos\, los que necesi
 tan de pr&aacute\;cticas reflexivas para una discusi&oacute\;n transversal
  que movilice la responsabilidad disciplinar del saber universitario.\nHoy
  d&iacute\;a\, cuando la palabra patrimonio est&aacute\; raptada por el se
 ntido com&uacute\;n de lo pol&iacute\;ticamente correcto\, desde el volunt
 arismo activista y el reclamo de variados sectores\, se hace necesaria est
 a caja de herramientas que permita pensar el patrimonio a partir de la com
 prensi&oacute\;n de su devenir conceptual y de este modo promover nuevas i
 nvestigaciones\, referenciar proyectos de intervenci&oacute\;n e inspirar 
 pol&iacute\;ticas p&uacute\;blicas\, para que la palabra patrimonio abra s
 u significado a lo que merecen nuestras generaciones futuras.' Jos&eacute\
 ; de Nordenflycht Concha.\nEntrada liberada. Favor confirmar asistencia al
  correo&nbsp\;magisterpatrimonio@uc.cl\n\n&Iacute\;NDICE\nIntroducci&oacut
 e\;n\nPENSAR EL PATRIMONIO.José de Nordenflycht Concha\nPatrimonio e Hist
 oria\nREVELANDO LA IDENTIDAD EN EL MUNDO VIRREINAL&nbsp\;A TRAV&Eacute\;S 
 DE IM&Aacute\;GENES HIST&Oacute\;RICAS: TRES VISTAS&nbsp\;DEL CONVENTO DE 
 LAS CARMELITAS DESCALZAS&nbsp\;DE SAN RAFAEL\, LA CHIMBA\, SANTIAGO\, 1773
 .Catherine E. Burdick\nEL PATRIMONIO COLECCIONABLE:&nbsp\;DE LO NATURAL A 
 LO HISTÓRICO EN EL SIGLO XIX.&nbsp\;APUNTES PARA LA HISTORIA DE LOS MUSEO
 S EN CHILE.Daniela Serra Anguita\nDE LA PROPUESTA MUSEOGR&Aacute\;FICA A L
 A INTERACCI&Oacute\;N&nbsp\;DEL PATRIMONIO CON LA SOCIEDAD: LOS CASOS&nbsp
 \;DEL MUSEO HISTÓRICO NACIONAL Y DEL MUSEO&nbsp\;DE LA MEMORIA Y DE LOS D
 ERECHOS HUMANOS.Gonçalo de Carvalho Amaro\nPatrimonio y SociedadEL PATRIM
 ONIO COMO PROBLEMA ACAD&Eacute\;MICO:&nbsp\;APUNTES PARA UN ENFOQUE INTERD
 ISCIPLINARIO.Joseph Gómez Villar\nCUANDO TODO ES PATRIMONIO\, TODO ES POL
 &Iacute\;TICA:&nbsp\;PARA UNA HISTORIA DEL PATRIMONIO EN CHILE.José de No
 rdenflycht Concha\nHISTORIA P&Uacute\;BLICA Y ESTUDIOS DEL PATRIMONIO.&nbs
 p\;CONVERGENCIAS Y DIVERGENCIAS PARA EL CASO&nbsp\;DEL TURISMO CULTURAL.Ol
 aya Sanfuentes Echeverr&iacute\;a\nPatrimonio y Proyecto\nLAS TRANSFORMACI
 ONES URBANAS Y ARQUITECT&Oacute\;NICAS&nbsp\;COMO DETERMINANTES DE LOS VAL
 ORES PATRIMONIALES&nbsp\;DEL CENTRO HIST&Oacute\;RICO DE SANTIAGO (1910-20
 10)&nbsp\;Y SU APORTE AL DESARROLLO URBANO SOSTENIBLE EN&nbsp\;EL SIGLO XX
 I.Jos&eacute\; Rosas Vera y Juan Camilo Pardo de Castro\nPERSISTENCIA PATR
 IMONIAL:&nbsp\;DATACI&Oacute\;N RELATIVA DE UN EDIFICIO HIST&Oacute\;RICO.
 Aika Nameta &Aacute\;lvarez y Francisco Prado Garc&iacute\;a\nEL PATRIMONI
 O Y SUS DESAF&Iacute\;OS CONTEMPOR&Aacute\;NEOS.&nbsp\;COMPRENDER\, PROTEG
 ER\, TRANSFORMAR.Fernando P&eacute\;rez Oyarz&uacute\;n y Elvira Pérez Vi
 llal&oacute\;n\nPRESERVACI&Oacute\;N E INTENCI&Oacute\;N.&nbsp\;TEMPORALID
 AD VERSUS ORIGINALIDAD EN&nbsp\;LA ARQUITECTURA MODERNA.Lorena Pérez Leig
 hton\nVALOR DE ARQUITECTURA: ENTRE EL CANON ETERNO&nbsp\;Y EL PATRIMONIO F
 UTURO.Emilio De la Cerda Err&aacute\;zuriz\nEp&iacute\;logo\nEL PATRIMONIO
  EN EL CENTRO DE LA&nbsp\;PONTIFICIA UNIVERSIDAD CAT&Oacute\;LICA DE CHILE
 .Jos&eacute\; Rosas Vera\, Elvira P&eacute\;rez Villal&oacute\;n y&nbsp\;J
 uan Camilo Pardo de Castro\n https://fadeu-old.urantiacos.cl/agenda/evento
 /1902-lanzamiento-libro-estudios-patrimoniales
DTSTART:20190819T220000Z
DTEND:20190819T230000Z
LOCATION:Museo Histórico Nacional (Plaza de Armas s/n)
SUMMARY:Lanzamiento Libro: 'Estudios Patrimoniales'
URL:https://fadeu-old.urantiacos.cl/agenda/evento/1902-lanzamiento-libro-es
 tudios-patrimoniales
END:VEVENT
END:VCALENDAR
