BEGIN:VCALENDAR
VERSION:2.0
PRODID:-//https://fadeu-old.urantiacos.cl///NONSGML kigkonsult.se iCalcreator 2.10.15//
METHOD:PUBLISH
BEGIN:VEVENT
UID:20260423T133255UTC-8578ILJiuS@https://fadeu-old.urantiacos.cl/
DTSTAMP:20260423T133255Z
DESCRIPTION:Contin&uacute\;a el ciclo de discusi&oacute\;n organizado por e
 l Mag&iacute\;ster en Arquitectura UC. En su 11&deg\; sesi&oacute\;n\, Ste
 phanie Fell y Camila Reyes se unen al panel regular compuesto por Cristi&a
 acute\;n Izquierdo\, Max Nu&ntilde\;ez\, Nicol&aacute\;s Stutzin\, Alejand
 ra Celed&oacute\;n y Francisco D&iacute\;az\, para poner en di&aacute\;log
 o la Torre Costanera de Cesar Pelli y las terrazas de Providencia\, de San
  Mart&iacute\;n Wenborne y Browne.\nHabr&aacute\; vino de honor para los a
 sistentes.\nFecha_Martes 22 de agosto de 2017\, 19.00 hrs.\nLugar_Auditori
 o Arquitectura\, Campus Lo Contador. El Comendador 1936\, Providencia\nInv
 itan_MARQ UCArquitectura UC\n&nbsp\;\n https://fadeu-old.urantiacos.cl/age
 nda/evento/1207-serie-discusion-y-critica-de-edificios
DTSTART:20170822T220000Z
DTEND:20170822T230000Z
LOCATION:Auditorio FADEU\, Campus Lo Contador PUC (El Comendador 1916\, Pro
 videncia\, Providencia\, Región Metropolitana\, Chile)
SUMMARY:Serie Discusión y Crítica de Edificios
URL:https://fadeu-old.urantiacos.cl/agenda/evento/1207-serie-discusion-y-cr
 itica-de-edificios
END:VEVENT
BEGIN:VEVENT
UID:20260423T133255UTC-8583ob4HOx@https://fadeu-old.urantiacos.cl/
DTSTAMP:20260423T133255Z
DESCRIPTION:Instancia de an&aacute\;lisis sobre la infograf&iacute\;a\, sus
  an&aacute\;lisis y enfoque desde el punto de vista de acad&eacute\;micos 
 presentes en el Diplomado de Infograf&iacute\;a. &iquest\;Qu&eacute\; es l
 a infograf&iacute\;a?\; &iquest\;cu&aacute\;l es su aplicaci&oacute\;n pr&
 aacute\;ctica en las comunicaciones hoy en d&iacute\;a?\; &iquest\;Es un l
 enguaje de comunicaci&oacute\;n con reglas propias?\; Infograf&iacute\;a y
  visualizaci&oacute\;n de datos &iquest\;en qu&eacute\; se parece y en qu&
 eacute\; se diferencian?.\n\n&nbsp\; https://fadeu-old.urantiacos.cl/agend
 a/evento/1215-conversatorio-infografia-mucho-mas-que-1000-palabras-y-mas
DTSTART:20170822T220000Z
DTEND:20170822T230000Z
LOCATION:Escuela de Diseño UC\, Campus Lo Contador (El Comendador\, Provide
 ncia\, Providencia\, Región Metropolitana\, Chile)
SUMMARY:Conversatorio 'Infografía\, mucho más que 1000 palabras... y más'
URL:https://fadeu-old.urantiacos.cl/agenda/evento/1215-conversatorio-infogr
 afia-mucho-mas-que-1000-palabras-y-mas
END:VEVENT
BEGIN:VEVENT
UID:20260423T133255UTC-8586PDnuA4@https://fadeu-old.urantiacos.cl/
DTSTAMP:20260423T133255Z
DESCRIPTION:El pr&oacute\;ximo martes Daniel Korwan realizar&aacute\; la cl
 ase magistral ''The Sun that Governs us''\, invitado por el MASE UC y el F
 ondef Fachada Variable. Daniel es arquitecto de la Universidad T&eacute\;c
 nica de Berl&iacute\;n\, donde se desempe&ntilde\;&oacute\; como ayudante 
 de investigaci&oacute\;n para el proyecto Young Cities y como Investigador
  asociado y tutor en el &aacute\;rea de construcci&oacute\;n y dise&ntilde
 \;o. Actualmente desarrolla labores de investigaci&oacute\;n y docencia en
  la Universidad T&eacute\;cnica de Graz.\nFecha_Martes 22 de agosto de 201
 7. 13.30 hrs\nLugar_Auditorio Arquitectura\, Campus Lo Contador. El Comend
 ador 1936\, (4&deg\; piso) Providencia\nInvitan_MASE UCFONDEF Fachada Vari
 able\n https://fadeu-old.urantiacos.cl/agenda/evento/1205-conferencia-dani
 el-korwan
DTSTART:20170822T163000Z
DTEND:20170822T173000Z
LOCATION:Auditorio Arquitectura UC\, Campus Lo Contador (el comendador 1916
 \, providencia)
SUMMARY:Conferencia Daniel Korwan
URL:https://fadeu-old.urantiacos.cl/agenda/evento/1205-conferencia-daniel-k
 orwan
END:VEVENT
BEGIN:VEVENT
UID:20260423T133255UTC-85901aCJmC@https://fadeu-old.urantiacos.cl/
DTSTAMP:20260423T133255Z
DESCRIPTION:Los invitarlos a participar del evento 'Soy la UC: di&aacute\;l
 ogos sobre identidad cat&oacute\;lica' a realizarse el d&iacute\;a martes 
 22 de agosto a de 12:00 a 14:00 hrs. en el auditorio FADEU.\nEste evento s
 e centrar&aacute\; en la Identidad Cat&oacute\;lica y excelencia: la unive
 rsidad al servicio\, inici&aacute\;ndose con la exposici&oacute\;n de los 
 directores de las Escuelas de Arquitectura y Dise&ntilde\;o\, Emilio de la
  Cerda y Jos&eacute\; Allard\, y del Instituto de Estudios Urbanos y terri
 toriales\, Luis Fuentes.Luego de ello se pasar&aacute\; a un di&aacute\;lo
 go por mesas sobre este tema.\nLa participaci&oacute\;n de todos es import
 ante\, por los que les invitamos a poder hacerse el tiempo de participar.C
 ontaremos con sandwich para el almuerzo.Quienes asistan\, deber&aacute\;n 
 confirmar aqu&iacute\;.&nbsp\;\n https://fadeu-old.urantiacos.cl/agenda/ev
 ento/1191-soy-la-uc-dialogos-sobre-identidad-catolica
DTSTART:20170822T150000Z
DTEND:20170822T170000Z
LOCATION:Auditorio FADEU\, Campus Lo Contador PUC (El Comendador 1916\, Pro
 videncia\, Providencia\, Región Metropolitana\, Chile)
SUMMARY:Soy la UC: diálogos sobre identidad católica
URL:https://fadeu-old.urantiacos.cl/agenda/evento/1191-soy-la-uc-dialogos-s
 obre-identidad-catolica
END:VEVENT
END:VCALENDAR
