BEGIN:VCALENDAR
VERSION:2.0
PRODID:-//https://fadeu-old.urantiacos.cl///NONSGML kigkonsult.se iCalcreator 2.10.15//
METHOD:PUBLISH
BEGIN:VEVENT
UID:20260419T222410UTC-1044eXj9VU@https://fadeu-old.urantiacos.cl/
DTSTAMP:20260419T222410Z
DESCRIPTION:Roberto Moris\, director del Programa de Planes y Proyectos Urb
 anos UC\, y profesor de la Escuela de Arquitectura UC y del Instituto de E
 studios Urbanos UC\, dictar&aacute\; una conferencia en torno a los planes
  internacionales para olimpiadas y eventos de gran escala\, en el marco de
 l ciclo 'Santiago 2023: La dimensi&oacute\;n urbana de los Juegos Panameri
 canos'\, organizado por el Mag&iacute\;ster en Proyecto Urbano (MPUR).\nCi
 clo 'Santiago 2023: La dimensi&oacute\;n urbana de los Juegos Panamericano
 s'\nLa forma de las ciudades se encuentra inextricablemente ligada con la 
 historia y con el contexto social y pol&iacute\;tico en el cual se inserta
 n. Parte importante de las mayores transformaciones que se pueden observar
  en su tejido urbano tienen origen en coyunturas en apariencia ajenas a la
  discusi&oacute\;n sobre la ciudad\, pero que han demostrado sin embargo s
 er elementos de cambio de tendencia y ritmo en la transformaci&oacute\;n d
 e ella. Desde las grandes exposiciones universales del siglo XIX en adelan
 te\, hasta los eventos deportivos de gran magnitud como los mundiales y la
 s olimpiadas\, el espacio de las ciudades ha sido sujeto de reflexi&oacute
 \;n a ra&iacute\;z de las oportunidades ligadas a acontecimientos de grand
 es proporciones\, y ha servido de laboratorio de experimentaci&oacute\;n p
 ara varias de las m&aacute\;s vanguardistas ideas sobre la arquitectura y 
 la ciudad.\nLos grandes eventos deportivos\, en particular\, representan u
 na inversi&oacute\;n de gran magnitud para los pa&iacute\;ses que los reci
 ben y los organizan. La envergadura de las inversiones requeridas plantea 
 adem&aacute\;s la necesidad de preguntarse por el legado que deja el paso 
 del evento por la ciudad\, tomando relevancia la estrategia que se aborda 
 para evitar la redundancia. El ciclo Santiago 2023\, organizado por la Esc
 uela de Arquitectura y el Programa de Magister en Proyecto Urbano\, plante
 a una discusi&oacute\;n abierta sobre las oportunidades y desaf&iacute\;os
  urbanos que surgen con el nombramiento de Chile como pa&iacute\;s sede de
  los Juegos Panamericanos del a&ntilde\;o 2023.\nConferencia 'Grandes even
 tos internacionales y su rol en el desarrollo urbano' |&nbsp\;Roberto Mori
 s\nGrandes eventos de origen natural o antr&oacute\;picos como incendios\,
  terremotos\, ferias\, mundiales de f&uacute\;tbol y olimpiadas han demost
 rado ser potentes herramientas de transformaci&oacute\;n urbana. Sin embar
 go\, no siempre estos cambios han sido positivos o suficientemente positiv
 os como se esperaba. Uno de los aprendizajes transversales de estas experi
 encias radica en la comprensi&oacute\;n estructural del sistema urbano y p
 or sobre la intervenci&oacute\;n en &aacute\;reas espec&iacute\;ficas. Una
 s olimpiadas funcionar&aacute\;n bien en una ciudad que funciona bien. Una
 s olimpiadas podr&aacute\;n ser un aporte a la ciudad cuando su legado hay
 a sido conformado bajo la compresi&oacute\;n de su rol en el sistema urban
 o.\nEl a&ntilde\;o 2023 Santiago acoger&aacute\; los Juegos Panamericanos 
 restando s&oacute\;lo 4 a&ntilde\;os para su preparaci&oacute\;n. Los buen
 os resultados de la delegaci&oacute\;n Chilena en Lima 2019 han dado nuevo
 s br&iacute\;os al posicionamiento p&uacute\;blico del deporte de alta com
 petitividad\, lo cual debiera repercutir en una mejora de las condiciones 
 se preparaci&oacute\;n de los deportistas de excelencia. Mientras tanto\, 
 el tiempo corre y cuatro a&ntilde\;os es un suspiro en la gesti&oacute\;n 
 urbana estructural. Los Panamericanos 2023 pueden ser un aporte para Santi
 ago si logra instalarse como aporte y complemento a la ciudad que los acog
 er&aacute\;. La presentaci&oacute\;n revisar&aacute\; algunas experiencias
  que podr&iacute\;an entregar aprendizajes claves para el dise&ntilde\;o e
  implementaci&oacute\;n de los juegos Panamericanos en su dimensi&oacute\;
 n urbana\, y pretende dar un puntapi&eacute\; inicial a la discusi&oacute\
 ;n sobre los procesos en marcha y a los desaf&iacute\;os urbanos que este 
 evento plantea para la ciudad.\nRoberto Moris\nArquitecto UC y Master en D
 ise&ntilde\;o de Ciudades y Ciencias Sociales LSE. Planificador urbano\, a
 cad&eacute\;mico y consultor con enfoque en investigaci&oacute\;n aplicada
  e innovaci&oacute\;n. Es experto en planificaci&oacute\;n integrada\, cap
 acidad de carga\, modelos de gesti&oacute\;n\, sustentabilidad y resilienc
 ia. Ha trabajado con el PNUD\, el Banco Mundial y el BID. En el sector p&u
 acute\;blico\, fue secretario t&eacute\;cnico del Comit&eacute\; de Minist
 ros de la Ciudad y el Territorio y jefe de la Direcci&oacute\;n de Proyect
 os Urbanos MINVU. Fue subdirector del Instituto de Estudios Urbanos UC\, d
 irector del Observatorio de Ciudades UC. Actualmente es director del Progr
 ama de Planes y Proyectos Urbanos UC\, y profesor de la Escuela de Arquite
 ctura UC y&nbsp\;del Instituto&nbsp\;de Estudios Urbanos UC.\nFecha_\nJuev
 es 22 de agosto de 2019\, 19.00 h\n&nbsp\;\nLugar_Auditorio Fernando Casti
 llo VelascoCampus Lo ContadorEl Comendador 1936\, Providencia\n&nbsp\;\nOr
 ganiza_\nMag&iacute\;ster en Proyecto Urbano UCEscuela de Arquitectura UC
 \n&nbsp\;\n\n&nbsp\;\nNoticiasContacto:&nbsp\;redesarq@uc.cl&nbsp\;| +56 2
  2354 7747www.arquitectura.uc.cl https://fadeu-old.urantiacos.cl/agenda/ev
 ento/1923-ciclo-santiago-2023-la-dimension-urbana-de-los-juegos-panamerica
 nos-roberto-moris
DTSTART:20190822T230000Z
DTEND:20190823T000000Z
LOCATION:Auditorio Fernando Castillo Velasco. Edificio ARQ (El Comendador 1
 936\, Providencia\, Región Metropolitana\, Chile)
SUMMARY:Ciclo 'Santiago 2023: La dimensión urbana de los Juegos Panamerican
 os' | Roberto Moris
URL:https://fadeu-old.urantiacos.cl/agenda/evento/1923-ciclo-santiago-2023-
 la-dimension-urbana-de-los-juegos-panamericanos-roberto-moris
END:VEVENT
BEGIN:VEVENT
UID:20260419T222410UTC-1059M2ckOV@https://fadeu-old.urantiacos.cl/
DTSTAMP:20260419T222410Z
DESCRIPTION:\n&nbsp\;Charla:&nbsp\;El concepto de Smart City como herramien
 ta de Desarrollo Rural\, dictada por el&nbsp\;Doctor en Sociolog&iacute\;a
  Aplicada\,&nbsp\;Carlos de las Heras. Comenta la profesora del IEUT\, Car
 olina Rojas.\nLa actividad se realizar&aacute\; el&nbsp\;jueves 22 de agos
 to a las 13:30 hrs.&nbsp\;en la Sala de Consejo del Instituto de Estudios 
 Urbanos y Territoriales UC.\nCupos limitados. Se entregar&aacute\; un almu
 erzo liviano previa inscripci&oacute\;n&nbsp\;aqu&iacute\;\n\n https://fad
 eu-old.urantiacos.cl/agenda/evento/1931-charla-el-concepto-de-smart-city-c
 omo-herramienta-de-desarrollo-rural
DTSTART:20190822T173000Z
DTEND:20190822T183000Z
LOCATION:Sala Consejo Instituto de Estudios Urbanos (El Comendador 1916\, P
 rovidencia\, Región Metropolitana\, Chile)
SUMMARY: Charla: El concepto de Smart City como herramienta de Desarrollo R
 ural
URL:https://fadeu-old.urantiacos.cl/agenda/evento/1931-charla-el-concepto-d
 e-smart-city-como-herramienta-de-desarrollo-rural
END:VEVENT
BEGIN:VEVENT
UID:20260419T222410UTC-1063zjoFtX@https://fadeu-old.urantiacos.cl/
DTSTAMP:20260419T222410Z
DESCRIPTION:Serie de Discusi&oacute\;n y cr&iacute\;tica de edificios24 | A
 NTIG&Uuml\;EDADES\nEste segundo semestre vuelve el ciclo 'Discusi&oacute\;
 n y cr&iacute\;tica de edificios'\, organizado por el Mag&iacute\;ster en 
 Arquitectura UC. Bajo el t&iacute\;tulo &lsquo\;ANTIG&Uuml\;EDADES&rsquo\;
 \, en esta ocasi&oacute\;n Alejandra Celed&oacute\;n y Cristi&aacute\;n Iz
 quierdo expondr&aacute\;n el Palacio Pereira (Puga + Velasco + Moletto) y 
 Nave (Radic + Castillo). A la presentaci&oacute\;n inicial le seguir&aacut
 e\; una discusi&oacute\;n abierta a la que se sumar&aacute\;n profesores d
 el magister y el p&uacute\;blico.\nFecha_Mi&eacute\;rcoles 21 de agosto de
  2019\, 19.00 h.\nLugar_Auditorio FCV\, Campus Lo Contador. El Comendador 
 1936\, Providencia\nInvitan_MARQ UCArquitectura UC&nbsp\;&nbsp\;\n&nbsp\;
 \n\nNoticiasContacto:&nbsp\;arq@uc.cl&nbsp\;| +56 2 2354 7747www.arquitect
 ura.uc.cl https://fadeu-old.urantiacos.cl/agenda/evento/1927-discusion-y-c
 ritica-de-edificios-24-alejandra-celedon-cristian-izquierdo
DTSTART:20190821T230000Z
DTEND:20190822T000000Z
LOCATION:Auditorio Fernando Castillo Velasco. Edificio ARQ (El Comendador 1
 936\, Providencia\, Región Metropolitana\, Chile)
SUMMARY:Discusión y crítica de edificios #24: Alejandra Celedón + Cristián 
 Izquierdo
URL:https://fadeu-old.urantiacos.cl/agenda/evento/1927-discusion-y-critica-
 de-edificios-24-alejandra-celedon-cristian-izquierdo
END:VEVENT
END:VCALENDAR
