BEGIN:VCALENDAR
VERSION:2.0
PRODID:-//https://fadeu-old.urantiacos.cl///NONSGML kigkonsult.se iCalcreator 2.10.15//
METHOD:PUBLISH
BEGIN:VEVENT
UID:20260420T173541UTC-6408tXcVT8@https://fadeu-old.urantiacos.cl/
DTSTAMP:20260420T173541Z
DESCRIPTION:Presentaci&oacute\;n 'Ocupa&ccedil\;&atilde\;o' de Marta Moreir
 a\, socia del estudio paulista MMBB\, coautora del proyecto SESC 24 de Mai
 o junto a Paulo Mendes da Rocha. La charla se enmarca dentro de un ciclo d
 e 4 presentaciones organizadas por el Taller de Ejercitaci&oacute\;n 'Oper
 aciones e Intervenciones&rdquo\; dirigido por Cristobal Tirado y Alberto M
 oletto\,&nbsp\;profesores de la Escuela de Arquitectura UC.\nOcupa&ccedil\
 ;&atilde\;o / ciclo 'Sobre pre-existencias' / Marta Moreira\nEl proceso de
  transformaci&oacute\;n y desarrollo de las grandes ciudades\, se hace len
 tamente seg&uacute\;n los nuevos modos de vida y costumbres de la sociedad
  que las habitan.&nbsp\;En ese sentido la adaptaci&oacute\;n del patrimoni
 o urbano\, a trav&eacute\;s de intervenciones para darle un conjunto de nu
 evos usos y programas\, representa una parte significativa y continua de n
 uestro trabajo como arquitectos.\nMarta Moreira\nMarta Moreira es graduada
  de la Escuela de Arquitectura y Urbanismo de la Universidad de S&atilde\;
 o Paulo - FAUUSP en 1987. Es socia fundadora de MMBB Arquitectos desde 199
 1. Actualmente es miembro desde el a&ntilde\;o 2008 del Comit&eacute\; Eje
 cutivo de la Escuela da&nbsp\;Cidade en Sao Paulo y profesora del Departam
 ento de Dise&ntilde\;o de dicha escuela desde el 2001. Ha colaborado en di
 stintos proyectos con el ganador del Premio Pritzker Paulo Mendes Da Rocha
  desde 1995\, y su trabajo ha ganado&nbsp\;reconocimiento siendo publicado
  en varios pa&iacute\;ses del mundo.\n&nbsp\;\nSu estudio de arquitectura 
 MMBB fue fundado en 1991 junto con Fernando de Mello Franco y Milton&nbsp\
 ;Braga\, y durante m&aacute\;s de veinte a&ntilde\;os ha trabajado en proy
 ectos de diferentes escalas\, sectores y entornos\, incluyendo edificios i
 nstitucionales\, instalaciones sociales e infraestructura urbana. Su pr&aa
 cute\;ctica combina un pensamiento reflexivo y un enfoque cr&iacute\;tico 
 con el trabajo cultural y acad&eacute\;mico\, participando y organizando s
 eminarios\, eventos culturales y exposiciones\, junto con la ense&ntilde\;
 anza y la investigaci&oacute\;n universitaria.\n&nbsp\;\nProyectos princip
 ales de la firma MMBB_\nCentro Cultural e Recreativo do Esporte Clube Pinh
 eiros\, S&atilde\;o Paulo\, Brasil\, 2017\, Complejo de viviendas sociales
  Jardim Edite\, S&atilde\;o Paulo\, Brasil\, 2008/2012\, Complejo de audit
 orio y escuela de musica en Campos do Jord&atilde\;o\, Brasil\, 2009\; Reu
 rbanizaci&oacute\;n del arroyo Antonico en el barrio marginal de Parais&oa
 cute\;polis\, S&atilde\;o Paulo\, Brasil\, 2009\, Casa City Boa&ccedil\;av
 a\, 2004/2008 y Casa Vila Romana\, S&atilde\;o Paulo\, Brasil\, 2004/2006\
 ; Concurso Nacional Bairro Novo\, S&atilde\;o Paulo\, Brasil\, 2004\; Escu
 ela P&uacute\;blica Campinas F1\, Campinas\, Brasil\, 2003/2004\; Proyecto
  de estaci&oacute\;n intermodal en Coimbra\, Portugal\, 2003\; Casa Marian
 te\, Aldeia da Serra\, Brasil\, 2000/2002\; Trianon Parking Garage\, S&ati
 lde\;o Paulo\, Brasil\, 1995/1999\; Sede de DPTO - Propaganda y Marketing\
 , S&atilde\;o Paulo\, Brasil\, 1993/1994\; Concurso Nacional de Proyectos 
 Preliminares para el Pabell&oacute\;n de Brasil en Sevilla\, Espa&ntilde\;
 a\, 1991.\n&nbsp\;\n&nbsp\;\nProyectos principales MBBB + Paulo Mendes da 
 Rocha_\nSESC 24 de Maio\, S&atilde\;o Paulo\, Brasil\, 2002/2017\; Museo N
 acional de Coches\, Lisboa\, Portugal\, 2007/2009\; Plan Director de la Un
 iversidad de Vigo\, Espa&ntilde\;a\, 2004/2005\; Pa&ccedil\;o Alf&acirc\;n
 dega\, Recife\, Brasil\, 2000/2003\; Poupatempo Itaquera\, S&atilde\;o Pau
 lo\, Brasil\, 1998/1999\; Centro Cultural FIESP\, S&atilde\;o Paulo\, Bras
 il\, 1996\; Terminal de Autobuses D. Pedro II\, S&atilde\;o Paulo\, Brasil
 \, 1996.\n&nbsp\;\n&nbsp\;\nFecha_\nJueves 23 de agosto de 2018\, 19.00 hr
 s.\n&nbsp\;\nLugar_Auditorio FCV\, campus Lo Contador. El Comendador 1936\
 , Providencia.\nOrganizadores_Escuela de Arquitectura UC\n https://fadeu-o
 ld.urantiacos.cl/agenda/evento/1650-marta-moreira-mmbb-ciclo-sobre-pre-exi
 stencias
DTSTART:20180823T220000Z
DTEND:20180823T230000Z
LOCATION:Auditorio Fernando Castillo Velasco. Edificio ARQ (El Comendador 1
 936\, Providencia\, Región Metropolitana\, Chile)
SUMMARY:Marta Moreira (MMBB) / Ciclo 'Sobre pre-existencias'
URL:https://fadeu-old.urantiacos.cl/agenda/evento/1650-marta-moreira-mmbb-c
 iclo-sobre-pre-existencias
END:VEVENT
BEGIN:VEVENT
UID:20260420T173541UTC-6422SDs2lW@https://fadeu-old.urantiacos.cl/
DTSTAMP:20260420T173541Z
DESCRIPTION:El jueves 23 ser&aacute\; la premiaci&oacute\;n del primer conc
 urso de ideas para la innovaci&oacute\;n de protecciones solares Hunter Do
 uglas\, convocatoria que tuvo como objetivo generar nuevas propuestas para
  sistemas de protecci&oacute\;n solar no s&oacute\;lo m&aacute\;s eficient
 es\, sino tambi&eacute\;n susceptibles de ser escaladas a nivel industrial
 .\n&nbsp\;\nLa premiaci&oacute\;n\, donde se dar&aacute\; a conocer a los 
 tres equipos ganadores\, da t&eacute\;rmino a un proceso iniciado en marzo
  de 2018 con un workshop desarrollado en paralelo a las actividades acad&e
 acute\;micas del primer semestre\, y en el que participaron equipos compue
 stos por dos estudiantes. Adem&aacute\;s del premio\, uno de los equipos g
 anadores\, tendr&aacute\; la posibilidad de desarrollar la escalabilidad i
 ndustrial del prototipo a trav&eacute\;s de una pr&aacute\;ctica remunerad
 a en Hunter Douglas.\n&nbsp\;\n\nEsta primera edici&oacute\;n del concurso
  fue organizada por Hunter Douglas Chile\, el Grupo de Estudio de Arquitec
 tura y Fachadas (GEAF UC) de la Facultad de Arquitectura\, Dise&ntilde\;o 
 y Estudios Urbanos (FADEU) de la Pontificia Universidad Cat&oacute\;lica d
 e Chile (UC)\, con la colaboraci&oacute\;n de la Corporaci&oacute\;n de De
 sarrollo Tecnol&oacute\;gico (CDT) de la C&aacute\;mara Chilena de la Cons
 trucci&oacute\;n (CChC).\nAdem&aacute\;s del director del concurso\, Claud
 io V&aacute\;squez\, el jurado estuvo compuesto por: Mario Ubilla Sanz\, d
 ecano de la FADEU\; Francisco Quintana\, director de la Escuela de Arquite
 ctura UC\; Renato D'Alen&ccedil\;on\, jefe del programa MASE\; Patricio Ma
 rdones\, gerente general Hunter Douglas Chile\; Carlos Mella\, gerente de 
 Ingenier&iacute\;a Hunter Douglas Chile\; y\, Jeannette Plaut\, cofundador
 a de la editorial Constructo como arquitecta invitada.\nTodos los prototip
 os presentados al concurso ser&aacute\;n parte de una exposici&oacute\;n e
 n el Hall ARQ UC que estar&aacute\; abierta al p&uacute\;blico entre el lu
 nes 20 y el viernes 31 de agosto.\nEstudiantes participantes_Florencia Ace
 vedo\, Pablo Alfaro\, Mauricio Alliende\, Sim&oacute\;n Carre&ntilde\;o\, 
 Matias Elliott\, Josefa Grijalba\, Marko Gardilcic\, Dominique Masoliver\,
  Deborah Ojeda\, Maria Ines Ovalle\, Gonzalo Pimentel\, Karen R&iacute\;os
 \, Consuelo Sagal\, Gonzalo Subiabre\nEquipo docente_Claudio V&aacute\;squ
 ez Zald&iacute\;varPedro Pablo de la BarraLucas V&aacute\;squez Gimeno\nFe
 cha premiaci&oacute\;n_Jueves 23 de agosto\, 17:00h\nFecha exhibici&oacute
 \;n_Jueves 20 al 31 de agosto\nLugar_Hall ARQ UC\n\n\n\nFotografias @Facha
 da Variable\nNoticiasContacto:&nbsp\;redesarq@uc.cl&nbsp\;| +56 2 2354 774
 7www.arquitectura.uc.cl\n https://fadeu-old.urantiacos.cl/agenda/evento/16
 51-premiacion-concurso-de-ideas-de-innovacion-de-protecciones-solares-hunt
 er-douglas-2018
DTSTART:20180823T200000Z
DTEND:20180823T210000Z
LOCATION:Hall Arquitectura UC (El Comendador 1936\, Providencia\, Región Me
 tropolitana\, Chile)
SUMMARY:Premiación 'Concurso de Ideas de Innovación de Protecciones Solares
  Hunter Douglas 2018'
URL:https://fadeu-old.urantiacos.cl/agenda/evento/1651-premiacion-concurso-
 de-ideas-de-innovacion-de-protecciones-solares-hunter-douglas-2018
END:VEVENT
BEGIN:VEVENT
UID:20260420T173541UTC-6432XDmRzW@https://fadeu-old.urantiacos.cl/
DTSTAMP:20260420T173541Z
DESCRIPTION:El Museo Benjam&iacute\;n Vicu&ntilde\;a Mackenna invita a la i
 nauguraci&oacute\;n de la muestra temporal &ldquo\;Ciudad y Cielo&rdquo\;\
 , producto de la investigaci&oacute\;n Fondecyt n&deg\;1150308 &ldquo\;San
 tiago 1850: la capital antes de su modernizaci&oacute\;n. La mirada urbana
  de la expedici&oacute\;n astron&oacute\;mica de James Melville Gilliss&rd
 quo\; del investigador responsable Germ&aacute\;n Hidalgo.\n&nbsp\;Hidalgo
  explica que &ldquo\;con el fin de realizar la paralaje entre los planetas
  Marte y Venus y poder establecer as&iacute\; la distancia de la tierra al
  sol\, en 1848 el teniente de la marina norteamericana James Melville Gill
 iss organiz&oacute\; una expedici&oacute\;n astron&oacute\;mica desde Wash
 ington hacia el Hemisferio Sur\, considerando como destino final Chile. En
 tre los sitios que el gobierno de la &eacute\;poca ofreci&oacute\; para la
  instalaci&oacute\;n del observatorio\, Gilliss eligi&oacute\; el cerro Sa
 nta Luc&iacute\;a\, por su buena localizaci&oacute\;n y accesibilidad&rdqu
 o\;.\nLa muestra &ldquo\;Ciudad y Cielo&rdquo\; expone la mirada urbana de
  James Melville Gilliss\, analizando los registros gr&aacute\;ficos y escr
 itos que dej&oacute\; la expedici&oacute\;n sobre Santiago de Chile a medi
 ados del siglo XIX. Adem&aacute\;s de considerar los avances en el conocim
 iento realizados por la expedici&oacute\;n astron&oacute\;mica\, la invest
 igaci&oacute\;n\, liderada por Germ&aacute\;n Hidalgo\, permiti&oacute\; r
 elacionar la arquitectura\, el urbanismo y el paisaje con la historia y la
  cultura\, gracias a la reuni&oacute\;n de un equipo de investigadores y p
 rofesionales que estudi&oacute\; interdisciplinariamente los registros leg
 ados por la expedici&oacute\;n.\nRicardo Brodsky\, director del Museo\, se
 &ntilde\;ala que &rdquo\;el cerro Santa Luc&iacute\;a no s&oacute\;lo es l
 a principal obra urbana de Benjam&iacute\;n Vicu&ntilde\;a Mackenna\, sino
  tambi&eacute\;n es un hito para el desarrollo cient&iacute\;fico en nuest
 ro pa&iacute\;s\, a trav&eacute\;s de la instalaci&oacute\;n de observator
 ios astron&oacute\;micos y sismogr&aacute\;ficos. Esta exposici&oacute\;n 
 nos recuerda que hay un cielo sobre Santiago&rdquo\;.\n&nbsp\;\nLa inaugur
 aci&oacute\;n de la exposici&oacute\;n &ldquo\;Ciudad y Cielo&rdquo\; se r
 ealizar&aacute\; el jueves 23 de agosto a las 11:00 horas\, incluyendo una
  visita guiada a cargo del investigador Germ&aacute\;n Hidalgo adem&aacute
 \;s de un taller para estudiantes de cuarto medio a cargo del &aacute\;rea
  educativa del Museo.\nGerm&aacute\;n Hidalgo es Arquitecto de la Pontific
 ia Universidad Cat&oacute\;lica de Chile y Doctor en Teor&iacute\;a e Hist
 oria de la Arquitectura por la Universidad Polit&eacute\;cnica de Catalu&n
 tilde\;a. Es autor del libro Vistas Panor&aacute\;micas de Santiago\, 1790
  &ndash\; 1910: su Desarrollo Urbano bajo la Mirada de Dibujantes\, Pintor
 es y Fot&oacute\;grafos (Ediciones UC/Origo). Profesor Asociado de la Escu
 ela de Arquitectura de la Pontificia Universidad Cat&oacute\;lica de Chile
 \, en pregrado y postgrado\, y en las &aacute\;reas de Teor&iacute\;a e Hi
 storia de la Arquitectura\, y Taller y Representaci&oacute\;n.\nLa exposic
 i&oacute\;n estar&aacute\; abierta al p&uacute\;blico hasta el 23 de dicie
 mbre de 2018\, en Avda. Vicu&ntilde\;a Mackenna 94\, Providencia. Metros B
 aquedano y Bustamante. Entrada liberada.\n&nbsp\;\n\n&nbsp\;\n&nbsp\; http
 s://fadeu-old.urantiacos.cl/agenda/evento/1645-exposicion-ciudad-y-cielo
DTSTART:20180823T140000Z
DTEND:20180823T150000Z
LOCATION:Museo Benjamín Vicuña Mackenna (Av. Vicuña Mackenna 94\, Providenc
 ia\, Región Metropolitana\, Chile)
SUMMARY:Exposición “Ciudad y Cielo”
URL:https://fadeu-old.urantiacos.cl/agenda/evento/1645-exposicion-ciudad-y-
 cielo
END:VEVENT
BEGIN:VEVENT
UID:20260420T173541UTC-6443AA0Nnj@https://fadeu-old.urantiacos.cl/
DTSTAMP:20260420T173541Z
DESCRIPTION:En el marco del&nbsp\;XIV Congreso de la Asociaci&oacute\;n Lat
 inoamericana de Escuelas de Urbanismo y Planificaci&oacute\;n 'Las Univers
 idades Latinoamericanas y la Nueva Agenda Urbana'&nbsp\;se realizar&aacute
 \; la Conferencia Magistral&nbsp\;Reconsideraciones epistemol&oacute\;gica
 s y conceptuales sobre urbanismo\,&nbsp\;dictada por el profesor&nbsp\;Art
 uro Almandoz Marte\,&nbsp\;Profesor Titular de la Universidad Sim&oacute\;
 n Bolivar (USB)\, Caracas. Profesor Titular Adjunto de IEUT-PUC.\nLa confe
 rencia se realizar&aacute\; el jueves 23 de agosto a las 8.30 hrs. en el A
 uditorio FADEU. Campus Lo Contador UC.&nbsp\;El Comendador 1916\, Providen
 cia.\n&nbsp\;\n https://fadeu-old.urantiacos.cl/agenda/evento/1655-confere
 ncia-magistral-reconsideraciones-epistemologicas-y-conceptuales-sobre-urba
 nismo
DTSTART:20180823T113000Z
DTEND:20180823T123000Z
LOCATION:Auditorio FADEU\, Campus Lo Contador PUC (El Comendador 1916\, Pro
 videncia\, Providencia\, Región Metropolitana\, Chile)
SUMMARY:Conferencia Magistral Reconsideraciones epistemológicas y conceptua
 les sobre urbanismo
URL:https://fadeu-old.urantiacos.cl/agenda/evento/1655-conferencia-magistra
 l-reconsideraciones-epistemologicas-y-conceptuales-sobre-urbanismo
END:VEVENT
END:VCALENDAR
