BEGIN:VCALENDAR
VERSION:2.0
PRODID:-//https://fadeu-old.urantiacos.cl///NONSGML kigkonsult.se iCalcreator 2.10.15//
METHOD:PUBLISH
BEGIN:VEVENT
UID:20260419T222426UTC-4537M0Xem3@https://fadeu-old.urantiacos.cl/
DTSTAMP:20260419T222426Z
DESCRIPTION:\nCOOLFACADE: Dise&ntilde\;o de fachadas para el cambio clim&aa
 cute\;tico\nConferencia de Alejandro Prieto\, arquitecto y mag&iacute\;ste
 r en arquitectura UC\, doctor de la TU Delft en Holanda. Organizada por el
  Mag&iacute\;ster en Arquitectura Sustentable y Energ&iacute\;a (MASE).\nS
 e discutir&aacute\; el rol del dise&ntilde\;o arquitect&oacute\;nico\, y e
 spec&iacute\;ficamente el dise&ntilde\;o de fachadas en el contexto medioa
 mbiental actual\, presentando estrategias de dise&ntilde\;o y nuevas posib
 ilidades tecnol&oacute\;gicas para enfrentar el aumento de temperaturas en
  el entorno construido\, poniendo &eacute\;nfasis en la integraci&oacute\;
 n de estrategias pasivas y activas amigables con el medio ambiente\, para 
 mitigar los efectos del calentamiento global a largo plazo.\n\n\nAlejandro
  Prieto\nArquitecto y mag&iacute\;ster UC\, y doctor en ingenier&iacute\;a
  arquitect&oacute\;nica y tecnolog&iacute\;as de la construcci&oacute\;n d
 e la Universidad Tecnol&oacute\;gica de Delft (TU Delft)\, Pa&iacute\;ses 
 Bajos. Actualmente se desempe&ntilde\;a como investigador senior en la c&a
 acute\;tedra Design of Construction\, y como coordinador del grupo de inve
 stigaci&oacute\;n de fachadas y productos arquitect&oacute\;nicos en el De
 partamento Architectural Engineering and Technology\, de la Facultad de Ar
 quitectura de TU Delft.\nSus intereses profesionales giran en torno al dis
 e&ntilde\;o bioclim&aacute\;tico de sistemas de fachada en climas c&aacute
 \;lidos\; eficiencia energ&eacute\;tica y confort ambiental en edificios d
 e oficina\; estrategias y sistemas de refrigeraci&oacute\;n alternativos y
  su integraci&oacute\;n con el edificio y su envolvente. Durante su carrer
 a profesional ha ejercido funciones como arquitecto y consultor de dise&nt
 ilde\;o bioclim&aacute\;tico\, en paralelo a su carrera acad&eacute\;mica 
 en investigaci&oacute\;n y docencia en el campo de tecnolog&iacute\;as de 
 la construcci&oacute\;n.\n\nFecha_\nViernes 23 de agosto de 2019\, 13.00 h
 \n&nbsp\;\nLugar_\nAuditorio Fernando Castillo Velasco\nCampus Lo Contador
 \nEl Comendador 1936\, Providencia\n&nbsp\;\nOrganiza_\nMag&iacute\;ster e
 n Arquitectura Sustentable y Energ&iacute\;a UC\nEscuela de Arquitectura U
 C\n&nbsp\;\n\n&nbsp\;\n&nbsp\;\n&nbsp\;\nNoticiasContacto:&nbsp\;redesarq@
 uc.cl&nbsp\;| +56 2 2354 7747www.arquitectura.uc.cl https://fadeu-old.uran
 tiacos.cl/agenda/evento/1925-conferencia-inaugural-mase-alejandro-prieto
DTSTART:20190823T170000Z
DTEND:20190823T180000Z
LOCATION:Auditorio Fernando Castillo Velasco. Edificio ARQ (El Comendador 1
 936\, Providencia\, Región Metropolitana\, Chile)
SUMMARY:Conferencia inaugural MASE | Alejandro Prieto
URL:https://fadeu-old.urantiacos.cl/agenda/evento/1925-conferencia-inaugura
 l-mase-alejandro-prieto
END:VEVENT
BEGIN:VEVENT
UID:20260419T222426UTC-4548MnAVD1@https://fadeu-old.urantiacos.cl/
DTSTAMP:20260419T222426Z
DESCRIPTION:\n\n\n\n\n\n\nEN EL MARCO DE LA CREACI&Oacute\;N DEL OBSERVATOR
 IO DE INDICADORES REGI&Oacute\;N METROPOLITANA\, INICIATIVA IMPULSADA POR 
 GOBIERNO REGIONAL METROPOLITANO DE SANTIAGO A TRAV&Eacute\;S DE UN FONDO D
 E INNOVACI&Oacute\;N PARA LA COMPETITIVIDAD (FIC-R)\, EL OBSERVATORIO DE C
 IUDADES UC (OCUC) Y EL CENTRO DE DESARROLLO URBANO SUSTENTABLE (CEDEUS) CO
 NVOCAN AL SEMINARIO OBSERVANDO LA CIUDAD: HERRAMIENTAS PARA LA TOMA DE DEC
 ISIONES DE POL&Iacute\;TICA P&Uacute\;BLICA EL VIERNES 23 DE AGOSTO EN EL 
 CAMPUS LO CONTADOR UC.\n&nbsp\;\nRicardo Truffelo\, investigador CEDEUS y 
 Director de OCUC\, se&ntilde\;ala que el objetivo de este seminario es &ld
 quo\;mostrar el potencial de los sistemas de informaci&oacute\;n geogr&aac
 ute\;fica SIG y como pueden ser una herramienta &uacute\;til para quienes 
 toman decisiones en pol&iacute\;ticas p&uacute\;blicas\, pero tambi&eacute
 \;n para el ejercicio de la ciudadan&iacute\;a&rdquo\;.\nDicho seminario c
 ontar&aacute\; con&nbsp\;Matthew W. Wilson\, profesor Asociado de Geograf&
 iacute\;a en la Universidad de Kentucky\, y Visiting Scholar en el Centro 
 de An&aacute\;lisis Geogr&aacute\;fico de la Universidad de Harvard e&nbsp
 \;Inga Gryl\, Directora del Instituto de Educaci&oacute\;n Primaria Social
  y Cient&iacute\;fica\, y Subdirectora del Instituto de Geograf&iacute\;a 
 de la Universidad de Duisburg-Essen.\nAmbos invitados extranjeros abordar&
 aacute\;n c&oacute\;mo los SIGs pueden utilizarse desde la ciudadan&iacute
 \;a\; Matthew Wilson presentar&aacute\; la ponencia: Mapear para aprender\
 , aprender a mapear e Inga Gryl expondr&aacute\;: Mapeo como lenguaje espa
 cial\, &iexcl\;para todos!\nRespecto a la informaci&oacute\;n para la toma
  de decisiones\,&nbsp\;Kay Bergamini\, docente del Instituto de Estudios U
 rbanos y Territoriales de la Pontificia Universidad Cat&oacute\;lica de Ch
 ile expondr&aacute\; sobre Gobernanza del acceso a la informaci&oacute\;n 
 p&uacute\;blica ambiental y&nbsp\;Ricardo Truffello&nbsp\;expondr&aacute\;
  Sistema de indicadores de evaluaci&oacute\;n\, monitoreo y seguimiento so
 bre los impactos en materia de gobernanza y ordenamiento territorial.\nEl 
 seminario se llevar&aacute\; a cabo el Auditorio Fernando Castillo Velasco
  de la Facultad de Arquitectura\, Dise&ntilde\;o y Estudios Urbanos UC\, e
 n El Comendador 1916\, Providencia\, Santiago.La asistencia es abierta\, p
 revia inscripci&oacute\;n.\n\n\n\nInscripciones aqu&iacute\;!\n\n\n\n\n\n
 \n\n\n\n\n\n\n\nExpositores:\nMatthew W. Wilson\n&nbsp\;Profesor Asociado 
 de Geograf&iacute\;a en la Universidad de Kentucky\, y&nbsp\;Visiting Scho
 lar&nbsp\;en el Centro de An&aacute\;lisis Geogr&aacute\;fico de la Univer
 sidad de Harvard. Fue cofundador y co-director del&nbsp\;New Mappings Coll
 aboratory\, que estudia y facilita nuevos compromisos con la representaci&
 oacute\;n geogr&aacute\;fica. Es coeditor de&nbsp\;Understanding Spatial M
 edia&nbsp\;(SAGE)\, y su libro m&aacute\;s reciente es&nbsp\;New Lines: Cr
 itical GIS and the Trouble of the Map&nbsp\;(University of Minnesota Press
 ). Anteriormente\, ha ense&ntilde\;ado en la Ball State University y en Ha
 rvard Graduate School of Design\, y su investigaci&oacute\;n actual examin
 a las pr&aacute\;cticas de cartograf&iacute\;a digital a mediados del sigl
 o XX. Obtuvo su PhD y MA en la Universidad de Washington y su BS de la Nor
 thwest Missouri State University.\nPonencia: Mapear para aprender\, aprend
 er a mapear.\nLos mapas desempe&ntilde\;an un papel importante en la socie
 dad. Sin embargo\, la naturaleza de ese rol es muy disputada\, con importa
 ntes impactos en la posibilidad de un cambio transformador en nuestras com
 unidades. En este seminario\, discutiremos el poder de los mapas y las for
 mas importantes en que los miembros de la comunidad podr&iacute\;an involu
 crarse en la creaci&oacute\;n de mapas\, utilizando ejemplos de un program
 a de cartograf&iacute\;a basado en la comunidad en los Estados Unidos.\n\n
 \n\n\n\n\nInga Gryl\nProfesora titular\, Directora del Instituto de Educac
 i&oacute\;n Primaria Social y Cient&iacute\;fica\, y Subdirectora del Inst
 ituto de Geograf&iacute\;a de la Universidad de Duisburg-Essen. Actual pre
 sidenta de la Asociaci&oacute\;n Acad&eacute\;mica para la Educaci&oacute\
 ;n de Geograf&iacute\;a en Alemania. Impulsora del concepto &ldquo\;Ciudad
 an&iacute\;a Espacial&rdquo\; a nivel internacional. Su trabajo de investi
 gaci&oacute\;n ha buscado poner en conversaci&oacute\;n la Geograf&iacute\
 ;a con la Teor&iacute\;a Curricular\, la Educaci&oacute\;n de Profesores\,
  y los Medios de Comunicaci&oacute\;n. Su proyecto actual es &ldquo\;Ciuda
 dan&iacute\;a Espacial e Innovaci&oacute\;n&rdquo\;\, desarrollado por inv
 estigadores y docentes de las Universidades de Duisburg-Essen (Alemania) y
  la Universidad de Salzburg (Austria)\, el cual busca superar el uso de la
  innovaci&oacute\;n y la capacidad de innovaci&oacute\;n tan solo como pal
 abras de moda\, sino que aplicar el t&eacute\;rmino y sus beneficios a la 
 Geograf&iacute\;a y la Educaci&oacute\;n Primaria.\nPonencia: Mapeo como l
 enguaje espacial &ndash\; para todos!\nLa cartograf&iacute\;a digital y la
  producci&oacute\;n de geomedia simple se han convertido en una herramient
 a para que todos puedan participar en los procesos de planificaci&oacute\;
 n espacial. Esta presentaci&oacute\;n destaca algunos de estos ejemplos qu
 e dan a las personas un lenguaje para expresar problemas espaciales\, pero
  tambi&eacute\;n cuestiona las limitaciones a la democratizaci&oacute\;n y
  la madurez a trav&eacute\;s de la cartograf&iacute\;a\, centr&aacute\;ndo
 se especialmente en los cambios debidos a la digitalizaci&oacute\;n de la 
 sociedad.\n\n\n\n\n\n\nKay Bergamini\nDocente PUC. Ge&oacute\;grafo\, Pont
 ificia Universidad Cat&oacute\;lica. Doctor en gesti&oacute\;n ambiental\,
  paisaje y geograf&iacute\;a. Universidad de Barcelona. Durante quince a&n
 tilde\;os ha desarrollado actividades ligadas a la gesti&oacute\;n medioam
 biental y social\, para distintas instituciones\, conociendo la problem&aa
 cute\;tica en Chile.\nFue Jefe de Divisi&oacute\;n de Fiscalizaci&oacute\;
 n de la Superintendencia del Medioambiente y Director Regional del Servici
 o de Evaluaci&oacute\;n Ambiental en la Regi&oacute\;n Metropolitana. Su &
 aacute\;rea de inter&eacute\;s se vincula con temas relativos a evaluaci&o
 acute\;n de impacto ambiental\, seguimiento y fiscalizaci&oacute\;n de pro
 yectos\, metodolog&iacute\;as para considerar el Paisaje en EIA y consider
 aciones ambientales y paisaj&iacute\;sticas de proyectos de inversi&oacute
 \;n. Docente en el Instituto de Estudios Urbanos y Territoriales de la Uni
 versidad Cat&oacute\;lica de Chile y Universidad Diego Portales.\nPonencia
 :&nbsp\;Gobernanza del acceso a la informaci&oacute\;n p&uacute\;blica amb
 iental territorial.\nLa informaci&oacute\;n P&uacute\;blica es la base y e
 l fundamento necesario para el desarrollo de pol&iacute\;ticas p&uacute\;b
 licas\, con impacto en el Estado en su conjunto\, los ciudadanos y las dis
 tintas formas de organizaci&oacute\;n que puedan existir.\nCon las nuevas 
 tecnolog&iacute\;as disponibles\, el acceso a la informaci&oacute\;n p&uac
 ute\;blica\, y en este caso ambiental y territorial\, son un foco de inter
 &eacute\;s para su discusi&oacute\;n debido a la transformaci&oacute\;n de
  los procesos de toma de decisi&oacute\;n.\n\n\n\n\n\n\n\n\n\n\n\n\n\n\n\n
 \n\n\nRicardo Truffello\nDirector del Observatorio de Ciudades UC\, Invest
 igador y coordinador Observatorio CEDEUS. Director del Proyecto &ldquo\;Pi
 loto plataforma tecnol&oacute\;gica para el uso eficiente de la Ciudad&rdq
 uo\;. Profesor Adjunto. Ge&oacute\;grafo UC.&nbsp\;\nPonencia:&nbsp\;Siste
 ma de indicadores de evaluaci&oacute\;n\, monitoreo y seguimiento sobre lo
 s impactos en materia de gobernanza y ordenamiento territorial.\n\n\n\n\n
 \n\n\n\n\n\n\n https://fadeu-old.urantiacos.cl/agenda/evento/1918-seminari
 o-observando-la-ciudad
DTSTART:20190823T133000Z
DTEND:20190823T180000Z
LOCATION:Auditorio Fernando Castillo Velasco. Edificio ARQ (El Comendador 1
 936\, Providencia\, Región Metropolitana\, Chile)
SUMMARY:Seminario Observando la ciudad
URL:https://fadeu-old.urantiacos.cl/agenda/evento/1918-seminario-observando
 -la-ciudad
END:VEVENT
BEGIN:VEVENT
UID:20260419T222426UTC-4579VXjxvz@https://fadeu-old.urantiacos.cl/
DTSTAMP:20260419T222426Z
DESCRIPTION:Roberto Moris\, director del Programa de Planes y Proyectos Urb
 anos UC\, y profesor de la Escuela de Arquitectura UC y del Instituto de E
 studios Urbanos UC\, dictar&aacute\; una conferencia en torno a los planes
  internacionales para olimpiadas y eventos de gran escala\, en el marco de
 l ciclo 'Santiago 2023: La dimensi&oacute\;n urbana de los Juegos Panameri
 canos'\, organizado por el Mag&iacute\;ster en Proyecto Urbano (MPUR).\nCi
 clo 'Santiago 2023: La dimensi&oacute\;n urbana de los Juegos Panamericano
 s'\nLa forma de las ciudades se encuentra inextricablemente ligada con la 
 historia y con el contexto social y pol&iacute\;tico en el cual se inserta
 n. Parte importante de las mayores transformaciones que se pueden observar
  en su tejido urbano tienen origen en coyunturas en apariencia ajenas a la
  discusi&oacute\;n sobre la ciudad\, pero que han demostrado sin embargo s
 er elementos de cambio de tendencia y ritmo en la transformaci&oacute\;n d
 e ella. Desde las grandes exposiciones universales del siglo XIX en adelan
 te\, hasta los eventos deportivos de gran magnitud como los mundiales y la
 s olimpiadas\, el espacio de las ciudades ha sido sujeto de reflexi&oacute
 \;n a ra&iacute\;z de las oportunidades ligadas a acontecimientos de grand
 es proporciones\, y ha servido de laboratorio de experimentaci&oacute\;n p
 ara varias de las m&aacute\;s vanguardistas ideas sobre la arquitectura y 
 la ciudad.\nLos grandes eventos deportivos\, en particular\, representan u
 na inversi&oacute\;n de gran magnitud para los pa&iacute\;ses que los reci
 ben y los organizan. La envergadura de las inversiones requeridas plantea 
 adem&aacute\;s la necesidad de preguntarse por el legado que deja el paso 
 del evento por la ciudad\, tomando relevancia la estrategia que se aborda 
 para evitar la redundancia. El ciclo Santiago 2023\, organizado por la Esc
 uela de Arquitectura y el Programa de Magister en Proyecto Urbano\, plante
 a una discusi&oacute\;n abierta sobre las oportunidades y desaf&iacute\;os
  urbanos que surgen con el nombramiento de Chile como pa&iacute\;s sede de
  los Juegos Panamericanos del a&ntilde\;o 2023.\nConferencia 'Grandes even
 tos internacionales y su rol en el desarrollo urbano' |&nbsp\;Roberto Mori
 s\nGrandes eventos de origen natural o antr&oacute\;picos como incendios\,
  terremotos\, ferias\, mundiales de f&uacute\;tbol y olimpiadas han demost
 rado ser potentes herramientas de transformaci&oacute\;n urbana. Sin embar
 go\, no siempre estos cambios han sido positivos o suficientemente positiv
 os como se esperaba. Uno de los aprendizajes transversales de estas experi
 encias radica en la comprensi&oacute\;n estructural del sistema urbano y p
 or sobre la intervenci&oacute\;n en &aacute\;reas espec&iacute\;ficas. Una
 s olimpiadas funcionar&aacute\;n bien en una ciudad que funciona bien. Una
 s olimpiadas podr&aacute\;n ser un aporte a la ciudad cuando su legado hay
 a sido conformado bajo la compresi&oacute\;n de su rol en el sistema urban
 o.\nEl a&ntilde\;o 2023 Santiago acoger&aacute\; los Juegos Panamericanos 
 restando s&oacute\;lo 4 a&ntilde\;os para su preparaci&oacute\;n. Los buen
 os resultados de la delegaci&oacute\;n Chilena en Lima 2019 han dado nuevo
 s br&iacute\;os al posicionamiento p&uacute\;blico del deporte de alta com
 petitividad\, lo cual debiera repercutir en una mejora de las condiciones 
 se preparaci&oacute\;n de los deportistas de excelencia. Mientras tanto\, 
 el tiempo corre y cuatro a&ntilde\;os es un suspiro en la gesti&oacute\;n 
 urbana estructural. Los Panamericanos 2023 pueden ser un aporte para Santi
 ago si logra instalarse como aporte y complemento a la ciudad que los acog
 er&aacute\;. La presentaci&oacute\;n revisar&aacute\; algunas experiencias
  que podr&iacute\;an entregar aprendizajes claves para el dise&ntilde\;o e
  implementaci&oacute\;n de los juegos Panamericanos en su dimensi&oacute\;
 n urbana\, y pretende dar un puntapi&eacute\; inicial a la discusi&oacute\
 ;n sobre los procesos en marcha y a los desaf&iacute\;os urbanos que este 
 evento plantea para la ciudad.\nRoberto Moris\nArquitecto UC y Master en D
 ise&ntilde\;o de Ciudades y Ciencias Sociales LSE. Planificador urbano\, a
 cad&eacute\;mico y consultor con enfoque en investigaci&oacute\;n aplicada
  e innovaci&oacute\;n. Es experto en planificaci&oacute\;n integrada\, cap
 acidad de carga\, modelos de gesti&oacute\;n\, sustentabilidad y resilienc
 ia. Ha trabajado con el PNUD\, el Banco Mundial y el BID. En el sector p&u
 acute\;blico\, fue secretario t&eacute\;cnico del Comit&eacute\; de Minist
 ros de la Ciudad y el Territorio y jefe de la Direcci&oacute\;n de Proyect
 os Urbanos MINVU. Fue subdirector del Instituto de Estudios Urbanos UC\, d
 irector del Observatorio de Ciudades UC. Actualmente es director del Progr
 ama de Planes y Proyectos Urbanos UC\, y profesor de la Escuela de Arquite
 ctura UC y&nbsp\;del Instituto&nbsp\;de Estudios Urbanos UC.\nFecha_\nJuev
 es 22 de agosto de 2019\, 19.00 h\n&nbsp\;\nLugar_Auditorio Fernando Casti
 llo VelascoCampus Lo ContadorEl Comendador 1936\, Providencia\n&nbsp\;\nOr
 ganiza_\nMag&iacute\;ster en Proyecto Urbano UCEscuela de Arquitectura UC
 \n&nbsp\;\n\n&nbsp\;\nNoticiasContacto:&nbsp\;redesarq@uc.cl&nbsp\;| +56 2
  2354 7747www.arquitectura.uc.cl https://fadeu-old.urantiacos.cl/agenda/ev
 ento/1923-ciclo-santiago-2023-la-dimension-urbana-de-los-juegos-panamerica
 nos-roberto-moris
DTSTART:20190822T230000Z
DTEND:20190823T000000Z
LOCATION:Auditorio Fernando Castillo Velasco. Edificio ARQ (El Comendador 1
 936\, Providencia\, Región Metropolitana\, Chile)
SUMMARY:Ciclo 'Santiago 2023: La dimensión urbana de los Juegos Panamerican
 os' | Roberto Moris
URL:https://fadeu-old.urantiacos.cl/agenda/evento/1923-ciclo-santiago-2023-
 la-dimension-urbana-de-los-juegos-panamericanos-roberto-moris
END:VEVENT
END:VCALENDAR
