BEGIN:VCALENDAR
VERSION:2.0
PRODID:-//https://fadeu-old.urantiacos.cl///NONSGML kigkonsult.se iCalcreator 2.10.15//
METHOD:PUBLISH
BEGIN:VEVENT
UID:20260420T173540UTC-1348wMifnO@https://fadeu-old.urantiacos.cl/
DTSTAMP:20260420T173540Z
DESCRIPTION:Presentaci&oacute\;n 'The New Mathematics of Architecture' a ca
 rgo de Mark Burry\, director del Smart Cities Research Institute\, Univers
 idad de Swinburne\, Australia. La conferencia se dar&aacute\; en el marco 
 del&nbsp\;Workshop MASE: &ldquo\;Smart Cities -Smart Buildings &ndash\; Sm
 art Public Spaces&rdquo\;\, dirigido por los profesores&nbsp\;Mark Burry&n
 bsp\; y Rafael Moya.\n\n&nbsp\;\n&nbsp\;\n\n&ldquo\;The New Mathematics of
  Architecture&rdquo\; / Mark Burry\n&nbsp\;\n\nIn the era of digital desig
 n and manufacturing\, architects can experiment with and apply mathematica
 l concepts to built structures as never before. This in-depth survey offer
 s a thorough overview of the most exciting manifestations of these new pro
 cesses through illustrations\, lucid texts\, hands-on experience and const
 ructed projects. The result is a rich compendium of the thinking and build
 ing behind today&rsquo\;s most exciting architecture.\n\n\n\nMark Burry\n&
 nbsp\;\nProfessor Mark Burry es&nbsp\;Director Fundador del&nbsp\;Swinburn
 e&rsquo\;s Smart Cities Research Institute\, desde el a&ntilde\;o 2017.&nb
 sp\;Fue profesor de Urban Futures en la Universidad de Melbourne en la Fac
 ultad de Arquitectura\, Construcci&oacute\;n y Planificaci&oacute\;n.\n&nb
 sp\;\nMark ha publicado internacionalmente sobre dos temas principales: la
  vida y la obra del arquitecto Antoni Gaud&iacute\;. Tambi&eacute\;n ha pu
 blicado ampliamente sobre cuestiones m&aacute\;s amplias de dise&ntilde\;o
 \, construcci&oacute\;n y uso de computadoras en teor&iacute\;a y pr&aacut
 e\;ctica del dise&ntilde\;o. Como arquitecto del Templo Sagrada Familia de
 sde 1979\, Mark est&aacute\; desentra&ntilde\;ando los misterios de las es
 trategias compositivas de Gaud&iacute\;. En 2006\, Mark recibi&oacute\; el
  premio de financiamiento m&aacute\;s prestigioso del Consejo de Investiga
 ci&oacute\;n de Australia\, una 'Beca de la Federaci&oacute\;n' durante ci
 nco a&ntilde\;os. Mark tambi&eacute\;n fue Director del RMIT&rsquo\;s Spat
 ial Information Architecture Laboratory (SIAL).\n&nbsp\;\nhttps://mcburry.
 net/about/\n&nbsp\;\n&nbsp\;\nFecha_\nViernes 24 de agosto de 2018\, 18.30
  hrs.\n&nbsp\;\nLugar_\nAuditorio FCV\, campus Lo Contador. El Comendador 
 1936\, Providencia\n&nbsp\;\nOrganizadores_\nMag&iacute\;ster en Arquitect
 ura Sustentable y Energ&iacute\;a UC\nDoctorado Facultad de Arquitectura\,
  Dise&ntilde\;o y Estudios Urbanos UC\n&nbsp\;\n\n&nbsp\;\nWorkshop MASE: 
 &ldquo\;Smart Cities -Smart Buildings &ndash\; Smart Public Spaces&rdquo\;
 Profesores: Mark Burry / Rafael Moya\nColaboran: Doctorado FADEU / Do! Sma
 rt Cities\n\nWorkshop Santiago: August 22 th - 28 th .\n&nbsp\;&nbsp\;\nTh
 is studio is an intensive course of one month that seeks to promote among 
 participants the development of innovative proposals within the framework 
 of several scales around Smart Cities for the current context and challeng
 es present in Chile. The course will have professor Mark Burry\, Director 
 of Smart Cities Research Institute\, Swinburne University as invited profe
 ssor to run a workshop as final part of this course. The final goal of thi
 s course is to share and extend the knowledge about Architecture and Smart
  Cities Strategies for Chilean context and establish creative synergies am
 ong the participants. Therefore\, the course is opened to invite students 
 from other universities.\n&nbsp\;\n\n&nbsp\;\nNoticias\nContacto:&nbsp\;re
 desarq@uc.cl&nbsp\;| +56 2 2354 7747www.arquitectura.uc.cl https://fadeu-o
 ld.urantiacos.cl/agenda/evento/1652-conferencia-mark-burry-mase-uc
DTSTART:20180824T213000Z
DTEND:20180824T223000Z
LOCATION:Auditorio Fernando Castillo Velasco. Edificio ARQ (El Comendador 1
 936\, Providencia\, Región Metropolitana\, Chile)
SUMMARY:Conferencia Mark Burry / MASE UC
URL:https://fadeu-old.urantiacos.cl/agenda/evento/1652-conferencia-mark-bur
 ry-mase-uc
END:VEVENT
BEGIN:VEVENT
UID:20260420T173540UTC-13594dbBUV@https://fadeu-old.urantiacos.cl/
DTSTAMP:20260420T173540Z
DESCRIPTION:Elvira P&eacute\;rez\, Jefa del programa de Mag&iacute\;ster en
  Patrimonio Cultural\, y Umberto Bonomo\, Director del Centro del Patrimon
 io Cultural\, de la Pontificia Universidad Cat&oacute\;lica de Chile\, inv
 itan a la Charla Inaugural del Segundo Semestre Acad&eacute\;mico 2018\,&n
 bsp\;'Polvo ser&aacute\;s... Lecciones contra la entrop&iacute\;a'&nbsp\;d
 el profesor&nbsp\;Dino Bozzi.\nDino Bozzi&nbsp\;es Arquitecto\, Pontificia
  Universidad Cat&oacute\;lica de Chile\, 2000. Master en Architettura Stor
 ia Progetto\, Universit&agrave\; degli Studi di Roma Tre\, 2006. Especiali
 sta en Intervenci&oacute\;n en la Ciudad Hist&oacute\;rica\, ETSA\, Univer
 sidad de Vallalodid\, 2006. Profesor de proyectos de la Pontificia Univers
 idad Cat&oacute\;lica de Chile\, ha sido socio de las oficinas BSB arquite
 ctos (junto a L.E. Bresciani y R. San Mart&iacute\;n) y jefe de taller de 
 S+T Architectes. Sus proyectos han sido premiados en la Bienal de Venecia 
 y en concursos en Espa&ntilde\;a y Francia. Crea junto a Francisco Prado l
 a oficina T&Aacute\;NDEM\, consultora especializada en patrimonio\, restau
 raci&oacute\;n y rehabilitaci&oacute\;n arquitect&oacute\;nica\, desarroll
 ando\, entre otros\, proyectos para la Bas&iacute\;lica del Salvador\, el 
 Templo Votivo de Maip&uacute\; y la Biblioteca Regional de Arica y Parinac
 ota.\nAl primer y precario refugio\, erguido apenas\, mediante el ordenami
 ento de palos y piedras\, en torno a una fogata\, con el tiempo\, le pasam
 os a llamar hogar\, templo\, museo o palacio. Y\, al d&iacute\;a siguiente
  de su inauguraci&oacute\;n\, luego de la primera tormenta\, del ataque de
  una bestia o de la tribu rival\, reordenando piedras y palos en su lugar\
 , tuvo que ser reparado.&nbsp\;\nEn el ciclo continuo de construir\, destr
 uir\, reconstruir\, reparar\, y volver a reparar\, un d&iacute\;a\, notamo
 s que unos edificios destacaban del resto y deb&iacute\;an ser cuidados de
  modo especial.&nbsp\;\nA ellos les llamar&iacute\;amos patrimonio y\, a l
 a antigua operaci&oacute\;n de reparar\, restauraci&oacute\;n.&nbsp\;\nAs&
 iacute\; estamos\, tratando de evitar lo inevitable.\nEntrada liberada\, c
 upos limitados.&nbsp\;Inscripciones al correomagisterpatrimonio@uc.cl&nbsp
 \;.&nbsp\;\n https://fadeu-old.urantiacos.cl/agenda/evento/1644-charla-mag
 istral-dino-bozzi-polvo-seras-lecciones-contra-la-entropia
DTSTART:20180824T160000Z
DTEND:20180824T170000Z
LOCATION:Auditorio Fernando Castillo Velasco. Edificio ARQ (El Comendador 1
 936\, Providencia\, Región Metropolitana\, Chile)
SUMMARY:Charla Magistral Dino Bozzi 'Polvo serás... Lecciones contra la ent
 ropía'
URL:https://fadeu-old.urantiacos.cl/agenda/evento/1644-charla-magistral-din
 o-bozzi-polvo-seras-lecciones-contra-la-entropia
END:VEVENT
END:VCALENDAR
