BEGIN:VCALENDAR
VERSION:2.0
PRODID:-//https://fadeu-old.urantiacos.cl///NONSGML kigkonsult.se iCalcreator 2.10.15//
METHOD:PUBLISH
BEGIN:VEVENT
UID:20260423T133401UTC-28258dm0Ur@https://fadeu-old.urantiacos.cl/
DTSTAMP:20260423T133401Z
DESCRIPTION:El Seminario en Participaci&oacute\;n Ciudadana: Claves y desaf
 &iacute\;os para una gesti&oacute\;n ambiental\, urbana y territorial inte
 grada\, se &nbsp\;dictar&aacute\; en el marco de la inauguraci&oacute\;n d
 el Diplomado en Participaci&oacute\;n Ciudadana para una gesti&oacute\;n a
 mbiental\, urbana y territorial integrada.\nCu&aacute\;ndo: 25 de agosto H
 orario: 14:30 a 18:30 hrs.Lugar: Auditorio FADEU. Campus Lo Contador.\nLa 
 clase es abierta y los cupos son limitados\, inscripciones aqu&iacute\;.EX
 PONEN\nLuis Eduardo Bresciani | Presidente Consejo Nacional de Desarrollo 
 Urbano (CNDU)Nelson Orellana | Alcalde de la comuna de Til TilEzio Costa |
  Director Ejecutivo de la ONG FIMA e Investigador del Centro de Regulaci&o
 acute\;n y Competencia (RegCom)\, Universidad de ChileJuan Crist&oacute\;b
 al Moscoso | Director Ejecutivo (s) del Servicio de Evaluaci&oacute\;n Amb
 ientalMagdalena Morel | Encargada Participaci&oacute\;n Proyecto Eje Alame
 da ProvidenciaJuan Carlos Monckeberg | Ex Jefe de Evaluaci&oacute\;n Ambie
 ntal y PAC de la Direcci&oacute\;n Ejecutiva del SEIAAndres Letelier | Dir
 ector Ejecutivo Plan Creo Antofagasta\nMODERAN\nKay Bergamini | Docente IE
 UT-UCChristian Matus | Jefe de Programa Diplomado PAC\n https://fadeu-old.
 urantiacos.cl/agenda/evento/1177-seminario-en-participacion-ciudadana-clav
 es-y-desafios-para-una-gestion-ambiental-urbana-y-territorial-integrada
DTSTART:20170825T173000Z
DTEND:20170825T213000Z
LOCATION:Auditorio FADEU\, Campus Lo Contador PUC (El Comendador 1916\, Pro
 videncia\, Providencia\, Región Metropolitana\, Chile)
SUMMARY:Seminario en Participación Ciudadana: Claves y desafíos para una ge
 stión ambiental\, urbana y territorial integrada
URL:https://fadeu-old.urantiacos.cl/agenda/evento/1177-seminario-en-partici
 pacion-ciudadana-claves-y-desafios-para-una-gestion-ambiental-urbana-y-ter
 ritorial-integrada
END:VEVENT
END:VCALENDAR
