BEGIN:VCALENDAR
VERSION:2.0
PRODID:-//https://fadeu-old.urantiacos.cl///NONSGML kigkonsult.se iCalcreator 2.10.15//
METHOD:PUBLISH
BEGIN:VEVENT
UID:20260419T203623UTC-7614U9MEWa@https://fadeu-old.urantiacos.cl/
DTSTAMP:20260419T203623Z
DESCRIPTION:\nConferencia inaugural del Mag&iacute\;ster en Arquitectura UC
  titulada &ldquo\;Window\, Frame\, Flow&rdquo\; que dictar&aacute\; Taku S
 akaushi\, arquitecto japon&eacute\;s y profesor de la Universidad de Cienc
 ias de Tokio\, con un m&aacute\;ster en arquitectura en la Universidad de 
 California\, m&aacute\;ster en ingenier&iacute\;a en el Instituto de Tecno
 log&iacute\;a de Tokio\, doctorado en ingenier&iacute\;a en la Universidad
  de Shinshu y fundador asociado del estudio OFDAarchitect.\n\n\nWindow\, F
 rame\, Flow&nbsp\;[Ventana\, marco\, flujo]&nbsp\;| Taku Sakaushi\nEn las 
 palabras del arquitecto:\n'Luego de trabajar en una oficina de arquitectur
 a grande\, inici&eacute\; mi pr&aacute\;ctica independiente. Mi tema de di
 se&ntilde\;o m&aacute\;s importante: la ventana\, porque una ventana conec
 ta a alguien con algo. Desde entonces mi concepto de 'ventana' se ha expan
 dido. Lo que hab&iacute\;a estado dise&ntilde\;ando no eran s&oacute\;lo v
 entanas\, sino algo que establece conexiones entre muchas cosas y de forma
 s muy variadas. Por eso\, m&aacute\;s que ventana\, lo llamar&iacute\;a 'm
 arco'.\nPor otro lado\, hace poco empec&eacute\; a entender 'enmarcar' des
 de un &aacute\;ngulo diferente. En vez de verlo como una forma de conexi&o
 acute\;n\, lo reinterpret&eacute\; como un marco por el que atraviesan per
 sonas\, objetos\, luz\, viento\, etc&eacute\;tera. En otras palabras\, lle
 gu&eacute\; a la conclusi&oacute\;n de que la arquitectura consiste en el 
 flujo de esas cosas y que los edificios son s&oacute\;lo una c&aacute\;sca
 ra. Son los objetos en flujo o en movimiento constante los que realmente h
 acen a la arquitectura lo que es.'\nTaku SakaushiArquitecto y profesor de 
 la Universidad de Ciencias de Tokio\, con un m&aacute\;ster en arquitectur
 a en la Universidad de California (1985)\, m&aacute\;ster en ingenier&iacu
 te\;a en el Instituto de Tecnolog&iacute\;a de Tokio (1986)\, doctorado en
  ingenier&iacute\;a en la Universidad de Shinshu (2008) y fundador asociad
 o del estudio OFDAarchitect (1998).Ha sido galardonado internacionalmente 
 por sus obras &ldquo\;Re-tem China Factory&rdquo\; (2010)\, &ldquo\;Rules 
 of Architecture&rdquo\; (Nakanishiya\, publicado en 2008)\, &ldquo\;Archit
 ecture as Frame&rdquo\; (Sankeisha\, publicado en 2010)\, &ldquo\;a space&
 mdash\;Esquisse check by Yoshiharu Tsukamoto and Taku Sakaushi &ldquo\;(Ka
 jima\, publicado en 2013)\, &ldquo\;Architecture as Frame and Reframe&rdqu
 o\; (Sankeisha\, publicado en 2016) y &ldquo\;Architectural Episteme &ndas
 h\;Making Architecture after Architecture&rdquo\; (Lixil\, publicado 2017)
 .Fecha_Lunes 26 de agosto de 2019\, 19.00 hLugar_Auditorio Fernando Castil
 lo VelascoCampus Lo ContadorEl Comendador 1936\, ProvidenciaOrganiza_Mag&i
 acute\;ster en Arquitectura UCEscuela de Arquitectura UCNoticiasContacto:&
 nbsp\;redesarq@uc.cl&nbsp\;| +56 2 2354 7747www.arquitectura.uc.cl\n\n&nbs
 p\; https://fadeu-old.urantiacos.cl/agenda/evento/1934-conferencia-inaugur
 al-marq-taku-sakaushi
DTSTART:20190826T230000Z
DTEND:20190827T000000Z
LOCATION:Auditorio Fernando Castillo Velasco. Edificio ARQ (El Comendador 1
 936\, Providencia\, Región Metropolitana\, Chile)
SUMMARY:Conferencia Inaugural MARQ | Taku Sakaushi
URL:https://fadeu-old.urantiacos.cl/agenda/evento/1934-conferencia-inaugura
 l-marq-taku-sakaushi
END:VEVENT
END:VCALENDAR
