BEGIN:VCALENDAR
VERSION:2.0
PRODID:-//https://fadeu-old.urantiacos.cl///NONSGML kigkonsult.se iCalcreator 2.10.15//
METHOD:PUBLISH
BEGIN:VEVENT
UID:20260423T111550UTC-3987iOoMpp@https://fadeu-old.urantiacos.cl/
DTSTAMP:20260423T111550Z
DESCRIPTION:El lunes 28 de agosto se realizar&aacute\; en el marco de la ce
 lebraci&oacute\;n de los 10 a&ntilde\;os del programa La Ciudad y Las Pala
 bras\, la ceremonia de premiaci&oacute\;n del concurso de cuentos para Est
 udiantes de Ense&ntilde\;anza B&aacute\;sica y Media ''John Maxwell Coetze
 e'' 2017\, en la que el mismo escritor har&aacute\; la entrega de premios.
 \nInscripciones con Loreto Villarroel lvillarr(at)uc.cl.\nFecha_Lunes 28 d
 e agosto de 2017\, 18:30 hrs.\nLugar_Auditorio FADEU\, Campus Lo Contador.
  El Comendador 1916\, Providencia\nInvitan_Doctorado en Arquitectura y Est
 udios Urbanos UC\n&nbsp\;\n https://fadeu-old.urantiacos.cl/agenda/evento/
 1201-premiacion-concurso-de-cuentos-john-maxwell-coetzee
DTSTART:20170828T213000Z
DTEND:20170828T223000Z
LOCATION:Auditorio FADEU\, Campus Lo Contador PUC (El Comendador 1916\, Pro
 videncia\, Providencia\, Región Metropolitana\, Chile)
SUMMARY:Premiación Concurso de Cuentos John Maxwell Coetzee
URL:https://fadeu-old.urantiacos.cl/agenda/evento/1201-premiacion-concurso-
 de-cuentos-john-maxwell-coetzee
END:VEVENT
BEGIN:VEVENT
UID:20260423T111550UTC-3992V4PjmK@https://fadeu-old.urantiacos.cl/
DTSTAMP:20260423T111550Z
DESCRIPTION:Dise&ntilde\;o UC\, Ellen MacArthur Foundation y TriCiclos los 
 invitan al seminario sobre Econom&iacute\;a Circular en el contexto de Eco
 dise&ntilde\;o. Expondr&aacute\; Michiel De Smet\, especialista de la Elle
 n MacArthur Foundation\, Oscar Huerta\, Dise&ntilde\;ador y Profesor Asist
 ente Dise&ntilde\;o UC\, Investigador Laboratorio de Ciclo de Vida y Gonza
 lo Mu&ntilde\;oz\, CEO corporativo TriCiclos.\nCu&aacute\;ndo_28 agostoHor
 a_ 15:00 a 17:00 horasD&oacute\;nde_ Auditorio de Arquitectura (El Comenda
 dor 1936\, Providencia)Inscripciones aqu&iacute\;. https://fadeu-old.urant
 iacos.cl/agenda/evento/1221-seminario-de-economia-circular
DTSTART:20170828T180000Z
DTEND:20170828T200000Z
LOCATION:Auditorio Arquitectura UC\, Campus Lo Contador (el comendador 1916
 \, providencia)
SUMMARY:Seminario de Economía Circular
URL:https://fadeu-old.urantiacos.cl/agenda/evento/1221-seminario-de-economi
 a-circular
END:VEVENT
BEGIN:VEVENT
UID:20260423T111550UTC-399581j6rh@https://fadeu-old.urantiacos.cl/
DTSTAMP:20260423T111550Z
DESCRIPTION:En el contexto de la implementaci&oacute\;n de la Estrategia de
  Resiliencia para la Regi&oacute\;n Metropolitana de Santiago\, los invita
 mos a participar del lanzamiento del libro &ldquo\;Santiago Humano y Resil
 iente\, una mirada desde la Academia&rdquo\;.\nDurante la jornada diversos
  acad&eacute\;micos pertenecientes a instituciones participantes de la ela
 boraci&oacute\;n del texto\, ser&aacute\;n parte de paneles de discusi&oac
 ute\;n asociados a los ejes tem&aacute\;ticos de la Estrategia de Resilien
 cia de Santiago.\n28 de agosto 2017 / 14:30 horas.Lugar: Auditorio Edifici
 o Moneda BicentenarioDirecci&oacute\;n: Teatinos #92\, Santiago.\nCupos li
 mitados. M&aacute\;s informaci&oacute\;n en santiagoresiliente-100rc@gobie
 rnosantiago.cl https://fadeu-old.urantiacos.cl/agenda/evento/1227-lanzamie
 nto-santiago-humano-y-resiliente-una-mirada-desde-la-academia
DTSTART:20170828T173000Z
DTEND:20170828T183000Z
LOCATION:Auditorio Edificio Moneda Bicentenario (Teatinos 92\, Santiago\, R
 egión Metropolitana\, Chile)
SUMMARY:Lanzamiento 'Santiago Humano y Resiliente\, una mirada desde la aca
 demia'
URL:https://fadeu-old.urantiacos.cl/agenda/evento/1227-lanzamiento-santiago
 -humano-y-resiliente-una-mirada-desde-la-academia
END:VEVENT
BEGIN:VEVENT
UID:20260423T111550UTC-3999AFi4R6@https://fadeu-old.urantiacos.cl/
DTSTAMP:20260423T111550Z
DESCRIPTION:Jefa de programa:Katherine Yates\nEl vertiginoso desarrollo de 
 las ciudades hace cada vez m&aacute\;s complejo el proceso de valorizaci&o
 acute\;n de bienes y proyectos inmobiliarios dado que intervienen en ellos
  m&uacute\;ltiples variables asociadas a los procesos urbanos y econ&oacut
 e\;micos\, como lo son la incorporaci&oacute\;n de nuevas &aacute\;reas de
  expansi&oacute\;n\, cambios normativos\, tendencias en la demanda\, fluct
 uaciones del ciclo econ&oacute\;mico nacional\, entre otras. Por tanto\, s
 e requieren profesionales con un amplio criterio\, capaces de enfrentar e 
 identificar estas variables para llevarlas a efectos de mercado con la cap
 acidad de emitir juicios fundamentados en informaciones diversas y destrez
 a t&eacute\;cnica.Es por esto que nace la necesidad de un profesional inte
 resado en explorar en este campo que adquiera el manejo de un conjunto de 
 conocimientos\, no s&oacute\;lo t&eacute\;cnicos sino adem&aacute\;s de la
  actualidad contingente del sector y su cultura espec&iacute\;fica\, que l
 e permitan ser capaz de emitir juicios fundamentados y opiniones con crite
 rio a la hora de valorar un bien.\nM&aacute\;s informaci&oacute\;n aqu&iac
 ute\;.\n&nbsp\;\n https://fadeu-old.urantiacos.cl/agenda/evento/1185-diplo
 mado-tasacion-inmobiliaria
DTSTART:20170828T030000Z
LOCATION:Campus Lo Contador (El Comendador 1916\, Providencia\, Providencia
 \, Región Metropolitana\, Chile)
SUMMARY:Diplomado Tasación Inmobiliaria
URL:https://fadeu-old.urantiacos.cl/agenda/evento/1185-diplomado-tasacion-i
 nmobiliaria
END:VEVENT
BEGIN:VEVENT
UID:20260423T111550UTC-400436W4WU@https://fadeu-old.urantiacos.cl/
DTSTAMP:20260423T111550Z
DESCRIPTION:Workshop: Archipi&eacute\;lago InvisibleProfesor invitado: Rena
 to Rizzi\, professore associato IUAV VeneziaProfesores Arq UC: Emilio De l
 a Cerda\, Alejandra Bosch y Catalina PiconConvalidable como curso OPR de 5
  cr&eacute\;ditos &ndash\; Estudiantes Arquitectura UC\nEl workshop trabaj
 ar&aacute\; sobre los Cerros Isla de la Regi&oacute\;n Metropolitana a tra
 v&eacute\;s de la metodolog&iacute\;a de representaci&oacute\;n en maqueta
 s de yeso desarrollado por el profesor Renato Rizzi. El workshop\, asociad
 o al Taller de Especialidad del Magister en Arquitectura del Paisaje\, des
 arrollar&aacute\; proyectos particulares para los distintos cerros (proyec
 tos no necesariamente relacionados a intervenciones del paisaje).\nFecha y
  lugar_Lunes 28 de agosto al viernes 15 de septiembre de 2017.Reuniones di
 arias de tiempo completo y medio d&iacute\;a (seg&uacute\;n posibilidades 
 de cada estudiante) en Casa del Magister.\nEstudiantes UC pre y postgrado:
  postulaciones en este link hasta las 8.00 am del viernes 28 de julio. Cup
 os disponibles. Los resultados se enviar&aacute\;n por correo a las 13.00 
 hrs del mismo d&iacute\;a.\nConvalidaci&oacute\;n: Curso OPR de 5 cr&eacut
 e\;ditos\nLas clases y correcciones ser&aacute\;n en ingl&eacute\;s.\nSe e
 ntregar&aacute\; un certificado de asistencia a Estudiantes Arquitectura U
 C y participantes externos.\n https://fadeu-old.urantiacos.cl/agenda/event
 o/1197-workshop-archipielago-invisible
DTSTART:20170828T030000Z
LOCATION:Escuela de Arquitectura\, Campus Lo Contador (El Comendador 1916\,
  Providencia\, Providencia\, Región Metropolitana\, Chile)
SUMMARY:Workshop: Archipiélago Invisible
URL:https://fadeu-old.urantiacos.cl/agenda/evento/1197-workshop-archipielag
 o-invisible
END:VEVENT
END:VCALENDAR
